{"text_format":"1","workbook":"xlsx","n_sheets":4,"sheets":["Correlsim","Scatterplot","samples","Sheet4"],"not_rendered":{"charts":2,"images":3,"macros":1,"external_links":0,"defined_names":10,"comments":2,"pivot_tables":0},"unopened":[],"bounds":{"document_bytes":16777216,"sheet_cells":100000,"rows_first":2000,"rows_last":500,"rows_between":2000,"halvings":0,"cell_chars":16384,"cell_head_chars":4096},"cells_cut":0,"cells_raw":0,"read":"whole","date_system":"1900"}

{"sheet":"Correlsim","index":0,"n_rows":202,"n_cols":25,"rows_kept":202,"cut":false,"hidden":false,"merged":[]}
["Distribution of the Correlation Coefficient",null,null,null,null,null,null,null,null,null,null,null,null,null,null,null,null,null,null,"x's",-1,11,null,null,"Frequency"]
[null,null,null,null,null,null,null,null,null,null,null,null,null,null,null,null,null,null,null,"y's",{"$f":"1.5003*U1-0.5874","v":-2.0876999999999999},{"$f":"1.5003*V1-0.5874","v":15.915899999999999},null,null,{"$f":"COUNTIF(samples!IV2:IV251,\"<0.5\")","v":0}]
[null," This program simulates the distribution of",null,null,null,null,null,null,null,null,null,null,null,null,null,null,null,null,null,null,-1,11,null,null,{"$f":"COUNTIF(samples!IV2:IV251,\"<.70\")-Y2","v":0}]
[null,"the correlation coefficient based on repeated ",null,null,null,null,null,null,null,null,null,null,null,null,null,null,null,null,null,null,{"$f":"U2-4.69","v":-6.7777000000000003},{"$f":"V2-4.69","v":11.225899999999999},null,null,{"$f":"COUNTIF(samples!IV2:IV251,\"<.72\")-SUM(Y$2:Y3)","v":0}]
[null,"   random samples drawn from a population ",null,null,null,null,null,null,null,null,null,null,null,null,null,null,null,null,null,null,-1,11,null,null,{"$f":"COUNTIF(samples!IV$2:IV$251,\"<.74\")-SUM(Y$2:Y4)","v":0}]
[null,null,null,null,null,null,null,null,null,null,null,null,null,null,null,null,null,null,null,null,{"$f":"U2+4.69","v":2.6023000000000005},{"$f":"V2+4.69","v":20.605899999999998},null,null,{"$f":"COUNTIF(samples!IV$2:IV$251,\"<.76\")-SUM(Y$2:Y5)","v":0}]
[null,null,null,null,null,null,null,null,null,null,null,null,null,null,null,null,null,null,null,null,null,null,null,null,{"$f":"COUNTIF(samples!IV$2:IV$251,\"<.78\")-SUM(Y$2:Y6)","v":0}]
["How many random points n (3-50)?",null,null,17,10,null,null,null,null,null,null,null,null,null,null,null,null,null,null,null,null,null,null,null,{"$f":"COUNTIF(samples!IV$2:IV$251,\"<.80\")-SUM(Y$2:Y7)","v":1}]
[null,null,null,null,null,null,null,null,null,null,null,null,null,null,null,null,null,null,null,null,null,null,null,null,{"$f":"COUNTIF(samples!IV$2:IV$251,\"<.82\")-SUM(Y$2:Y8)","v":1}]
["How many samples (50-250)?",null,null,136,null,null,null,null,null,null,null,null,null,null,null,null,null,null,null,null,null,null,null,null,{"$f":"COUNTIF(samples!IV$2:IV$251,\"<.84\")-SUM(Y$2:Y9)","v":3}]
[null,null,null,null,null,null,null,null,null,null,null,null,null,null,null,null,null,null,null,null,null,null,null,null,{"$f":"COUNTIF(samples!IV$2:IV$251,\"<.86\")-SUM(Y$2:Y10)","v":6}]
["The underlying bivariate population ",null,null,null,null,null,null,null,null,null,null,null,null,null,null,null,null,null,null,null,null,null,null,null,{"$f":"COUNTIF(samples!IV$2:IV$251,\"<.88\")-SUM(Y$2:Y11)","v":7}]
[null,"  has a correlation coefficient of  r =",null,null,0.92600000000000005,null,null,null,null,null,null,null,null,null,null,null,null,null,null,null,null,null,null,null,{"$f":"COUNTIF(samples!IV$2:IV$251,\"<.90\")-SUM(Y$2:Y12)","v":11}]
[null,null,null,null,null,null,null,null,null,null,null,null,null,null,null,null,null,null,null,null,null,null,null,null,{"$f":"COUNTIF(samples!IV$2:IV$251,\"<.92\")-SUM(Y$2:Y13)","v":25}]
[null,null,null,null,null,null,null,null,null,null,null,null,null,null,null,null,null,null,null,null,null,null,null,null,{"$f":"COUNTIF(samples!IV$2:IV$251,\"<.94\")-SUM(Y$2:Y14)","v":30}]
[{"$f":"\"For the \"&TEXT(flips,\"0\")&\" sample correlation coefficients based on n = \"&TEXT(D8,\"0\")&\" random points\"","v":"For the 136 sample correlation coefficients based on n = 17 random points"},null,null,null,null,null,null,null,null,null,null,null,null,null,null,null,null,null,null,null,null,null,null,null,{"$f":"COUNTIF(samples!IV$2:IV$251,\"<.96\")-SUM(Y$2:Y15)","v":31}]
[{"$f":"\"     The mean of the correlation coefficients =\"","v":"     The mean of the correlation coefficients ="},null,null,null,null,{"$f":"SUM(samples!IV2:IV251)/flips","v":0.92298361972833187},null,null,null,null,null,null,null,null,null,null,null,null,null,null,null,null,null,null,{"$f":"COUNTIF(samples!IV$2:IV$251,\"<.98\")-SUM(Y$2:Y16)","v":20}]
["     with a corresponding standard deviation =",null,null,null,null,{"$f":"STDEV(samples!$IV2:$IV251)","v":3.7224662117596632E-2},null,null,null,null,null,null,null,null,null,null,null,null,null,null,null,null,null,null,{"$f":"COUNTIF(samples!IV$2:IV$251,\"<=1\")-SUM(Y$2:Y17)","v":1}]
[]
[]
[null,null,null,1]
[]
[]
["Click each item below for suggestions and investigations"]
[null,null,"   Item 1"]
[null,null,"   Item 2"]
[null,null,"   Item 3"]
[null,null,"   Item 4"]
[null,null,"   Item 5"]
[null,null,"   Item 6"]
[]
[]
[]
["Created by:  Sheldon P. Gordon   &   Florence S. Gordon"]
["                  Farmingdale StateCollege      NYIT"]
["Development of this module was supported by the "]
["NSF's Division of Undergraduate Education  "]
["under grants DUE-0310123 and DUE-0442160."]
[]
[]
[]
[]
[]
[]
[]
[]
[]
[]
[]
[]
[]
[]
[]
[]
[]
[]
[]
[]
[]
[]
[]
[]
[]
[]
[]
[]
[]
[]
[]
[]
[]
[]
[]
[]
[]
[]
[]
[]
[]
[]
[]
[]
[]
[]
[]
[]
[]
[]
[]
[]
[]
[]
[]
[]
[]
[]
[]
[]
[]
[]
[]
[]
[]
[]
[]
[]
[]
[]
[]
[]
[]
[]
[]
[]
[]
[]
[]
[]
[]
[]
[]
[]
[]
[]
[]
[]
[]
[]
[]
[]
[]
[]
[]
[]
[]
[]
[]
[]
[]
[]
[]
[]
[]
[]
[]
[]
[]
[]
[]
[]
[]
[]
[]
[]
[]
[]
[]
[]
[]
[]
[]
[]
[]
[]
[]
[]
[]
[]
[]
[]
[]
[]
[]
[]
[]
[]
[]
[]
[]
[]
[]
[]
[]
[]
[]
[]
[]
[]
[]
[]
[]
[]
[]
[]
[]
[]
[]
[]
[]
[]
[null,null,null,null,null,null,null,null,null,null,null,null,null,null,null,null,null,null,null,null,{"$f":"F17","v":0.92298361972833187},{"$f":"F17","v":0.92298361972833187}]
[null,null,null,null,null,null,null,null,null,null,null,null,null,null,null,null,null,null,null,null,0,1]

{"sheet":"Scatterplot","index":1,"n_rows":36,"n_cols":2,"rows_kept":36,"cut":false,"hidden":false,"merged":[]}
["The Scatterplot of the Underlying Bivariate Population"]
[]
[]
[]
[]
[]
[]
[]
[]
[]
[]
[]
[]
[]
[]
[]
[]
[]
[]
[]
[]
[]
[]
[]
[]
[]
[]
[]
[]
[]
[]
["Click each item below for suggestions and investigations"]
[null,"   Item 1"]
[null,"   Item 2"]
[null,"   Item 3"]
[null,"   Item 4"]

{"sheet":"samples","index":2,"n_rows":503,"n_cols":256,"rows_kept":503,"cut":false,"hidden":false,"merged":[]}
[null,"x-y data",null,"sample",1,null,"sample",2,null,"sample",3,null,"sample",4,null,"sample",{"$f":"N1+1","v":5},null,"sample",{"$f":"Q1+1","v":6},null,"sample",{"$f":"T1+1","v":7},null,"sample",{"$f":"W1+1","v":8},null,"sample",{"$f":"Z1+1","v":9},null,"sample",{"$f":"AC1+1","v":10},null,"sample",{"$f":"AF1+1","v":11},null,"sample",{"$f":"AI1+1","v":12},null,"sample",{"$f":"AL1+1","v":13},null,"sample",{"$f":"AO1+1","v":14},null,"sample",{"$f":"AR1+1","v":15},null,"sample",{"$f":"AU1+1","v":16},null,"sample",{"$f":"AX1+1","v":17},null,"sample",{"$f":"BA1+1","v":18},null,"sample",{"$f":"BD1+1","v":19},null,"sample",{"$f":"BG1+1","v":20},null,"sample",{"$f":"BJ1+1","v":21},null,"sample",{"$f":"BM1+1","v":22},null,"sample",{"$f":"BP1+1","v":23},null,"sample",{"$f":"BS1+1","v":24},null,"sample",{"$f":"BV1+1","v":25},null,"sample",{"$f":"BY1+1","v":26},null,"sample",{"$f":"CB1+1","v":27},null,"sample",{"$f":"CE1+1","v":28},null,"sample",{"$f":"CH1+1","v":29},null,"sample",{"$f":"CK1+1","v":30},null,"sample",{"$f":"CN1+1","v":31},null,"sample",{"$f":"CQ1+1","v":32},null,"sample",{"$f":"CT1+1","v":33},null,"sample",{"$f":"CW1+1","v":34},null,"sample",{"$f":"CZ1+1","v":35},null,"sample",{"$f":"DC1+1","v":36},null,"sample",{"$f":"DF1+1","v":37},null,"sample",{"$f":"DI1+1","v":38},null,"sample",{"$f":"DL1+1","v":39},null,"sample",{"$f":"DO1+1","v":40},null,"sample",{"$f":"DR1+1","v":41},null,"sample",{"$f":"DU1+1","v":42},null,"sample",{"$f":"DX1+1","v":43},null,"sample",{"$f":"EA1+1","v":44},null,"sample",{"$f":"ED1+1","v":45},null,"sample",{"$f":"EG1+1","v":46},null,"sample",{"$f":"EJ1+1","v":47},null,"sample",{"$f":"EM1+1","v":48},null,"sample",{"$f":"EP1+1","v":49},null,"sample",{"$f":"ES1+1","v":50},null,"sample",{"$f":"EV1+1","v":51},null,"sample",{"$f":"EY1+1","v":52},null,"sample",{"$f":"FB1+1","v":53},null,"sample",{"$f":"FE1+1","v":54},null,"sample",{"$f":"FH1+1","v":55},null,"sample",{"$f":"FK1+1","v":56},null,"sample",{"$f":"FN1+1","v":57},null,"sample",{"$f":"FQ1+1","v":58},null,"sample",{"$f":"FT1+1","v":59},null,"sample",{"$f":"FW1+1","v":60},null,"sample",{"$f":"FZ1+1","v":61},null,"sample",{"$f":"GC1+1","v":62},null,"sample",{"$f":"GF1+1","v":63},null,"sample",{"$f":"GI1+1","v":64},null,"sample",{"$f":"GL1+1","v":65},null,"sample",{"$f":"GO1+1","v":66},null,"sample",{"$f":"GR1+1","v":67},null,"sample",{"$f":"GU1+1","v":68},null,"sample",{"$f":"GX1+1","v":69},null,"sample",{"$f":"HA1+1","v":70},null,"sample",{"$f":"HD1+1","v":71},null,"sample",{"$f":"HG1+1","v":72},null,"sample",{"$f":"HJ1+1","v":73},null,"sample",{"$f":"HM1+1","v":74},null,"sample",{"$f":"HP1+1","v":75},null,"sample",{"$f":"HS1+1","v":76},null,"sample",{"$f":"HV1+1","v":77},null,"sample",{"$f":"HY1+1","v":78},null,"sample",{"$f":"IB1+1","v":79},null,"sample",{"$f":"IE1+1","v":80},null,"sample",{"$f":"IH1+1","v":81},null,"sample",{"$f":"IK1+1","v":82},null,"sample",{"$f":"IN1+1","v":83},null,"sample",{"$f":"IQ1+1","v":84},null,"cc's"]
[1,9.0921419300000004,9.2260561499999998,{"$f":"IF($A2<=n,INT(501*RAND()+1),\"\")","v":458},{"$f":"IF(D2<>\"\",INDEX($B$2:$B$502,D2),\"\")","v":1.3578284498681548},{"$f":"IF(D2<>\"\",INDEX($C$2:$C$502,D2),\"\")","v":2.5379222086592796},{"$f":"IF($A2<=n,INT(501*RAND()+1),\"\")","v":439},{"$f":"IF(G2<>\"\",INDEX($B$2:$B$502,G2),\"\")","v":3.9366875209881425},{"$f":"IF(G2<>\"\",INDEX($C$2:$C$502,G2),\"\")","v":4.3564057071213753},{"$f":"IF($A2<=n,INT(501*RAND()+1),\"\")","v":369},{"$f":"IF(J2<>\"\",INDEX($B$2:$B$502,J2),\"\")","v":6.9658494743887545},{"$f":"IF(J2<>\"\",INDEX($C$2:$C$502,J2),\"\")","v":9.4982959108348108},{"$f":"IF($A2<=n,INT(501*RAND()+1),\"\")","v":46},{"$f":"IF(M2<>\"\",INDEX($B$2:$B$502,M2),\"\")","v":6.9409220200000004},{"$f":"IF(M2<>\"\",INDEX($C$2:$C$502,M2),\"\")","v":6.7436555499999997},{"$f":"IF($A2<=n,INT(501*RAND()+1),\"\")","v":345},{"$f":"IF(P2<>\"\",INDEX($B$2:$B$502,P2),\"\")","v":7.1072252119212909},{"$f":"IF(P2<>\"\",INDEX($C$2:$C$502,P2),\"\")","v":9.7334006368689181},{"$f":"IF($A2<=n,INT(501*RAND()+1),\"\")","v":467},{"$f":"IF(S2<>\"\",INDEX($B$2:$B$502,S2),\"\")","v":3.8746898569702637},{"$f":"IF(S2<>\"\",INDEX($C$2:$C$502,S2),\"\")","v":5.1374500008896238},{"$f":"IF($A2<=n,INT(501*RAND()+1),\"\")","v":421},{"$f":"IF(V2<>\"\",INDEX($B$2:$B$502,V2),\"\")","v":0.54660265947950926},{"$f":"IF(V2<>\"\",INDEX($C$2:$C$502,V2),\"\")","v":-0.18653225912045091},{"$f":"IF($A2<=n,INT(501*RAND()+1),\"\")","v":280},{"$f":"IF(Y2<>\"\",INDEX($B$2:$B$502,Y2),\"\")","v":4.6960122517294334},{"$f":"IF(Y2<>\"\",INDEX($C$2:$C$502,Y2),\"\")","v":6.3431212890244},{"$f":"IF($A2<=n,INT(501*RAND()+1),\"\")","v":176},{"$f":"IF(AB2<>\"\",INDEX($B$2:$B$502,AB2),\"\")","v":3.50680669059515},{"$f":"IF(AB2<>\"\",INDEX($C$2:$C$502,AB2),\"\")","v":4.9167801990209981},{"$f":"IF($A2<=n,INT(501*RAND()+1),\"\")","v":364},{"$f":"IF(AE2<>\"\",INDEX($B$2:$B$502,AE2),\"\")","v":2.674927641791407},{"$f":"IF(AE2<>\"\",INDEX($C$2:$C$502,AE2),\"\")","v":4.8361072334281729},{"$f":"IF($A2<=n,INT(501*RAND()+1),\"\")","v":344},{"$f":"IF(AH2<>\"\",INDEX($B$2:$B$502,AH2),\"\")","v":1.5135708129106806},{"$f":"IF(AH2<>\"\",INDEX($C$2:$C$502,AH2),\"\")","v":4.6587681243049923},{"$f":"IF($A2<=n,INT(501*RAND()+1),\"\")","v":182},{"$f":"IF(AK2<>\"\",INDEX($B$2:$B$502,AK2),\"\")","v":1.3086412443964068},{"$f":"IF(AK2<>\"\",INDEX($C$2:$C$502,AK2),\"\")","v":3.6081103627702},{"$f":"IF($A2<=n,INT(501*RAND()+1),\"\")","v":145},{"$f":"IF(AN2<>\"\",INDEX($B$2:$B$502,AN2),\"\")","v":0.8525446832435013},{"$f":"IF(AN2<>\"\",INDEX($C$2:$C$502,AN2),\"\")","v":2.9996479371763423},{"$f":"IF($A2<=n,INT(501*RAND()+1),\"\")","v":68},{"$f":"IF(AQ2<>\"\",INDEX($B$2:$B$502,AQ2),\"\")","v":4.59207945},{"$f":"IF(AQ2<>\"\",INDEX($C$2:$C$502,AQ2),\"\")","v":2.4343364599999999},{"$f":"IF($A2<=n,INT(501*RAND()+1),\"\")","v":167},{"$f":"IF(AT2<>\"\",INDEX($B$2:$B$502,AT2),\"\")","v":5.6949934178282025},{"$f":"IF(AT2<>\"\",INDEX($C$2:$C$502,AT2),\"\")","v":7.5872591807906486},{"$f":"IF($A2<=n,INT(501*RAND()+1),\"\")","v":418},{"$f":"IF(AW2<>\"\",INDEX($B$2:$B$502,AW2),\"\")","v":9.6101716773658019},{"$f":"IF(AW2<>\"\",INDEX($C$2:$C$502,AW2),\"\")","v":14.488520415201176},{"$f":"IF($A2<=n,INT(501*RAND()+1),\"\")","v":450},{"$f":"IF(AZ2<>\"\",INDEX($B$2:$B$502,AZ2),\"\")","v":2.4393816677299007},{"$f":"IF(AZ2<>\"\",INDEX($C$2:$C$502,AZ2),\"\")","v":2.6588761359742747},{"$f":"IF($A2<=n,INT(501*RAND()+1),\"\")","v":272},{"$f":"IF(BC2<>\"\",INDEX($B$2:$B$502,BC2),\"\")","v":2.9001792757518441},{"$f":"IF(BC2<>\"\",INDEX($C$2:$C$502,BC2),\"\")","v":3.3810563193857082},{"$f":"IF($A2<=n,INT(501*RAND()+1),\"\")","v":79},{"$f":"IF(BF2<>\"\",INDEX($B$2:$B$502,BF2),\"\")","v":1.39826337},{"$f":"IF(BF2<>\"\",INDEX($C$2:$C$502,BF2),\"\")","v":1.12138749},{"$f":"IF($A2<=n,INT(501*RAND()+1),\"\")","v":405},{"$f":"IF(BI2<>\"\",INDEX($B$2:$B$502,BI2),\"\")","v":6.3082639571029953},{"$f":"IF(BI2<>\"\",INDEX($C$2:$C$502,BI2),\"\")","v":8.4171265027942468},{"$f":"IF($A2<=n,INT(501*RAND()+1),\"\")","v":420},{"$f":"IF(BL2<>\"\",INDEX($B$2:$B$502,BL2),\"\")","v":6.569000716891928},{"$f":"IF(BL2<>\"\",INDEX($C$2:$C$502,BL2),\"\")","v":8.1677036913542587},{"$f":"IF($A2<=n,INT(501*RAND()+1),\"\")","v":452},{"$f":"IF(BO2<>\"\",INDEX($B$2:$B$502,BO2),\"\")","v":6.6479377130863604},{"$f":"IF(BO2<>\"\",INDEX($C$2:$C$502,BO2),\"\")","v":10.67406086654605},{"$f":"IF($A2<=n,INT(501*RAND()+1),\"\")","v":110},{"$f":"IF(BR2<>\"\",INDEX($B$2:$B$502,BR2),\"\")","v":2.5899652593558353},{"$f":"IF(BR2<>\"\",INDEX($C$2:$C$502,BR2),\"\")","v":2.9413220452259869},{"$f":"IF($A2<=n,INT(501*RAND()+1),\"\")","v":491},{"$f":"IF(BU2<>\"\",INDEX($B$2:$B$502,BU2),\"\")","v":5.4002680752708176},{"$f":"IF(BU2<>\"\",INDEX($C$2:$C$502,BU2),\"\")","v":9.3292209099241745},{"$f":"IF($A2<=n,INT(501*RAND()+1),\"\")","v":283},{"$f":"IF(BX2<>\"\",INDEX($B$2:$B$502,BX2),\"\")","v":6.1842725200147726},{"$f":"IF(BX2<>\"\",INDEX($C$2:$C$502,BX2),\"\")","v":7.808466476660179},{"$f":"IF($A2<=n,INT(501*RAND()+1),\"\")","v":483},{"$f":"IF(CA2<>\"\",INDEX($B$2:$B$502,CA2),\"\")","v":9.7387030796730585},{"$f":"IF(CA2<>\"\",INDEX($C$2:$C$502,CA2),\"\")","v":13.476781084329959},{"$f":"IF($A2<=n,INT(501*RAND()+1),\"\")","v":109},{"$f":"IF(CD2<>\"\",INDEX($B$2:$B$502,CD2),\"\")","v":4.2473853747116674},{"$f":"IF(CD2<>\"\",INDEX($C$2:$C$502,CD2),\"\")","v":5.5314138092696616},{"$f":"IF($A2<=n,INT(501*RAND()+1),\"\")","v":210},{"$f":"IF(CG2<>\"\",INDEX($B$2:$B$502,CG2),\"\")","v":9.4908536981671787},{"$f":"IF(CG2<>\"\",INDEX($C$2:$C$502,CG2),\"\")","v":13.202516086178253},{"$f":"IF($A2<=n,INT(501*RAND()+1),\"\")","v":427},{"$f":"IF(CJ2<>\"\",INDEX($B$2:$B$502,CJ2),\"\")","v":6.9885348759584236},{"$f":"IF(CJ2<>\"\",INDEX($C$2:$C$502,CJ2),\"\")","v":9.3455077581845476},{"$f":"IF($A2<=n,INT(501*RAND()+1),\"\")","v":16},{"$f":"IF(CM2<>\"\",INDEX($B$2:$B$502,CM2),\"\")","v":1.20622191},{"$f":"IF(CM2<>\"\",INDEX($C$2:$C$502,CM2),\"\")","v":-1.56819643},{"$f":"IF($A2<=n,INT(501*RAND()+1),\"\")","v":247},{"$f":"IF(CP2<>\"\",INDEX($B$2:$B$502,CP2),\"\")","v":3.9683628429778928},{"$f":"IF(CP2<>\"\",INDEX($C$2:$C$502,CP2),\"\")","v":4.5622538904374883},{"$f":"IF($A2<=n,INT(501*RAND()+1),\"\")","v":110},{"$f":"IF(CS2<>\"\",INDEX($B$2:$B$502,CS2),\"\")","v":2.5899652593558353},{"$f":"IF(CS2<>\"\",INDEX($C$2:$C$502,CS2),\"\")","v":2.9413220452259869},{"$f":"IF($A2<=n,INT(501*RAND()+1),\"\")","v":10},{"$f":"IF(CV2<>\"\",INDEX($B$2:$B$502,CV2),\"\")","v":4.3081281100000002},{"$f":"IF(CV2<>\"\",INDEX($C$2:$C$502,CV2),\"\")","v":4.9679645800000003},{"$f":"IF($A2<=n,INT(501*RAND()+1),\"\")","v":8},{"$f":"IF(CY2<>\"\",INDEX($B$2:$B$502,CY2),\"\")","v":2.1716921},{"$f":"IF(CY2<>\"\",INDEX($C$2:$C$502,CY2),\"\")","v":4.0845028299999999},{"$f":"IF($A2<=n,INT(501*RAND()+1),\"\")","v":44},{"$f":"IF(DB2<>\"\",INDEX($B$2:$B$502,DB2),\"\")","v":2.5187078600000001},{"$f":"IF(DB2<>\"\",INDEX($C$2:$C$502,DB2),\"\")","v":3.9538099999999998},{"$f":"IF($A2<=n,INT(501*RAND()+1),\"\")","v":479},{"$f":"IF(DE2<>\"\",INDEX($B$2:$B$502,DE2),\"\")","v":8.462811050415155},{"$f":"IF(DE2<>\"\",INDEX($C$2:$C$502,DE2),\"\")","v":9.6409875244599998},{"$f":"IF($A2<=n,INT(501*RAND()+1),\"\")","v":453},{"$f":"IF(DH2<>\"\",INDEX($B$2:$B$502,DH2),\"\")","v":0.33555610413936954},{"$f":"IF(DH2<>\"\",INDEX($C$2:$C$502,DH2),\"\")","v":-0.45375309177224987},{"$f":"IF($A2<=n,INT(501*RAND()+1),\"\")","v":186},{"$f":"IF(DK2<>\"\",INDEX($B$2:$B$502,DK2),\"\")","v":8.0057885833686253},{"$f":"IF(DK2<>\"\",INDEX($C$2:$C$502,DK2),\"\")","v":10.376369834430827},{"$f":"IF($A2<=n,INT(501*RAND()+1),\"\")","v":489},{"$f":"IF(DN2<>\"\",INDEX($B$2:$B$502,DN2),\"\")","v":2.3562173660461116},{"$f":"IF(DN2<>\"\",INDEX($C$2:$C$502,DN2),\"\")","v":3.3868039256993798},{"$f":"IF($A2<=n,INT(501*RAND()+1),\"\")","v":38},{"$f":"IF(DQ2<>\"\",INDEX($B$2:$B$502,DQ2),\"\")","v":5.1867310800000004},{"$f":"IF(DQ2<>\"\",INDEX($C$2:$C$502,DQ2),\"\")","v":5.8437575900000001},{"$f":"IF($A2<=n,INT(501*RAND()+1),\"\")","v":440},{"$f":"IF(DT2<>\"\",INDEX($B$2:$B$502,DT2),\"\")","v":9.9083344028830922},{"$f":"IF(DT2<>\"\",INDEX($C$2:$C$502,DT2),\"\")","v":14.030196260761389},{"$f":"IF($A2<=n,INT(501*RAND()+1),\"\")","v":453},{"$f":"IF(DW2<>\"\",INDEX($B$2:$B$502,DW2),\"\")","v":0.33555610413936954},{"$f":"IF(DW2<>\"\",INDEX($C$2:$C$502,DW2),\"\")","v":-0.45375309177224987},{"$f":"IF($A2<=n,INT(501*RAND()+1),\"\")","v":108},{"$f":"IF(DZ2<>\"\",INDEX($B$2:$B$502,DZ2),\"\")","v":6.0027236613643931},{"$f":"IF(DZ2<>\"\",INDEX($C$2:$C$502,DZ2),\"\")","v":7.8726365751424154},{"$f":"IF($A2<=n,INT(501*RAND()+1),\"\")","v":3},{"$f":"IF(EC2<>\"\",INDEX($B$2:$B$502,EC2),\"\")","v":7.9678431400000003},{"$f":"IF(EC2<>\"\",INDEX($C$2:$C$502,EC2),\"\")","v":7.8402365899999999},{"$f":"IF($A2<=n,INT(501*RAND()+1),\"\")","v":270},{"$f":"IF(EF2<>\"\",INDEX($B$2:$B$502,EF2),\"\")","v":4.8924771983786464},{"$f":"IF(EF2<>\"\",INDEX($C$2:$C$502,EF2),\"\")","v":9.4491420220653204},{"$f":"IF($A2<=n,INT(501*RAND()+1),\"\")","v":338},{"$f":"IF(EI2<>\"\",INDEX($B$2:$B$502,EI2),\"\")","v":6.1399117043838665},{"$f":"IF(EI2<>\"\",INDEX($C$2:$C$502,EI2),\"\")","v":8.2210826242295774},{"$f":"IF($A2<=n,INT(501*RAND()+1),\"\")","v":84},{"$f":"IF(EL2<>\"\",INDEX($B$2:$B$502,EL2),\"\")","v":8.6145668200000003},{"$f":"IF(EL2<>\"\",INDEX($C$2:$C$502,EL2),\"\")","v":11.9266656},{"$f":"IF($A2<=n,INT(501*RAND()+1),\"\")","v":381},{"$f":"IF(EO2<>\"\",INDEX($B$2:$B$502,EO2),\"\")","v":9.1319343172330729},{"$f":"IF(EO2<>\"\",INDEX($C$2:$C$502,EO2),\"\")","v":12.552913191434319},{"$f":"IF($A2<=n,INT(501*RAND()+1),\"\")","v":297},{"$f":"IF(ER2<>\"\",INDEX($B$2:$B$502,ER2),\"\")","v":4.8105841760667722},{"$f":"IF(ER2<>\"\",INDEX($C$2:$C$502,ER2),\"\")","v":5.724291400066047},{"$f":"IF($A2<=n,INT(501*RAND()+1),\"\")","v":18},{"$f":"IF(EU2<>\"\",INDEX($B$2:$B$502,EU2),\"\")","v":6.2052832000000002},{"$f":"IF(EU2<>\"\",INDEX($C$2:$C$502,EU2),\"\")","v":8.9630255999999999},{"$f":"IF(AND($A2<=n,EY$1<=flips),INT(501*RAND()+1),\"\")","v":40},{"$f":"IF(EX2<>\"\",INDEX($B$2:$B$502,EX2),\"\")","v":8.0786452499999992},{"$f":"IF(EX2<>\"\",INDEX($C$2:$C$502,EX2),\"\")","v":8.0379548700000001},{"$f":"IF(AND($A2<=n,FB$1<=flips),INT(501*RAND()+1),\"\")","v":218},{"$f":"IF(FA2<>\"\",INDEX($B$2:$B$502,FA2),\"\")","v":9.1766607303114167},{"$f":"IF(FA2<>\"\",INDEX($C$2:$C$502,FA2),\"\")","v":13.3242806178202},{"$f":"IF(AND($A2<=n,FE$1<=flips),INT(501*RAND()+1),\"\")","v":403},{"$f":"IF(FD2<>\"\",INDEX($B$2:$B$502,FD2),\"\")","v":6.1267959922547099},{"$f":"IF(FD2<>\"\",INDEX($C$2:$C$502,FD2),\"\")","v":11.912147368145201},{"$f":"IF(AND($A2<=n,FH$1<=flips),INT(501*RAND()+1),\"\")","v":249},{"$f":"IF(FG2<>\"\",INDEX($B$2:$B$502,FG2),\"\")","v":9.8019176403557751},{"$f":"IF(FG2<>\"\",INDEX($C$2:$C$502,FG2),\"\")","v":16.65592597297271},{"$f":"IF(AND($A2<=n,FK$1<=flips),INT(501*RAND()+1),\"\")","v":110},{"$f":"IF(FJ2<>\"\",INDEX($B$2:$B$502,FJ2),\"\")","v":2.5899652593558353},{"$f":"IF(FJ2<>\"\",INDEX($C$2:$C$502,FJ2),\"\")","v":2.9413220452259869},{"$f":"IF(AND($A2<=n,FN$1<=flips),INT(501*RAND()+1),\"\")","v":487},{"$f":"IF(FM2<>\"\",INDEX($B$2:$B$502,FM2),\"\")","v":6.0398490469143589},{"$f":"IF(FM2<>\"\",INDEX($C$2:$C$502,FM2),\"\")","v":8.00193117490468},{"$f":"IF(AND($A2<=n,FQ$1<=flips),INT(501*RAND()+1),\"\")","v":260},{"$f":"IF(FP2<>\"\",INDEX($B$2:$B$502,FP2),\"\")","v":0.7940843459245972},{"$f":"IF(FP2<>\"\",INDEX($C$2:$C$502,FP2),\"\")","v":0.11729142010121001},{"$f":"IF(AND($A2<=n,FT$1<=flips),INT(501*RAND()+1),\"\")","v":134},{"$f":"IF(FS2<>\"\",INDEX($B$2:$B$502,FS2),\"\")","v":9.1500914337672956},{"$f":"IF(FS2<>\"\",INDEX($C$2:$C$502,FS2),\"\")","v":14.553313377781},{"$f":"IF(AND($A2<=n,FW$1<=flips),INT(501*RAND()+1),\"\")","v":466},{"$f":"IF(FV2<>\"\",INDEX($B$2:$B$502,FV2),\"\")","v":2.2721212362698306},{"$f":"IF(FV2<>\"\",INDEX($C$2:$C$502,FV2),\"\")","v":2.4139360395814542},{"$f":"IF(AND($A2<=n,FZ$1<=flips),INT(501*RAND()+1),\"\")","v":350},{"$f":"IF(FY2<>\"\",INDEX($B$2:$B$502,FY2),\"\")","v":7.76762289708544},{"$f":"IF(FY2<>\"\",INDEX($C$2:$C$502,FY2),\"\")","v":10.420430228595862},{"$f":"IF(AND($A2<=n,GC$1<=flips),INT(501*RAND()+1),\"\")","v":344},{"$f":"IF(GB2<>\"\",INDEX($B$2:$B$502,GB2),\"\")","v":1.5135708129106806},{"$f":"IF(GB2<>\"\",INDEX($C$2:$C$502,GB2),\"\")","v":4.6587681243049923},{"$f":"IF(AND($A2<=n,GF$1<=flips),INT(501*RAND()+1),\"\")","v":153},{"$f":"IF(GE2<>\"\",INDEX($B$2:$B$502,GE2),\"\")","v":3.2384547362536154},{"$f":"IF(GE2<>\"\",INDEX($C$2:$C$502,GE2),\"\")","v":4.3544413035996898},{"$f":"IF(AND($A2<=n,GI$1<=flips),INT(501*RAND()+1),\"\")","v":129},{"$f":"IF(GH2<>\"\",INDEX($B$2:$B$502,GH2),\"\")","v":3.4021490602585969},{"$f":"IF(GH2<>\"\",INDEX($C$2:$C$502,GH2),\"\")","v":7.3291441406926339},{"$f":"IF(AND($A2<=n,GL$1<=flips),INT(501*RAND()+1),\"\")","v":287},{"$f":"IF(GK2<>\"\",INDEX($B$2:$B$502,GK2),\"\")","v":7.7959736246489175},{"$f":"IF(GK2<>\"\",INDEX($C$2:$C$502,GK2),\"\")","v":11.006525900573429},{"$f":"IF(AND($A2<=n,GO$1<=flips),INT(501*RAND()+1),\"\")","v":424},{"$f":"IF(GN2<>\"\",INDEX($B$2:$B$502,GN2),\"\")","v":8.0719953943479084},{"$f":"IF(GN2<>\"\",INDEX($C$2:$C$502,GN2),\"\")","v":11.164053202561197},{"$f":"IF(AND($A2<=n,GR$1<=flips),INT(501*RAND()+1),\"\")","v":491},{"$f":"IF(GQ2<>\"\",INDEX($B$2:$B$502,GQ2),\"\")","v":5.4002680752708176},{"$f":"IF(GQ2<>\"\",INDEX($C$2:$C$502,GQ2),\"\")","v":9.3292209099241745},{"$f":"IF(AND($A2<=n,GU$1<=flips),INT(501*RAND()+1),\"\")","v":187},{"$f":"IF(GT2<>\"\",INDEX($B$2:$B$502,GT2),\"\")","v":6.519533521942888},{"$f":"IF(GT2<>\"\",INDEX($C$2:$C$502,GT2),\"\")","v":9.254708349873745},{"$f":"IF(AND($A2<=n,GX$1<=flips),INT(501*RAND()+1),\"\")","v":219},{"$f":"IF(GW2<>\"\",INDEX($B$2:$B$502,GW2),\"\")","v":1.4135924929262988},{"$f":"IF(GW2<>\"\",INDEX($C$2:$C$502,GW2),\"\")","v":3.7481662616878935},{"$f":"IF(AND($A2<=n,HA$1<=flips),INT(501*RAND()+1),\"\")","v":142},{"$f":"IF(GZ2<>\"\",INDEX($B$2:$B$502,GZ2),\"\")","v":9.9112222145109907},{"$f":"IF(GZ2<>\"\",INDEX($C$2:$C$502,GZ2),\"\")","v":14.010701314914378},{"$f":"IF(AND($A2<=n,HD$1<=flips),INT(501*RAND()+1),\"\")","v":100},{"$f":"IF(HC2<>\"\",INDEX($B$2:$B$502,HC2),\"\")","v":5.1634547445665042},{"$f":"IF(HC2<>\"\",INDEX($C$2:$C$502,HC2),\"\")","v":8.3874278988680597},{"$f":"IF(AND($A2<=n,HG$1<=flips),INT(501*RAND()+1),\"\")","v":71},{"$f":"IF(HF2<>\"\",INDEX($B$2:$B$502,HF2),\"\")","v":5.2521179900000003},{"$f":"IF(HF2<>\"\",INDEX($C$2:$C$502,HF2),\"\")","v":8.9534160499999995},{"$f":"IF(AND($A2<=n,HJ$1<=flips),INT(501*RAND()+1),\"\")","v":1},{"$f":"IF(HI2<>\"\",INDEX($B$2:$B$502,HI2),\"\")","v":9.0921419300000004},{"$f":"IF(HI2<>\"\",INDEX($C$2:$C$502,HI2),\"\")","v":9.2260561499999998},{"$f":"IF(AND($A2<=n,HM$1<=flips),INT(501*RAND()+1),\"\")","v":280},{"$f":"IF(HL2<>\"\",INDEX($B$2:$B$502,HL2),\"\")","v":4.6960122517294334},{"$f":"IF(HL2<>\"\",INDEX($C$2:$C$502,HL2),\"\")","v":6.3431212890244},{"$f":"IF(AND($A2<=n,HP$1<=flips),INT(501*RAND()+1),\"\")","v":268},{"$f":"IF(HO2<>\"\",INDEX($B$2:$B$502,HO2),\"\")","v":4.8050001233502115},{"$f":"IF(HO2<>\"\",INDEX($C$2:$C$502,HO2),\"\")","v":6.1785477163140996},{"$f":"IF(AND($A2<=n,HS$1<=flips),INT(501*RAND()+1),\"\")","v":220},{"$f":"IF(HR2<>\"\",INDEX($B$2:$B$502,HR2),\"\")","v":4.3773948230563153},{"$f":"IF(HR2<>\"\",INDEX($C$2:$C$502,HR2),\"\")","v":7.335011065144073},{"$f":"IF(AND($A2<=n,HV$1<=flips),INT(501*RAND()+1),\"\")","v":465},{"$f":"IF(HU2<>\"\",INDEX($B$2:$B$502,HU2),\"\")","v":3.9416342223019907},{"$f":"IF(HU2<>\"\",INDEX($C$2:$C$502,HU2),\"\")","v":5.536921984303949},{"$f":"IF(AND($A2<=n,HY$1<=flips),INT(501*RAND()+1),\"\")","v":130},{"$f":"IF(HX2<>\"\",INDEX($B$2:$B$502,HX2),\"\")","v":5.0060367960099228},{"$f":"IF(HX2<>\"\",INDEX($C$2:$C$502,HX2),\"\")","v":5.9533080785299743},{"$f":"IF(AND($A2<=n,IB$1<=flips),INT(501*RAND()+1),\"\")","v":458},{"$f":"IF(IA2<>\"\",INDEX($B$2:$B$502,IA2),\"\")","v":1.3578284498681548},{"$f":"IF(IA2<>\"\",INDEX($C$2:$C$502,IA2),\"\")","v":2.5379222086592796},{"$f":"IF(AND($A2<=n,IE$1<=flips),INT(501*RAND()+1),\"\")","v":71},{"$f":"IF(ID2<>\"\",INDEX($B$2:$B$502,ID2),\"\")","v":5.2521179900000003},{"$f":"IF(ID2<>\"\",INDEX($C$2:$C$502,ID2),\"\")","v":8.9534160499999995},{"$f":"IF(AND($A2<=n,IH$1<=flips),INT(501*RAND()+1),\"\")","v":317},{"$f":"IF(IG2<>\"\",INDEX($B$2:$B$502,IG2),\"\")","v":4.941073579261861},{"$f":"IF(IG2<>\"\",INDEX($C$2:$C$502,IG2),\"\")","v":6.3327469760680835},{"$f":"IF(AND($A2<=n,IK$1<=flips),INT(501*RAND()+1),\"\")","v":475},{"$f":"IF(IJ2<>\"\",INDEX($B$2:$B$502,IJ2),\"\")","v":7.9138442150953558},{"$f":"IF(IJ2<>\"\",INDEX($C$2:$C$502,IJ2),\"\")","v":10.703020787632038},{"$f":"IF(AND($A2<=n,IN$1<=flips),INT(501*RAND()+1),\"\")","v":500},{"$f":"IF(IM2<>\"\",INDEX($B$2:$B$502,IM2),\"\")","v":3.9061874613272463},{"$f":"IF(IM2<>\"\",INDEX($C$2:$C$502,IM2),\"\")","v":5.3176122982893004},{"$f":"IF(AND($A2<=n,IQ$1<=flips),INT(501*RAND()+1),\"\")","v":185},{"$f":"IF(IP2<>\"\",INDEX($B$2:$B$502,IP2),\"\")","v":8.1699973206037448},{"$f":"IF(IP2<>\"\",INDEX($C$2:$C$502,IP2),\"\")","v":11.341782431199082},{"$f":"IF(AND($A2<=n,IT$1<=flips),INT(501*RAND()+1),\"\")","v":188},{"$f":"IF(IS2<>\"\",INDEX($B$2:$B$502,IS2),\"\")","v":9.1345655578800589E-2},{"$f":"IF(IS2<>\"\",INDEX($C$2:$C$502,IS2),\"\")","v":-1.4671504185821658},{"$f":"E54","v":0.97409843049607336}]
[2,7.7309444899999997,8.6631947,229,{"$f":"IF(D3<>\"\",INDEX($B$2:$B$502,D3),\"\")","v":9.4027331025672023},{"$f":"IF(D3<>\"\",INDEX($C$2:$C$502,D3),\"\")","v":14.3929087483101},357,{"$f":"IF(G3<>\"\",INDEX($B$2:$B$502,G3),\"\")","v":6.4900321083413282},{"$f":"IF(G3<>\"\",INDEX($C$2:$C$502,G3),\"\")","v":13.120219713956633},414,2.7950537847837964,4.5073928915468091,386,1.0073275699233375,3.0485049962051756,138,7.2415678080261969,9.5755070649732623,366,7.6590328997082864,9.9893809862059104,371,6.7523814684139749,9.8569693030717573,361,7.7104019408160536,11.235786062738599,156,7.5222741385832492,10.398178080808218,326,0.76667411142584463,2.1630137371862332,462,1.0059581562211317,0.12797791593396501,114,1.252853786427286,1.0100640028655623,455,6.075263980189149,11.282461750971585,342,6.1140364480937777,7.6693035512060561,246,2.5963679645121052,8.6568750385048006,44,2.5187078600000001,3.9538099999999998,357,6.4900321083413282,13.120219713956633,192,6.6372141472336654,9.0381054897906381,394,3.764890110705994,7.0217187676083181,46,6.9409220200000004,6.7436555499999997,170,3.7446948913362732,4.4641817735593659,406,6.1174243289691699,11.635918876811942,181,6.2890043826908126,12.751292336237183,427,6.9885348759584236,9.3455077581845476,204,3.308265585188872,6.8379327276228423,129,3.4021490602585969,7.3291441406926339,396,8.2278637630366447,11.785310894543299,80,8.3465480200000002,10.091565299999999,351,7.2935958371762499,9.6293815376374745,172,7.3103128496753573,10.56882331609917,222,2.9012296601372434,7.5231318089897998,436,4.0820805396994864,8.7544259883443516,434,3.5399816982625598,4.2841148978861083,303,8.5528840612647095,11.935414601761497,186,8.0057885833686253,10.376369834430827,277,5.220468369479347,8.1139770160987776,272,2.9001792757518441,3.3810563193857082,386,1.0073275699233375,3.0485049962051756,310,7.1479073898209116,9.1696355865690773,267,6.5110817307785851,13.800060184140401,407,9.4578980321574022,13.162653526693784,475,7.9138442150953558,10.703020787632038,225,4.7927455702920296,7.82741515961016,237,6.4862939147936549,13.612853793873301,251,7.6582415224492912,10.144178208610738,455,6.075263980189149,11.282461750971585,267,6.5110817307785851,13.800060184140401,84,8.6145668200000003,11.9266656,501,2.0269028791192145,1.7832891667725619,495,5.6670881206542045,8.7474404972316631,78,5.7589141000000001,6.3190208200000004,277,5.220468369479347,8.1139770160987776,339,6.2612765442406459,9.0131252623016547,224,8.8500932679654216,12.105880499957472,177,5.3679291962647957,6.5109667962489217,392,7.8642278245167496,10.695125370339451,331,1.3243081533701484,1.0602961618497493,216,7.8903828523821495,6.7415408013276004,36,1.6648953900000001,1.8233785600000001,168,5.7103770203424009,7.2397772694645726,147,5.4461115917511389,7.1403852577179636,92,8.0506673899999992,11.573889400000001,54,6.4843481000000001,10.3540317,223,1.4677999427926225,1.3276112265289484,435,3.8642261794273658,9.2796652551715511,293,1.5675344209138453,1.7533965630004673,461,4.8845852752784396,6.6348643622707826,377,3.0408975358690071,2.6602505325350201,214,1.6941838803347231,0.83294517643265431,397,6.7308461320085833E-2,-0.59702735834084919,50,3.3373057099999999,0.91152189800000005,220,4.3773948230563153,7.335011065144073,350,7.76762289708544,10.420430228595862,400,1.3928145321172103,4.6426942183984741,162,1.7286565252373598,1.4654855864438978,366,7.6590328997082864,9.9893809862059104,213,6.6983500438591488,10.792994407672209,294,5.3502649803261022,9.3992153776299077,26,8.4310446300000006,11.3286742,233,7.9848542353849306,10.790153830847302,21,9.6300481999999992,11.962618300000001,126,8.8349732676527726,11.917701081681987,379,2.483427613021556,4.8399690215175593,59,0.11949396399999999,-4.5824346299999998,{"$f":"H54","v":0.93476270685559382}]
[3,7.9678431400000003,7.8402365899999999,257,4.8671143214962798E-2,0.35667577297134001,301,1.4880319609982529,1.0816092435081188,402,0.63845572537949868,-0.59528783994682244,438,4.3215582402596375,5.5561618103124433,363,8.8903958428841925,12.042877971650041,296,8.233341992061245,13.716824070049993,363,8.8903958428841925,12.042877971650041,360,4.8947500606796979,7.7045339464278291,19,5.9551803400000001,4.7732745999999997,472,1.4233334082712767,0.44772940412325613,27,6.0616587600000003,5.5536239399999996,465,3.9416342223019907,5.536921984303949,196,0.76803770988060238,-0.17529515458519196,112,4.3293947390416765,5.4820662630587123,135,1.1446641872815011,3.1697184174253565,334,0.1426316554836049,-0.78786307693174251,398,5.9640576353372721,7.3864178093434401,4,6.2171594299999997,9.7130448299999994,130,5.0060367960099228,5.9533080785299743,155,4.8256411591609805,6.1600312882596793,479,8.462811050415155,9.6409875244599998,331,1.3243081533701484,1.0602961618497493,402,0.63845572537949868,-0.59528783994682244,23,4.5135066899999998,4.2587103900000001,448,4.9931588576240138,7.2674600338665032,316,8.141106430121285,13.610480114295285,210,9.4908536981671787,13.202516086178253,27,6.0616587600000003,5.5536239399999996,170,3.7446948913362732,4.4641817735593659,327,9.039115292345361,12.357589907902458,287,7.7959736246489175,11.006525900573429,407,9.4578980321574022,13.162653526693784,479,8.462811050415155,9.6409875244599998,100,5.1634547445665042,8.3874278988680597,73,6.3058183300000001,5.8214770199999997,3,7.9678431400000003,7.8402365899999999,209,5.4429712832420085,7.6258458572340526,429,0.84150849679000217,1.0462541563059669,128,9.1177701257784616,11.889390364798979,454,5.9778139928798435,8.9311886960292632,42,7.5593373799999997,12.683575100000001,478,0.41872762724397994,-0.63339038621088262,45,9.3723747399999997,9.6176463699999992,370,4.4215250791477079,10.527068064918168,20,8.97702256,12.3319163,381,9.1319343172330729,12.552913191434319,158,6.5764931629664947,13.218822693597421,182,1.3086412443964068,3.6081103627702,158,6.5764931629664947,13.218822693597421,108,6.0027236613643931,7.8726365751424154,347,6.3247959995675895,7.8685728216588791,425,1.8070864517549978,1.7416110390058728,284,7.818623012144597,14.288010440950092,388,3.0136595489422291,2.8531384179154013,3,7.9678431400000003,7.8402365899999999,202,6.996969959662005,8.8053679620889831,152,6.9202326293888312,8.9745040915337775,22,8.1017259500000005,12.679399800000001,20,8.97702256,12.3319163,98,4.4179373499999999,3.4445838200000001,12,9.1948615199999999,11.032072100000001,82,5.1856461300000003,7.9659008900000003,306,0.96214034790407688,0.80495344925817491,492,6.5324341693541577,13.285598183869865,382,3.9405995487896761,6.6048693588312615,265,0.36522624383226177,-0.19922227605221843,174,6.3223547334367414,8.2132773358906981,40,8.0786452499999992,8.0379548700000001,493,2.4976878149009263,2.8511708533162654,58,5.9462980999999999,9.7186380799999998,173,4.2856205396178044,5.7101114324544113,312,5.4160761701007898,7.0981108578805241,126,8.8349732676527726,11.917701081681987,86,1.25997063,0.88099889499999995,95,7.4445936899999996,10.165211899999999,259,6.5239562867684793,8.5470040434976404,365,8.8782001103438812,12.349001526138636,231,6.5893763959274914,8.971115924241138,412,7.8320148809229728,14.43572556356969,185,8.1699973206037448,11.341782431199082,31,5.6847760599999999,4.1550712799999996,292,3.0610660275056034,8.1888671683822771,224,8.8500932679654216,12.105880499957472,134,9.1500914337672956,14.553313377781,{"$f":"K54","v":0.95467872562954037}]
[4,6.2171594299999997,9.7130448299999994,383,3.7772115049966803,4.8172249658671555,67,8.53363023,11.8219133,302,1.7599831210840322,1.5909511216843224,224,8.8500932679654216,12.105880499957472,65,2.1725842800000001,-0.318387121,370,4.4215250791477079,10.527068064918168,377,3.0408975358690071,2.6602505325350201,37,3.9202844799999998,2.04055271,437,5.3936026916160813,7.5269307804698089,183,2.3217560734071774,2.9248271345654651,390,9.4746422668363195,13.830945987610692,49,1.22022199,-2.8587521699999998,421,0.54660265947950926,-0.18653225912045091,238,8.9789489170835779,14.57182859908777,143,3.1298162215125824,4.0678245265709227,166,8.6908914981058629,15.603789463461201,101,5.4458456762474583,6.6681100293613467,266,7.2161926911738306,9.8859229973063734,51,9.9104819800000001,11.892123959999999,132,2.3657539173435982,1.9008836040513479,328,2.0438486082449536,1.771787990984288,147,5.4461115917511389,7.1403852577179636,43,5.1334551900000003,8.2972361899999996,39,2.7793912399999998,5.3105028299999999,288,3.6787389497515921,5.4229141894762103,354,1.4703597302266935,0.77110129201157374,155,4.8256411591609805,6.1600312882596793,193,7.3238383677391106,9.8486686017351293,472,1.4233334082712767,0.44772940412325613,89,2.3520277799999998,-0.517630912,239,1.6871419809884225,2.1697972727457491,356,1.4933176598749931,2.1275883997256515,175,2.2315282967237082,2.4042547655017708,49,1.22022199,-2.8587521699999998,111,3.8563894703487112,4.9257543803902486,52,8.4212998199999998,10.24603712,257,4.8671143214962798E-2,0.35667577297134001,171,8.7780746245692143,13.506420648081406,159,7.1432618799211589,9.2497141559072418,420,6.569000716891928,8.1677036913542587,423,4.7494204218260361,6.8569503933586979,253,2.7270468586034036,1.1828700834185699,107,1.1405256196458247,1.0120546091450575,430,4.0231000638151926,4.5932348661614739,457,7.7179870138134472,10.458313363579663,179,3.2648962740822185E-2,0.14112108804542001,322,0.15103619558535009,0.74855586193504564,213,6.6983500438591488,10.792994407672209,90,6.6065631500000004,9.5195644500000007,33,2.4482117699999999,-1.0929169599999999,420,6.569000716891928,8.1677036913542587,49,1.22022199,-2.8587521699999998,325,5.172426329099169,6.2218467804549578,332,0.61801842081518288,1.2424019630482599,91,4.4224595999999998,7.0814903300000003,293,1.5675344209138453,1.7533965630004673,163,5.4932355305844798,8.8656207961652012,272,2.9001792757518441,3.3810563193857082,144,6.6182337976023771,10.934469818299988,68,4.59207945,2.4343364599999999,107,1.1405256196458247,1.0120546091450575,192,6.6372141472336654,9.0381054897906381,454,5.9778139928798435,8.9311886960292632,406,6.1174243289691699,11.635918876811942,16,1.20622191,-1.56819643,133,2.6830196025925201,3.0389984183887524,373,7.4591854463512703,10.320616227050698,370,4.4215250791477079,10.527068064918168,330,2.8377527642991263,3.3333387812130022,394,3.764890110705994,7.0217187676083181,134,9.1500914337672956,14.553313377781,79,1.39826337,1.12138749,347,6.3247959995675895,7.8685728216588791,365,8.8782001103438812,12.349001526138636,246,2.5963679645121052,8.6568750385048006,246,2.5963679645121052,8.6568750385048006,1,9.0921419300000004,9.2260561499999998,339,6.2612765442406459,9.0131252623016547,286,0.15446583210299014,-0.8391181197015869,325,5.172426329099169,6.2218467804549578,21,9.6300481999999992,11.962618300000001,425,1.8070864517549978,1.7416110390058728,490,0.75450661755060766,-0.12200500735643094,328,2.0438486082449536,1.771787990984288,{"$f":"N54","v":0.91590532968150495}]
[5,7.8018108399999999,8.8408872499999998,332,0.61801842081518288,1.2424019630482599,373,7.4591854463512703,10.320616227050698,59,0.11949396399999999,-4.5824346299999998,451,9.655504892810324,13.602996726514972,442,2.5956425287846496,2.7804630136276995,10,4.3081281100000002,4.9679645800000003,324,4.3558168742634829,7.801517982897999,186,8.0057885833686253,10.376369834430827,135,1.1446641872815011,3.1697184174253565,209,5.4429712832420085,7.6258458572340526,262,1.8314434350190556,1.9047131476628156,26,8.4310446300000006,11.3286742,72,8.4497598600000003,10.1485986,140,0.76271523417664078,0.2338329209201615,253,2.7270468586034036,1.1828700834185699,268,4.8050001233502115,6.1785477163140996,82,5.1856461300000003,7.9659008900000003,301,1.4880319609982529,1.0816092435081188,464,1.4581096815090877,0.65039979552104965,272,2.9001792757518441,3.3810563193857082,211,4.9689101028393967,6.5161516213616197,196,0.76803770988060238,-0.17529515458519196,482,5.8149146706111843,7.78950536979365,208,1.5051788029239521,4.9638057506063475,441,9.3548784425746696,16.689508933402745,46,6.9409220200000004,6.7436555499999997,477,3.1588429852097644,4.9684866719746434,366,7.6590328997082864,9.9893809862059104,95,7.4445936899999996,10.165211899999999,418,9.6101716773658019,14.488520415201176,271,9.5002936567458018,15.389731578997759,12,9.1948615199999999,11.032072100000001,200,4.0071369326860351,5.8149025862845107,275,7.3374352986168123,9.5748144024567914,349,4.9966891895952958,6.064861197109102,11,0.98388779100000001,-0.190496477,270,4.8924771983786464,9.4491420220653204,147,5.4461115917511389,7.1403852577179636,181,6.2890043826908126,12.751292336237183,472,1.4233334082712767,0.44772940412325613,451,9.655504892810324,13.602996726514972,162,1.7286565252373598,1.4654855864438978,449,4.3506429977654015,5.6550583574589179,438,4.3215582402596375,5.5561618103124433,409,9.8503596824013595,13.656028266075758,406,6.1174243289691699,11.635918876811942,210,9.4908536981671787,13.202516086178253,9,4.5581386100000003,7.4699725700000004,483,9.7387030796730585,13.476781084329959,435,3.8642261794273658,9.2796652551715511,96,4.8245429299999998,3.8588945699999999,42,7.5593373799999997,12.683575100000001,352,3.2542346853922854,3.9283447304969492,44,2.5187078600000001,3.9538099999999998,258,1.2394882492330073,0.73355664601018433,149,8.0900216626433252,10.603349573558262,407,9.4578980321574022,13.162653526693784,421,0.54660265947950926,-0.18653225912045091,370,4.4215250791477079,10.527068064918168,145,0.8525446832435013,2.9996479371763423,225,4.7927455702920296,7.82741515961016,486,6.5694184699584923,13.472349693690731,97,5.5722248099999998,7.5462324299999999,170,3.7446948913362732,4.4641817735593659,464,1.4581096815090877,0.65039979552104965,48,1.16874791,-3.1067277500000001,48,1.16874791,-3.1067277500000001,407,9.4578980321574022,13.162653526693784,128,9.1177701257784616,11.889390364798979,317,4.941073579261861,6.3327469760680835,26,8.4310446300000006,11.3286742,345,7.1072252119212909,9.7334006368689181,339,6.2612765442406459,9.0131252623016547,490,0.75450661755060766,-0.12200500735643094,426,4.5326184498414541,7.2658175643726883,131,6.8864912989983518,9.410603282295412,190,3.6099991361880601,5.9099133664434191,29,4.6090868499999997,2.6041155800000002,341,9.9761232919260046,13.980574358054476,47,3.4734701800000001,0.35695392199999998,290,3.5826281094704382,4.30831352958017,169,7.8580010287960045,12.828081007665793,188,9.1345655578800589E-2,-1.4671504185821658,364,2.674927641791407,4.8361072334281729,{"$f":"Q54","v":0.97001496667681097}]
[6,9.5395347800000003,13.2443258,266,7.2161926911738306,9.8859229973063734,276,4.0381884226039766,5.3857284288438505,108,6.0027236613643931,7.8726365751424154,374,7.9574460251726986,16.222075355994896,39,2.7793912399999998,5.3105028299999999,348,6.2277472888214858,7.9355552105199703,282,7.3934600803110868,12.654889585788244,425,1.8070864517549978,1.7416110390058728,19,5.9551803400000001,4.7732745999999997,332,0.61801842081518288,1.2424019630482599,294,5.3502649803261022,9.3992153776299077,288,3.6787389497515921,5.4229141894762103,315,8.9355246603105254,15.393548209679764,139,3.5467090203525475,8.8908244024619005,430,4.0231000638151926,4.5932348661614739,489,2.3562173660461116,3.3868039256993798,251,7.6582415224492912,10.144178208610738,300,6.9525604667211205,8.8374114454575636,388,3.0136595489422291,2.8531384179154013,462,1.0059581562211317,0.12797791593396501,170,3.7446948913362732,4.4641817735593659,438,4.3215582402596375,5.5561618103124433,123,8.3553786900085214,12.244021405653474,155,4.8256411591609805,6.1600312882596793,274,3.0262558719003962,9.169401729152689,281,1.477663452221547,3.0510870667526055,393,1.8554865276435994,1.8222645960802755,341,9.9761232919260046,13.980574358054476,456,9.0579338811012011,14.242059244215399,22,8.1017259500000005,12.679399800000001,268,4.8050001233502115,6.1785477163140996,485,2.8795624536466757,5.3634522958762441,286,0.15446583210299014,-0.8391181197015869,431,0.12732263727994741,-1.6605184319212518,32,4.6696612699999998,5.3886031499999998,199,1.6954447009960338,1.7662608069999726,483,9.7387030796730585,13.476781084329959,262,1.8314434350190556,1.9047131476628156,116,5.3250493749477474,11.2900628245365,40,8.0786452499999992,8.0379548700000001,171,8.7780746245692143,13.506420648081406,36,1.6648953900000001,1.8233785600000001,221,4.2438187682743411,6.2838912182060103,444,4.5829127045120988,9.7188359995582747,26,8.4310446300000006,11.3286742,194,3.6183896033488883,4.3987562597794678,114,1.252853786427286,1.0100640028655623,289,9.1558546588781642,13.345455166555794,167,5.6949934178282025,7.5872591807906486,368,4.4205173223964334,5.404310703761789,75,4.4822054400000004,4.6762966099999996,369,6.9658494743887545,9.4982959108348108,248,3.9412545894168272,6.2827624013223673,164,9.9656062706024162,13.997749013626128,172,7.3103128496753573,10.56882331609917,26,8.4310446300000006,11.3286742,63,5.2446946700000003,7.8713711000000002,135,1.1446641872815011,3.1697184174253565,80,8.3465480200000002,10.091565299999999,446,1.7654113582191089,2.141253773149888,256,6.0503575811612365E-2,-0.88215821640236758,263,6.5771345737093618,10.129726947775568,360,4.8947500606796979,7.7045339464278291,77,2.6233265499999998,4.44153764,147,5.4461115917511389,7.1403852577179636,281,1.477663452221547,3.0510870667526055,41,2.3735837000000002,-1.5927045900000001,175,2.2315282967237082,2.4042547655017708,265,0.36522624383226177,-0.19922227605221843,213,6.6983500438591488,10.792994407672209,194,3.6183896033488883,4.3987562597794678,41,2.3735837000000002,-1.5927045900000001,376,0.46505274619487835,-0.22593091958698719,434,3.5399816982625598,4.2841148978861083,155,4.8256411591609805,6.1600312882596793,285,6.6620714482949728,9.6321675585271631,487,6.0398490469143589,8.00193117490468,259,6.5239562867684793,8.5470040434976404,421,0.54660265947950926,-0.18653225912045091,445,6.9115955179206656,9.4989223867298804,40,8.0786452499999992,8.0379548700000001,17,2.1361076400000001,4.7004972599999997,107,1.1405256196458247,1.0120546091450575,396,8.2278637630366447,11.785310894543299,{"$f":"T54","v":0.9265366342714848}]
[7,5.5718689399999999,3.4202956800000002,386,1.0073275699233375,3.0485049962051756,289,9.1558546588781642,13.345455166555794,348,6.2277472888214858,7.9355552105199703,375,4.3911451875225893,5.019223424003405,377,3.0408975358690071,2.6602505325350201,303,8.5528840612647095,11.935414601761497,216,7.8903828523821495,6.7415408013276004,407,9.4578980321574022,13.162653526693784,260,0.7940843459245972,0.11729142010121001,212,5.3654831771327327,6.4624929186485636,366,7.6590328997082864,9.9893809862059104,82,5.1856461300000003,7.9659008900000003,45,9.3723747399999997,9.6176463699999992,193,7.3238383677391106,9.8486686017351293,216,7.8903828523821495,6.7415408013276004,302,1.7599831210840322,1.5909511216843224,129,3.4021490602585969,7.3291441406926339,222,2.9012296601372434,7.5231318089897998,429,0.84150849679000217,1.0462541563059669,229,9.4027331025672023,14.3929087483101,484,4.0045094149045024,5.7257781052145909,43,5.1334551900000003,8.2972361899999996,180,3.1214132439063502,3.8316182739838296,343,5.1503670677794489,6.738228966505095,368,4.4205173223964334,5.404310703761789,189,1.101807709501168,0.46254609360549703,341,9.9761232919260046,13.980574358054476,377,3.0408975358690071,2.6602505325350201,178,7.2518105835745672,11.875647018657912,89,2.3520277799999998,-0.517630912,78,5.7589141000000001,6.3190208200000004,104,2.7962367993366222,3.8294492481387614,295,5.3604518039992683,8.1724568467567948,213,6.6983500438591488,10.792994407672209,12,9.1948615199999999,11.032072100000001,159,7.1432618799211589,9.2497141559072418,297,4.8105841760667722,5.724291400066047,132,2.3657539173435982,1.9008836040513479,112,4.3293947390416765,5.4820662630587123,424,8.0719953943479084,11.164053202561197,277,5.220468369479347,8.1139770160987776,51,9.9104819800000001,11.892123959999999,422,8.900442607690513,12.35432214856479,323,6.8403117988900259,8.8327768684551362,225,4.7927455702920296,7.82741515961016,40,8.0786452499999992,8.0379548700000001,489,2.3562173660461116,3.3868039256993798,261,9.0074577620333436,13.253751216105011,55,9.1472265700000008,9.7148863700000003,381,9.1319343172330729,12.552913191434319,155,4.8256411591609805,6.1600312882596793,28,4.4946079699999997,7.0527013700000003,133,2.6830196025925201,3.0389984183887524,392,7.8642278245167496,10.695125370339451,346,1.1915612553786969,2.2692563540303219,35,1.7000925,-2.08932327,345,7.1072252119212909,9.7334006368689181,459,3.6068105942080053,4.0983668111970726,209,5.4429712832420085,7.6258458572340526,426,4.5326184498414541,7.2658175643726883,254,1.1419442312216033,1.5742783532651146,273,1.8815562943405251,1.750412100965411,254,1.1419442312216033,1.5742783532651146,325,5.172426329099169,6.2218467804549578,253,2.7270468586034036,1.1828700834185699,283,6.1842725200147726,7.808466476660179,29,4.6090868499999997,2.6041155800000002,131,6.8864912989983518,9.410603282295412,100,5.1634547445665042,8.3874278988680597,11,0.98388779100000001,-0.190496477,364,2.674927641791407,4.8361072334281729,67,8.53363023,11.8219133,31,5.6847760599999999,4.1550712799999996,36,1.6648953900000001,1.8233785600000001,382,3.9405995487896761,6.6048693588312615,269,3.666581661681152,5.3853285914882827,363,8.8903958428841925,12.042877971650041,465,3.9416342223019907,5.536921984303949,213,6.6983500438591488,10.792994407672209,150,6.8236248933967891,12.354040682638001,134,9.1500914337672956,14.553313377781,115,5.7921047390135083,6.9372239234158073,468,2.121102408831459,2.606792530372414,431,0.12732263727994741,-1.6605184319212518,{"$f":"W54","v":0.91654348586585033}]
[8,2.1716921,4.0845028299999999,397,6.7308461320085833E-2,-0.59702735834084919,466,2.2721212362698306,2.4139360395814542,267,6.5110817307785851,13.800060184140401,286,0.15446583210299014,-0.8391181197015869,363,8.8903958428841925,12.042877971650041,441,9.3548784425746696,16.689508933402745,485,2.8795624536466757,5.3634522958762441,311,9.8732776289864876,13.39935789623949,351,7.2935958371762499,9.6293815376374745,460,5.371909194400768,7.1325663265933885,417,7.3386603021936114,15.295872075750442,258,1.2394882492330073,0.73355664601018433,408,4.5681849007135256,5.9608129255769073,110,2.5899652593558353,2.9413220452259869,4,6.2171594299999997,9.7130448299999994,300,6.9525604667211205,8.8374114454575636,421,0.54660265947950926,-0.18653225912045091,62,6.5333036399999997,9.8579278600000002,19,5.9551803400000001,4.7732745999999997,249,9.8019176403557751,16.65592597297271,126,8.8349732676527726,11.917701081681987,65,2.1725842800000001,-0.318387121,131,6.8864912989983518,9.410603282295412,18,6.2052832000000002,8.9630255999999999,361,7.7104019408160536,11.235786062738599,328,2.0438486082449536,1.771787990984288,122,7.182313270619229,9.864613996322797,402,0.63845572537949868,-0.59528783994682244,470,3.2534896362086507,3.2825058166553216,330,2.8377527642991263,3.3333387812130022,217,8.7737972157628192,11.901876569481338,184,0.14145823444282613,-0.83671946230057703,166,8.6908914981058629,15.603789463461201,146,8.0919079664045395,12.022468542541647,5,7.8018108399999999,8.8408872499999998,412,7.8320148809229728,14.43572556356969,91,4.4224595999999998,7.0814903300000003,343,5.1503670677794489,6.738228966505095,393,1.8554865276435994,1.8222645960802755,69,9.3413851000000001,14.209857100000001,193,7.3238383677391106,9.8486686017351293,243,7.3723567430533041,14.15401139120323,83,2.3124036499999998,2.1144006599999998,66,1.1164723999999999,-7.8287546E-2,173,4.2856205396178044,5.7101114324544113,404,6.6865527342262094,9.1847616816165427,109,4.2473853747116674,5.5314138092696616,335,3.6499905948580413,7.825033330792496,165,3.0401163617295479,3.5833705441942101,497,0.22086403318721359,-1.3690361231285952,296,8.233341992061245,13.716824070049993,29,4.6090868499999997,2.6041155800000002,65,2.1725842800000001,-0.318387121,482,5.8149146706111843,7.78950536979365,482,5.8149146706111843,7.78950536979365,23,4.5135066899999998,4.2587103900000001,317,4.941073579261861,6.3327469760680835,70,1.423125,0.64634512099999997,159,7.1432618799211589,9.2497141559072418,248,3.9412545894168272,6.2827624013223673,131,6.8864912989983518,9.410603282295412,462,1.0059581562211317,0.12797791593396501,473,8.8106454217136623,12.313253000955346,148,1.1377542072032565,4.1653095983966999,81,5.5414155999999997,8.21511411,382,3.9405995487896761,6.6048693588312615,96,4.8245429299999998,3.8588945699999999,90,6.6065631500000004,9.5195644500000007,222,2.9012296601372434,7.5231318089897998,290,3.5826281094704382,4.30831352958017,433,3.27441585738101,6.7843168266616818,254,1.1419442312216033,1.5742783532651146,108,6.0027236613643931,7.8726365751424154,381,9.1319343172330729,12.552913191434319,155,4.8256411591609805,6.1600312882596793,125,2.4221504716819453,2.1387712771999832,77,2.6233265499999998,4.44153764,426,4.5326184498414541,7.2658175643726883,38,5.1867310800000004,5.8437575900000001,228,2.5634850895736427,2.4768516990427418,318,3.8323661245541629,4.9005898149337508,269,3.666581661681152,5.3853285914882827,358,6.8644644434118813,9.2775228103630116,456,9.0579338811012011,14.242059244215399,{"$f":"Z54","v":0.96650777353662909}]
[9,4.5581386100000003,7.4699725700000004,185,8.1699973206037448,11.341782431199082,16,1.20622191,-1.56819643,121,4.2728411131601867,5.2206182647121677,78,5.7589141000000001,6.3190208200000004,500,3.9061874613272463,5.3176122982893004,415,9.7094675975974916,13.896482453995,187,6.519533521942888,9.254708349873745,159,7.1432618799211589,9.2497141559072418,83,2.3124036499999998,2.1144006599999998,491,5.4002680752708176,9.3292209099241745,149,8.0900216626433252,10.603349573558262,349,4.9966891895952958,6.064861197109102,150,6.8236248933967891,12.354040682638001,406,6.1174243289691699,11.635918876811942,477,3.1588429852097644,4.9684866719746434,48,1.16874791,-3.1067277500000001,455,6.075263980189149,11.282461750971585,137,8.8662054094358478,15.395163428346962,465,3.9416342223019907,5.536921984303949,239,1.6871419809884225,2.1697972727457491,460,5.371909194400768,7.1325663265933885,227,3.6739445272245197,4.1937702660507998,101,5.4458456762474583,6.6681100293613467,201,1.9686569618121053,1.9841783753660602,157,7.2810892925524584,9.7350388718327459,213,6.6983500438591488,10.792994407672209,70,1.423125,0.64634512099999997,472,1.4233334082712767,0.44772940412325613,458,1.3578284498681548,2.5379222086592796,109,4.2473853747116674,5.5314138092696616,453,0.33555610413936954,-0.45375309177224987,85,1.82822638,-2.92768506,233,7.9848542353849306,10.790153830847302,269,3.666581661681152,5.3853285914882827,24,9.6908459800000006,12.150754600000001,308,0.86140813919678649,2.8977346899606902,461,4.8845852752784396,6.6348643622707826,169,7.8580010287960045,12.828081007665793,357,6.4900321083413282,13.120219713956633,344,1.5135708129106806,4.6587681243049923,334,0.1426316554836049,-0.78786307693174251,311,9.8732776289864876,13.39935789623949,273,1.8815562943405251,1.750412100965411,66,1.1164723999999999,-7.8287546E-2,168,5.7103770203424009,7.2397772694645726,202,6.996969959662005,8.8053679620889831,293,1.5675344209138453,1.7533965630004673,34,6.7508917300000002,6.6808205200000002,69,9.3413851000000001,14.209857100000001,281,1.477663452221547,3.0510870667526055,455,6.075263980189149,11.282461750971585,208,1.5051788029239521,4.9638057506063475,354,1.4703597302266935,0.77110129201157374,418,9.6101716773658019,14.488520415201176,292,3.0610660275056034,8.1888671683822771,320,8.6877146182605465,15.233535264352582,444,4.5829127045120988,9.7188359995582747,434,3.5399816982625598,4.2841148978861083,407,9.4578980321574022,13.162653526693784,490,0.75450661755060766,-0.12200500735643094,339,6.2612765442406459,9.0131252623016547,430,4.0231000638151926,4.5932348661614739,308,0.86140813919678649,2.8977346899606902,291,9.3188617307808546,15.1632824539856,173,4.2856205396178044,5.7101114324544113,69,9.3413851000000001,14.209857100000001,212,5.3654831771327327,6.4624929186485636,278,0.19869643820853655,-1.548675626708963,483,9.7387030796730585,13.476781084329959,476,4.76923728814028,5.3629003049054003,165,3.0401163617295479,3.5833705441942101,239,1.6871419809884225,2.1697972727457491,415,9.7094675975974916,13.896482453995,454,5.9778139928798435,8.9311886960292632,285,6.6620714482949728,9.6321675585271631,137,8.8662054094358478,15.395163428346962,342,6.1140364480937777,7.6693035512060561,245,7.9719723429466356,14.077036682687522,134,9.1500914337672956,14.553313377781,126,8.8349732676527726,11.917701081681987,423,4.7494204218260361,6.8569503933586979,153,3.2384547362536154,4.3544413035996898,213,6.6983500438591488,10.792994407672209,23,4.5135066899999998,4.2587103900000001,{"$f":"AC54","v":0.83912660195142796}]
[10,4.3081281100000002,4.9679645800000003,483,9.7387030796730585,13.476781084329959,396,8.2278637630366447,11.785310894543299,95,7.4445936899999996,10.165211899999999,101,5.4458456762474583,6.6681100293613467,336,1.870541375343342,1.1805516340269766,195,7.8962395661564555,10.467689897148318,320,8.6877146182605465,15.233535264352582,275,7.3374352986168123,9.5748144024567914,274,3.0262558719003962,9.169401729152689,3,7.9678431400000003,7.8402365899999999,183,2.3217560734071774,2.9248271345654651,131,6.8864912989983518,9.410603282295412,132,2.3657539173435982,1.9008836040513479,67,8.53363023,11.8219133,409,9.8503596824013595,13.656028266075758,382,3.9405995487896761,6.6048693588312615,62,6.5333036399999997,9.8579278600000002,53,0.20667169799999999,-0.79117017499999998,247,3.9683628429778928,4.5622538904374883,371,6.7523814684139749,9.8569693030717573,423,4.7494204218260361,6.8569503933586979,366,7.6590328997082864,9.9893809862059104,326,0.76667411142584463,2.1630137371862332,195,7.8962395661564555,10.467689897148318,107,1.1405256196458247,1.0120546091450575,27,6.0616587600000003,5.5536239399999996,282,7.3934600803110868,12.654889585788244,289,9.1558546588781642,13.345455166555794,361,7.7104019408160536,11.235786062738599,436,4.0820805396994864,8.7544259883443516,500,3.9061874613272463,5.3176122982893004,247,3.9683628429778928,4.5622538904374883,435,3.8642261794273658,9.2796652551715511,67,8.53363023,11.8219133,235,0.67894489191479668,0.50897045137204855,114,1.252853786427286,1.0100640028655623,496,4.5326842345820495,5.1733498148988177,462,1.0059581562211317,0.12797791593396501,341,9.9761232919260046,13.980574358054476,476,4.76923728814028,5.3629003049054003,25,3.2733277300000001,2.7018407,86,1.25997063,0.88099889499999995,224,8.8500932679654216,12.105880499957472,222,2.9012296601372434,7.5231318089897998,75,4.4822054400000004,4.6762966099999996,239,1.6871419809884225,2.1697972727457491,223,1.4677999427926225,1.3276112265289484,181,6.2890043826908126,12.751292336237183,272,2.9001792757518441,3.3810563193857082,256,6.0503575811612365E-2,-0.88215821640236758,276,4.0381884226039766,5.3857284288438505,340,1.7998922865176414,1.8595912072524055,110,2.5899652593558353,2.9413220452259869,295,5.3604518039992683,8.1724568467567948,441,9.3548784425746696,16.689508933402745,10,4.3081281100000002,4.9679645800000003,357,6.4900321083413282,13.120219713956633,41,2.3735837000000002,-1.5927045900000001,39,2.7793912399999998,5.3105028299999999,364,2.674927641791407,4.8361072334281729,481,4.5791507599287158,6.4370171946791341,492,6.5324341693541577,13.285598183869865,427,6.9885348759584236,9.3455077581845476,278,0.19869643820853655,-1.548675626708963,94,6.2620883799999998,10.6125892,219,1.4135924929262988,3.7481662616878935,245,7.9719723429466356,14.077036682687522,237,6.4862939147936549,13.612853793873301,267,6.5110817307785851,13.800060184140401,277,5.220468369479347,8.1139770160987776,432,0.80762306213334689,0.33078967169907747,69,9.3413851000000001,14.209857100000001,238,8.9789489170835779,14.57182859908777,179,3.2648962740822185E-2,0.14112108804542001,283,6.1842725200147726,7.808466476660179,235,0.67894489191479668,0.50897045137204855,136,1.8514183165426168,2.2694190174681865,425,1.8070864517549978,1.7416110390058728,191,8.862057695934995,12.368626358792984,400,1.3928145321172103,4.6426942183984741,13,5.69596444,8.7782791400000004,410,1.4768568736947074,1.3799032819796315,10,4.3081281100000002,4.9679645800000003,451,9.655504892810324,13.602996726514972,{"$f":"AF54","v":0.84076720774332014}]
[11,0.98388779100000001,-0.190496477,426,4.5326184498414541,7.2658175643726883,171,8.7780746245692143,13.506420648081406,499,6.1626943154846758,9.9580512542602477,248,3.9412545894168272,6.2827624013223673,351,7.2935958371762499,9.6293815376374745,445,6.9115955179206656,9.4989223867298804,488,1.429231249359415,3.5381799420611801,264,0.38670715099446085,1.534111384119754,462,1.0059581562211317,0.12797791593396501,31,5.6847760599999999,4.1550712799999996,353,5.644777953613076,8.6480184410304002,490,0.75450661755060766,-0.12200500735643094,327,9.039115292345361,12.357589907902458,450,2.4393816677299007,2.6588761359742747,357,6.4900321083413282,13.120219713956633,356,1.4933176598749931,2.1275883997256515,342,6.1140364480937777,7.6693035512060561,333,6.9817304993047475,8.979745073768191,34,6.7508917300000002,6.6808205200000002,177,5.3679291962647957,6.5109667962489217,343,5.1503670677794489,6.738228966505095,15,0.74146844599999995,-3.1050906700000001,257,4.8671143214962798E-2,0.35667577297134001,72,8.4497598600000003,10.1485986,412,7.8320148809229728,14.43572556356969,322,0.15103619558535009,0.74855586193504564,294,5.3502649803261022,9.3992153776299077,373,7.4591854463512703,10.320616227050698,389,7.3343054886960601,9.743790495905488,222,2.9012296601372434,7.5231318089897998,201,1.9686569618121053,1.9841783753660602,80,8.3465480200000002,10.091565299999999,377,3.0408975358690071,2.6602505325350201,345,7.1072252119212909,9.7334006368689181,297,4.8105841760667722,5.724291400066047,428,4.325001095251368,5.0708702554562199,281,1.477663452221547,3.0510870667526055,254,1.1419442312216033,1.5742783532651146,376,0.46505274619487835,-0.22593091958698719,391,6.5585587679285684,8.6346855940950515,214,1.6941838803347231,0.83294517643265431,357,6.4900321083413282,13.120219713956633,423,4.7494204218260361,6.8569503933586979,163,5.4932355305844798,8.8656207961652012,408,4.5681849007135256,5.9608129255769073,183,2.3217560734071774,2.9248271345654651,66,1.1164723999999999,-7.8287546E-2,288,3.6787389497515921,5.4229141894762103,216,7.8903828523821495,6.7415408013276004,305,5.4747900828073686,7.2465913957509533,458,1.3578284498681548,2.5379222086592796,471,5.9742813871291389,7.870514320009943,417,7.3386603021936114,15.295872075750442,22,8.1017259500000005,12.679399800000001,305,5.4747900828073686,7.2465913957509533,391,6.5585587679285684,8.6346855940950515,310,7.1479073898209116,9.1696355865690773,172,7.3103128496753573,10.56882331609917,8,2.1716921,4.0845028299999999,60,4.5104675800000003,6.9694584800000001,315,8.9355246603105254,15.393548209679764,136,1.8514183165426168,2.2694190174681865,141,4.8005063115632574,5.6106886371162874,465,3.9416342223019907,5.536921984303949,111,3.8563894703487112,4.9257543803902486,116,5.3250493749477474,11.2900628245365,63,5.2446946700000003,7.8713711000000002,220,4.3773948230563153,7.335011065144073,306,0.96214034790407688,0.80495344925817491,434,3.5399816982625598,4.2841148978861083,368,4.4205173223964334,5.404310703761789,288,3.6787389497515921,5.4229141894762103,76,4.3412921999999998,4.0240330999999996,119,4.1661267499970478,7.4375455053121549,126,8.8349732676527726,11.917701081681987,94,6.2620883799999998,10.6125892,214,1.6941838803347231,0.83294517643265431,53,0.20667169799999999,-0.79117017499999998,51,9.9104819800000001,11.892123959999999,395,7.826619216503234,10.134721442862574,315,8.9355246603105254,15.393548209679764,405,6.3082639571029953,8.4171265027942468,31,5.6847760599999999,4.1550712799999996,428,4.325001095251368,5.0708702554562199,{"$f":"AI54","v":0.91641922374796647}]
[12,9.1948615199999999,11.032072100000001,65,2.1725842800000001,-0.318387121,90,6.6065631500000004,9.5195644500000007,354,1.4703597302266935,0.77110129201157374,238,8.9789489170835779,14.57182859908777,380,7.8589178589293081,10.051016488601196,291,9.3188617307808546,15.1632824539856,338,6.1399117043838665,8.2210826242295774,450,2.4393816677299007,2.6588761359742747,478,0.41872762724397994,-0.63339038621088262,371,6.7523814684139749,9.8569693030717573,26,8.4310446300000006,11.3286742,271,9.5002936567458018,15.389731578997759,190,3.6099991361880601,5.9099133664434191,235,0.67894489191479668,0.50897045137204855,236,6.7690190978073801,9.2265311699683146,80,8.3465480200000002,10.091565299999999,117,1.6340339228916534,3.020722199310383,380,7.8589178589293081,10.051016488601196,77,2.6233265499999998,4.44153764,46,6.9409220200000004,6.7436555499999997,433,3.27441585738101,6.7843168266616818,67,8.53363023,11.8219133,443,9.6400232339910481,14.714347343605308,37,3.9202844799999998,2.04055271,119,4.1661267499970478,7.4375455053121549,163,5.4932355305844798,8.8656207961652012,448,4.9931588576240138,7.2674600338665032,210,9.4908536981671787,13.202516086178253,132,2.3657539173435982,1.9008836040513479,210,9.4908536981671787,13.202516086178253,430,4.0231000638151926,4.5932348661614739,277,5.220468369479347,8.1139770160987776,59,0.11949396399999999,-4.5824346299999998,387,9.5004431501629956,12.75987320728431,89,2.3520277799999998,-0.517630912,410,1.4768568736947074,1.3799032819796315,68,4.59207945,2.4343364599999999,439,3.9366875209881425,4.3564057071213753,97,5.5722248099999998,7.5462324299999999,81,5.5414155999999997,8.21511411,268,4.8050001233502115,6.1785477163140996,413,9.7773770633914321,13.805124819802874,482,5.8149146706111843,7.78950536979365,168,5.7103770203424009,7.2397772694645726,362,7.0533094021657856,9.5051582595847144,212,5.3654831771327327,6.4624929186485636,131,6.8864912989983518,9.410603282295412,160,2.3790581557966028,5.6357215776136949,165,3.0401163617295479,3.5833705441942101,480,8.2796306061379212,11.034225795616823,75,4.4822054400000004,4.6762966099999996,317,4.941073579261861,6.3327469760680835,243,7.3723567430533041,14.15401139120323,178,7.2518105835745672,11.875647018657912,107,1.1405256196458247,1.0120546091450575,367,5.7603707681106009,7.7914720670936486,221,4.2438187682743411,6.2838912182060103,236,6.7690190978073801,9.2265311699683146,334,0.1426316554836049,-0.78786307693174251,104,2.7962367993366222,3.8294492481387614,217,8.7737972157628192,11.901876569481338,501,2.0269028791192145,1.7832891667725619,142,9.9112222145109907,14.010701314914378,399,4.1082974447572695,5.2853973502092071,224,8.8500932679654216,12.105880499957472,324,4.3558168742634829,7.801517982897999,64,2.3317131500000001,3.9683671,53,0.20667169799999999,-0.79117017499999998,383,3.7772115049966803,4.8172249658671555,221,4.2438187682743411,6.2838912182060103,2,7.7309444899999997,8.6631947,295,5.3604518039992683,8.1724568467567948,75,4.4822054400000004,4.6762966099999996,286,0.15446583210299014,-0.8391181197015869,396,8.2278637630366447,11.785310894543299,72,8.4497598600000003,10.1485986,457,7.7179870138134472,10.458313363579663,188,9.1345655578800589E-2,-1.4671504185821658,1,9.0921419300000004,9.2260561499999998,182,1.3086412443964068,3.6081103627702,439,3.9366875209881425,4.3564057071213753,112,4.3293947390416765,5.4820662630587123,380,7.8589178589293081,10.051016488601196,364,2.674927641791407,4.8361072334281729,{"$f":"AL54","v":0.94209795755843451}]
[13,5.69596444,8.7782791400000004,328,2.0438486082449536,1.771787990984288,296,8.233341992061245,13.716824070049993,263,6.5771345737093618,10.129726947775568,467,3.8746898569702637,5.1374500008896238,134,9.1500914337672956,14.553313377781,280,4.6960122517294334,6.3431212890244,150,6.8236248933967891,12.354040682638001,145,0.8525446832435013,2.9996479371763423,479,8.462811050415155,9.6409875244599998,125,2.4221504716819453,2.1387712771999832,248,3.9412545894168272,6.2827624013223673,141,4.8005063115632574,5.6106886371162874,468,2.121102408831459,2.606792530372414,115,5.7921047390135083,6.9372239234158073,260,0.7940843459245972,0.11729142010121001,176,3.50680669059515,4.9167801990209981,101,5.4458456762474583,6.6681100293613467,401,2.4874776446800251,2.5548488822556337,150,6.8236248933967891,12.354040682638001,441,9.3548784425746696,16.689508933402745,199,1.6954447009960338,1.7662608069999726,112,4.3293947390416765,5.4820662630587123,312,5.4160761701007898,7.0981108578805241,171,8.7780746245692143,13.506420648081406,349,4.9966891895952958,6.064861197109102,453,0.33555610413936954,-0.45375309177224987,19,5.9551803400000001,4.7732745999999997,202,6.996969959662005,8.8053679620889831,189,1.101807709501168,0.46254609360549703,93,9.7713714700000001,11.31715752,487,6.0398490469143589,8.00193117490468,144,6.6182337976023771,10.934469818299988,159,7.1432618799211589,9.2497141559072418,196,0.76803770988060238,-0.17529515458519196,332,0.61801842081518288,1.2424019630482599,358,6.8644644434118813,9.2775228103630116,73,6.3058183300000001,5.8214770199999997,229,9.4027331025672023,14.3929087483101,23,4.5135066899999998,4.2587103900000001,486,6.5694184699584923,13.472349693690731,334,0.1426316554836049,-0.78786307693174251,392,7.8642278245167496,10.695125370339451,285,6.6620714482949728,9.6321675585271631,427,6.9885348759584236,9.3455077581845476,22,8.1017259500000005,12.679399800000001,494,1.2218721087191309,2.2304470206533549,255,4.5506393858648675,5.838884714126932,280,4.6960122517294334,6.3431212890244,490,0.75450661755060766,-0.12200500735643094,372,0.41494044522567552,0.47240752731020907,114,1.252853786427286,1.0100640028655623,30,3.6021492500000001,6.0466772400000002,307,5.9573477802915509,7.9142668722253013,175,2.2315282967237082,2.4042547655017708,173,4.2856205396178044,5.7101114324544113,359,5.1636931133625286,7.3496835595638865,252,2.6702250271780237,2.925908317102361,280,4.6960122517294334,6.3431212890244,442,2.5956425287846496,2.7804630136276995,292,3.0610660275056034,8.1888671683822771,347,6.3247959995675895,7.8685728216588791,273,1.8815562943405251,1.750412100965411,158,6.5764931629664947,13.218822693597421,178,7.2518105835745672,11.875647018657912,216,7.8903828523821495,6.7415408013276004,342,6.1140364480937777,7.6693035512060561,307,5.9573477802915509,7.9142668722253013,112,4.3293947390416765,5.4820662630587123,12,9.1948615199999999,11.032072100000001,343,5.1503670677794489,6.738228966505095,79,1.39826337,1.12138749,98,4.4179373499999999,3.4445838200000001,385,5.9208963748429255,8.4062402559504612,9,4.5581386100000003,7.4699725700000004,485,2.8795624536466757,5.3634522958762441,84,8.6145668200000003,11.9266656,184,0.14145823444282613,-0.83671946230057703,457,7.7179870138134472,10.458313363579663,240,3.4208672870853274,8.9278844529987893,296,8.233341992061245,13.716824070049993,8,2.1716921,4.0845028299999999,167,5.6949934178282025,7.5872591807906486,17,2.1361076400000001,4.7004972599999997,354,1.4703597302266935,0.77110129201157374,{"$f":"AO54","v":0.92410354221750124}]
[14,2.3539153100000001,1.08322714,269,3.666581661681152,5.3853285914882827,51,9.9104819800000001,11.892123959999999,221,4.2438187682743411,6.2838912182060103,480,8.2796306061379212,11.034225795616823,419,8.1956683960958472,11.456945995606301,148,1.1377542072032565,4.1653095983966999,353,5.644777953613076,8.6480184410304002,440,9.9083344028830922,14.030196260761389,100,5.1634547445665042,8.3874278988680597,235,0.67894489191479668,0.50897045137204855,67,8.53363023,11.8219133,194,3.6183896033488883,4.3987562597794678,316,8.141106430121285,13.610480114295285,421,0.54660265947950926,-0.18653225912045091,319,0.56592228775294018,0.98820446181555521,133,2.6830196025925201,3.0389984183887524,416,4.8823991410948615,6.4360206756826281,148,1.1377542072032565,4.1653095983966999,22,8.1017259500000005,12.679399800000001,264,0.38670715099446085,1.534111384119754,121,4.2728411131601867,5.2206182647121677,92,8.0506673899999992,11.573889400000001,353,5.644777953613076,8.6480184410304002,83,2.3124036499999998,2.1144006599999998,183,2.3217560734071774,2.9248271345654651,363,8.8903958428841925,12.042877971650041,9,4.5581386100000003,7.4699725700000004,39,2.7793912399999998,5.3105028299999999,261,9.0074577620333436,13.253751216105011,34,6.7508917300000002,6.6808205200000002,316,8.141106430121285,13.610480114295285,452,6.6479377130863604,10.67406086654605,54,6.4843481000000001,10.3540317,142,9.9112222145109907,14.010701314914378,60,4.5104675800000003,6.9694584800000001,125,2.4221504716819453,2.1387712771999832,220,4.3773948230563153,7.335011065144073,374,7.9574460251726986,16.222075355994896,416,4.8823991410948615,6.4360206756826281,454,5.9778139928798435,8.9311886960292632,176,3.50680669059515,4.9167801990209981,353,5.644777953613076,8.6480184410304002,52,8.4212998199999998,10.24603712,348,6.2277472888214858,7.9355552105199703,100,5.1634547445665042,8.3874278988680597,357,6.4900321083413282,13.120219713956633,6,9.5395347800000003,13.2443258,439,3.9366875209881425,4.3564057071213753,134,9.1500914337672956,14.553313377781,100,5.1634547445665042,8.3874278988680597,240,3.4208672870853274,8.9278844529987893,43,5.1334551900000003,8.2972361899999996,185,8.1699973206037448,11.341782431199082,220,4.3773948230563153,7.335011065144073,363,8.8903958428841925,12.042877971650041,477,3.1588429852097644,4.9684866719746434,219,1.4135924929262988,3.7481662616878935,271,9.5002936567458018,15.389731578997759,294,5.3502649803261022,9.3992153776299077,423,4.7494204218260361,6.8569503933586979,155,4.8256411591609805,6.1600312882596793,108,6.0027236613643931,7.8726365751424154,348,6.2277472888214858,7.9355552105199703,283,6.1842725200147726,7.808466476660179,318,3.8323661245541629,4.9005898149337508,226,9.2500602122973614,11.351208399530799,312,5.4160761701007898,7.0981108578805241,225,4.7927455702920296,7.82741515961016,484,4.0045094149045024,5.7257781052145909,454,5.9778139928798435,8.9311886960292632,193,7.3238383677391106,9.8486686017351293,367,5.7603707681106009,7.7914720670936486,44,2.5187078600000001,3.9538099999999998,288,3.6787389497515921,5.4229141894762103,331,1.3243081533701484,1.0602961618497493,435,3.8642261794273658,9.2796652551715511,251,7.6582415224492912,10.144178208610738,239,1.6871419809884225,2.1697972727457491,275,7.3374352986168123,9.5748144024567914,61,5.6862280099999998,9.6901438100000004,440,9.9083344028830922,14.030196260761389,319,0.56592228775294018,0.98820446181555521,360,4.8947500606796979,7.7045339464278291,422,8.900442607690513,12.35432214856479,{"$f":"AR54","v":0.93306140607850652}]
[15,0.74146844599999995,-3.1050906700000001,184,0.14145823444282613,-0.83671946230057703,444,4.5829127045120988,9.7188359995582747,172,7.3103128496753573,10.56882331609917,42,7.5593373799999997,12.683575100000001,341,9.9761232919260046,13.980574358054476,218,9.1766607303114167,13.3242806178202,235,0.67894489191479668,0.50897045137204855,77,2.6233265499999998,4.44153764,40,8.0786452499999992,8.0379548700000001,25,3.2733277300000001,2.7018407,353,5.644777953613076,8.6480184410304002,182,1.3086412443964068,3.6081103627702,136,1.8514183165426168,2.2694190174681865,438,4.3215582402596375,5.5561618103124433,384,5.4766934263239371,7.1280835430655349,290,3.5826281094704382,4.30831352958017,455,6.075263980189149,11.282461750971585,324,4.3558168742634829,7.801517982897999,383,3.7772115049966803,4.8172249658671555,46,6.9409220200000004,6.7436555499999997,39,2.7793912399999998,5.3105028299999999,259,6.5239562867684793,8.5470040434976404,88,8.87683015,11.8436226,271,9.5002936567458018,15.389731578997759,469,9.4131592375111506,13.251051764366048,461,4.8845852752784396,6.6348643622707826,137,8.8662054094358478,15.395163428346962,127,6.3462433024678511,11.0887658263538,324,4.3558168742634829,7.801517982897999,492,6.5324341693541577,13.285598183869865,144,6.6182337976023771,10.934469818299988,392,7.8642278245167496,10.695125370339451,235,0.67894489191479668,0.50897045137204855,65,2.1725842800000001,-0.318387121,393,1.8554865276435994,1.8222645960802755,167,5.6949934178282025,7.5872591807906486,378,8.3747480853332235,10.510650911269501,81,5.5414155999999997,8.21511411,55,9.1472265700000008,9.7148863700000003,447,1.7217897250392489,1.4757734328180563,479,8.462811050415155,9.6409875244599998,175,2.2315282967237082,2.4042547655017708,46,6.9409220200000004,6.7436555499999997,48,1.16874791,-3.1067277500000001,164,9.9656062706024162,13.997749013626128,376,0.46505274619487835,-0.22593091958698719,321,8.6432983083976556,11.795238857365748,441,9.3548784425746696,16.689508933402745,189,1.101807709501168,0.46254609360549703,419,8.1956683960958472,11.456945995606301,316,8.141106430121285,13.610480114295285,497,0.22086403318721359,-1.3690361231285952,9,4.5581386100000003,7.4699725700000004,331,1.3243081533701484,1.0602961618497493,18,6.2052832000000002,8.9630255999999999,208,1.5051788029239521,4.9638057506063475,450,2.4393816677299007,2.6588761359742747,476,4.76923728814028,5.3629003049054003,247,3.9683628429778928,4.5622538904374883,346,1.1915612553786969,2.2692563540303219,219,1.4135924929262988,3.7481662616878935,317,4.941073579261861,6.3327469760680835,118,7.9459313192243197,12.866085688882031,47,3.4734701800000001,0.35695392199999998,178,7.2518105835745672,11.875647018657912,340,1.7998922865176414,1.8595912072524055,213,6.6983500438591488,10.792994407672209,18,6.2052832000000002,8.9630255999999999,436,4.0820805396994864,8.7544259883443516,294,5.3502649803261022,9.3992153776299077,53,0.20667169799999999,-0.79117017499999998,52,8.4212998199999998,10.24603712,373,7.4591854463512703,10.320616227050698,306,0.96214034790407688,0.80495344925817491,421,0.54660265947950926,-0.18653225912045091,299,6.8971120346072663,10.373914010326741,467,3.8746898569702637,5.1374500008896238,36,1.6648953900000001,1.8233785600000001,392,7.8642278245167496,10.695125370339451,470,3.2534896362086507,3.2825058166553216,344,1.5135708129106806,4.6587681243049923,269,3.666581661681152,5.3853285914882827,226,9.2500602122973614,11.351208399530799,458,1.3578284498681548,2.5379222086592796,{"$f":"AU54","v":0.84648371332105987}]
[16,1.20622191,-1.56819643,438,4.3215582402596375,5.5561618103124433,108,6.0027236613643931,7.8726365751424154,419,8.1956683960958472,11.456945995606301,122,7.182313270619229,9.864613996322797,99,8.4986549606923578,15.265962912187948,445,6.9115955179206656,9.4989223867298804,122,7.182313270619229,9.864613996322797,266,7.2161926911738306,9.8859229973063734,190,3.6099991361880601,5.9099133664434191,370,4.4215250791477079,10.527068064918168,446,1.7654113582191089,2.141253773149888,498,9.7910890322286335,13.160044791377686,164,9.9656062706024162,13.997749013626128,330,2.8377527642991263,3.3333387812130022,445,6.9115955179206656,9.4989223867298804,64,2.3317131500000001,3.9683671,36,1.6648953900000001,1.8233785600000001,225,4.7927455702920296,7.82741515961016,13,5.69596444,8.7782791400000004,120,0.35354353741588795,-1.0731643416126662,2,7.7309444899999997,8.6631947,58,5.9462980999999999,9.7186380799999998,44,2.5187078600000001,3.9538099999999998,121,4.2728411131601867,5.2206182647121677,187,6.519533521942888,9.254708349873745,367,5.7603707681106009,7.7914720670936486,120,0.35354353741588795,-1.0731643416126662,210,9.4908536981671787,13.202516086178253,196,0.76803770988060238,-0.17529515458519196,441,9.3548784425746696,16.689508933402745,361,7.7104019408160536,11.235786062738599,407,9.4578980321574022,13.162653526693784,115,5.7921047390135083,6.9372239234158073,421,0.54660265947950926,-0.18653225912045091,487,6.0398490469143589,8.00193117490468,497,0.22086403318721359,-1.3690361231285952,144,6.6182337976023771,10.934469818299988,362,7.0533094021657856,9.5051582595847144,327,9.039115292345361,12.357589907902458,46,6.9409220200000004,6.7436555499999997,212,5.3654831771327327,6.4624929186485636,241,1.4419552557102744,1.2654029560604627,271,9.5002936567458018,15.389731578997759,374,7.9574460251726986,16.222075355994896,23,4.5135066899999998,4.2587103900000001,159,7.1432618799211589,9.2497141559072418,196,0.76803770988060238,-0.17529515458519196,287,7.7959736246489175,11.006525900573429,115,5.7921047390135083,6.9372239234158073,420,6.569000716891928,8.1677036913542587,196,0.76803770988060238,-0.17529515458519196,446,1.7654113582191089,2.141253773149888,265,0.36522624383226177,-0.19922227605221843,85,1.82822638,-2.92768506,383,3.7772115049966803,4.8172249658671555,140,0.76271523417664078,0.2338329209201615,290,3.5826281094704382,4.30831352958017,33,2.4482117699999999,-1.0929169599999999,451,9.655504892810324,13.602996726514972,297,4.8105841760667722,5.724291400066047,75,4.4822054400000004,4.6762966099999996,372,0.41494044522567552,0.47240752731020907,164,9.9656062706024162,13.997749013626128,376,0.46505274619487835,-0.22593091958698719,9,4.5581386100000003,7.4699725700000004,114,1.252853786427286,1.0100640028655623,46,6.9409220200000004,6.7436555499999997,43,5.1334551900000003,8.2972361899999996,447,1.7217897250392489,1.4757734328180563,175,2.2315282967237082,2.4042547655017708,100,5.1634547445665042,8.3874278988680597,226,9.2500602122973614,11.351208399530799,141,4.8005063115632574,5.6106886371162874,121,4.2728411131601867,5.2206182647121677,259,6.5239562867684793,8.5470040434976404,32,4.6696612699999998,5.3886031499999998,77,2.6233265499999998,4.44153764,278,0.19869643820853655,-1.548675626708963,252,2.6702250271780237,2.925908317102361,371,6.7523814684139749,9.8569693030717573,100,5.1634547445665042,8.3874278988680597,361,7.7104019408160536,11.235786062738599,237,6.4862939147936549,13.612853793873301,216,7.8903828523821495,6.7415408013276004,{"$f":"AX54","v":0.95162581296707682}]
[17,2.1361076400000001,4.7004972599999997,484,4.0045094149045024,5.7257781052145909,381,9.1319343172330729,12.552913191434319,14,2.3539153100000001,{"$f":"IF(J18<>\"\",INDEX($C$2:$C$502,J18),\"\")","v":1.08322714},24,9.6908459800000006,{"$f":"IF(M18<>\"\",INDEX($C$2:$C$502,M18),\"\")","v":12.150754600000001},53,0.20667169799999999,{"$f":"IF(P18<>\"\",INDEX($C$2:$C$502,P18),\"\")","v":-0.79117017499999998},322,0.15103619558535009,{"$f":"IF(S18<>\"\",INDEX($C$2:$C$502,S18),\"\")","v":0.74855586193504564},110,2.5899652593558353,{"$f":"IF(V18<>\"\",INDEX($C$2:$C$502,V18),\"\")","v":2.9413220452259869},339,6.2612765442406459,{"$f":"IF(Y18<>\"\",INDEX($C$2:$C$502,Y18),\"\")","v":9.0131252623016547},454,5.9778139928798435,{"$f":"IF(AB18<>\"\",INDEX($C$2:$C$502,AB18),\"\")","v":8.9311886960292632},331,1.3243081533701484,{"$f":"IF(AE18<>\"\",INDEX($C$2:$C$502,AE18),\"\")","v":1.0602961618497493},380,7.8589178589293081,{"$f":"IF(AH18<>\"\",INDEX($C$2:$C$502,AH18),\"\")","v":10.051016488601196},403,6.1267959922547099,{"$f":"IF(AK18<>\"\",INDEX($C$2:$C$502,AK18),\"\")","v":11.912147368145201},267,6.5110817307785851,{"$f":"IF(AN18<>\"\",INDEX($C$2:$C$502,AN18),\"\")","v":13.800060184140401},415,9.7094675975974916,{"$f":"IF(AQ18<>\"\",INDEX($C$2:$C$502,AQ18),\"\")","v":13.896482453995},307,5.9573477802915509,{"$f":"IF(AT18<>\"\",INDEX($C$2:$C$502,AT18),\"\")","v":7.9142668722253013},416,4.8823991410948615,{"$f":"IF(AW18<>\"\",INDEX($C$2:$C$502,AW18),\"\")","v":6.4360206756826281},305,5.4747900828073686,{"$f":"IF(AZ18<>\"\",INDEX($C$2:$C$502,AZ18),\"\")","v":7.2465913957509533},61,5.6862280099999998,{"$f":"IF(BC18<>\"\",INDEX($C$2:$C$502,BC18),\"\")","v":9.6901438100000004},280,4.6960122517294334,{"$f":"IF(BF18<>\"\",INDEX($C$2:$C$502,BF18),\"\")","v":6.3431212890244},212,5.3654831771327327,{"$f":"IF(BI18<>\"\",INDEX($C$2:$C$502,BI18),\"\")","v":6.4624929186485636},1,9.0921419300000004,{"$f":"IF(BL18<>\"\",INDEX($C$2:$C$502,BL18),\"\")","v":9.2260561499999998},22,8.1017259500000005,{"$f":"IF(BO18<>\"\",INDEX($C$2:$C$502,BO18),\"\")","v":12.679399800000001},489,2.3562173660461116,{"$f":"IF(BR18<>\"\",INDEX($C$2:$C$502,BR18),\"\")","v":3.3868039256993798},398,5.9640576353372721,{"$f":"IF(BU18<>\"\",INDEX($C$2:$C$502,BU18),\"\")","v":7.3864178093434401},195,7.8962395661564555,{"$f":"IF(BX18<>\"\",INDEX($C$2:$C$502,BX18),\"\")","v":10.467689897148318},191,8.862057695934995,{"$f":"IF(CA18<>\"\",INDEX($C$2:$C$502,CA18),\"\")","v":12.368626358792984},20,8.97702256,{"$f":"IF(CD18<>\"\",INDEX($C$2:$C$502,CD18),\"\")","v":12.3319163},122,7.182313270619229,{"$f":"IF(CG18<>\"\",INDEX($C$2:$C$502,CG18),\"\")","v":9.864613996322797},468,2.121102408831459,{"$f":"IF(CJ18<>\"\",INDEX($C$2:$C$502,CJ18),\"\")","v":2.606792530372414},349,4.9966891895952958,{"$f":"IF(CM18<>\"\",INDEX($C$2:$C$502,CM18),\"\")","v":6.064861197109102},117,1.6340339228916534,{"$f":"IF(CP18<>\"\",INDEX($C$2:$C$502,CP18),\"\")","v":3.020722199310383},167,5.6949934178282025,{"$f":"IF(CS18<>\"\",INDEX($C$2:$C$502,CS18),\"\")","v":7.5872591807906486},45,9.3723747399999997,{"$f":"IF(CV18<>\"\",INDEX($C$2:$C$502,CV18),\"\")","v":9.6176463699999992},149,8.0900216626433252,{"$f":"IF(CY18<>\"\",INDEX($C$2:$C$502,CY18),\"\")","v":10.603349573558262},380,7.8589178589293081,{"$f":"IF(DB18<>\"\",INDEX($C$2:$C$502,DB18),\"\")","v":10.051016488601196},469,9.4131592375111506,{"$f":"IF(DE18<>\"\",INDEX($C$2:$C$502,DE18),\"\")","v":13.251051764366048},86,1.25997063,{"$f":"IF(DH18<>\"\",INDEX($C$2:$C$502,DH18),\"\")","v":0.88099889499999995},291,9.3188617307808546,{"$f":"IF(DK18<>\"\",INDEX($C$2:$C$502,DK18),\"\")","v":15.1632824539856},126,8.8349732676527726,{"$f":"IF(DN18<>\"\",INDEX($C$2:$C$502,DN18),\"\")","v":11.917701081681987},443,9.6400232339910481,{"$f":"IF(DQ18<>\"\",INDEX($C$2:$C$502,DQ18),\"\")","v":14.714347343605308},3,7.9678431400000003,{"$f":"IF(DT18<>\"\",INDEX($C$2:$C$502,DT18),\"\")","v":7.8402365899999999},396,8.2278637630366447,{"$f":"IF(DW18<>\"\",INDEX($C$2:$C$502,DW18),\"\")","v":11.785310894543299},290,3.5826281094704382,{"$f":"IF(DZ18<>\"\",INDEX($C$2:$C$502,DZ18),\"\")","v":4.30831352958017},362,7.0533094021657856,{"$f":"IF(EC18<>\"\",INDEX($C$2:$C$502,EC18),\"\")","v":9.5051582595847144},25,3.2733277300000001,{"$f":"IF(EF18<>\"\",INDEX($C$2:$C$502,EF18),\"\")","v":2.7018407},178,7.2518105835745672,{"$f":"IF(EI18<>\"\",INDEX($C$2:$C$502,EI18),\"\")","v":11.875647018657912},67,8.53363023,{"$f":"IF(EL18<>\"\",INDEX($C$2:$C$502,EL18),\"\")","v":11.8219133},397,6.7308461320085833E-2,{"$f":"IF(EO18<>\"\",INDEX($C$2:$C$502,EO18),\"\")","v":-0.59702735834084919},360,4.8947500606796979,{"$f":"IF(ER18<>\"\",INDEX($C$2:$C$502,ER18),\"\")","v":7.7045339464278291},55,9.1472265700000008,{"$f":"IF(EU18<>\"\",INDEX($C$2:$C$502,EU18),\"\")","v":9.7148863700000003},297,4.8105841760667722,{"$f":"IF(EX18<>\"\",INDEX($C$2:$C$502,EX18),\"\")","v":5.724291400066047},18,6.2052832000000002,8.9630255999999999,471,5.9742813871291389,7.870514320009943,254,1.1419442312216033,1.5742783532651146,138,7.2415678080261969,9.5755070649732623,384,5.4766934263239371,7.1280835430655349,67,8.53363023,11.8219133,62,6.5333036399999997,9.8579278600000002,247,3.9683628429778928,4.5622538904374883,125,2.4221504716819453,2.1387712771999832,158,6.5764931629664947,13.218822693597421,219,1.4135924929262988,3.7481662616878935,343,5.1503670677794489,6.738228966505095,222,2.9012296601372434,7.5231318089897998,212,5.3654831771327327,6.4624929186485636,405,6.3082639571029953,8.4171265027942468,97,5.5722248099999998,7.5462324299999999,257,4.8671143214962798E-2,0.35667577297134001,493,2.4976878149009263,2.8511708533162654,411,4.5011269504434015,7.9390670251094289,439,3.9366875209881425,4.3564057071213753,400,1.3928145321172103,4.6426942183984741,131,6.8864912989983518,9.410603282295412,368,4.4205173223964334,5.404310703761789,131,6.8864912989983518,9.410603282295412,489,2.3562173660461116,3.3868039256993798,204,3.308265585188872,6.8379327276228423,490,0.75450661755060766,-0.12200500735643094,191,8.862057695934995,12.368626358792984,433,3.27441585738101,6.7843168266616818,44,2.5187078600000001,3.9538099999999998,443,9.6400232339910481,14.714347343605308,356,1.4933176598749931,2.1275883997256515,339,6.2612765442406459,9.0131252623016547,{"$f":"BA54","v":0.8959262030439864}]
[18,6.2052832000000002,8.9630255999999999,"","","","","","","","","","","","","","","","","","","","","","","","","","","","","","","","","","","","","","","","","","","","","","","","","","","","","","","","","","","","","","","","","","","","","","","","","","","","","","","","","","","","","","","","","","","","","","","","","","","","","","","","","","","","","","","","","","","","","","","","","","","","","","","","","","","","","","","","","","","","","","","","","","","","","","","","","","","","","","","","","","","","","","","","","","","","","","","","","","","","","","","","","","","","","","","","","","","","","","","","","","","","","","","","","","","","","","","","","","","","","","","","","","","","","","","","","","","","","","","","","","","","","","","","","","","","",{"$f":"BD54","v":0.92399964966967063}]
[19,5.9551803400000001,4.7732745999999997,"","","","","","","","","","","","","","","","","","","","","","","","","","","","","","","","","","","","","","","","","","","","","","","","","","","","","","","","","","","","","","","","","","","","","","","","","","","","","","","","","","","","","","","","","","","","","","","","","","","","","","","","","","","","","","","","","","","","","","","","","","","","","","","","","","","","","","","","","","","","","","","","","","","","","","","","","","","","","","","","","","","","","","","","","","","","","","","","","","","","","","","","","","","","","","","","","","","","","","","","","","","","","","","","","","","","","","","","","","","","","","","","","","","","","","","","","","","","","","","","","","","","","","","","","","","","",{"$f":"BG54","v":0.90133735598032061}]
[20,8.97702256,12.3319163,"","","","","","","","","","","","","","","","","","","","","","","","","","","","","","","","","","","","","","","","","","","","","","","","","","","","","","","","","","","","","","","","","","","","","","","","","","","","","","","","","","","","","","","","","","","","","","","","","","","","","","","","","","","","","","","","","","","","","","","","","","","","","","","","","","","","","","","","","","","","","","","","","","","","","","","","","","","","","","","","","","","","","","","","","","","","","","","","","","","","","","","","","","","","","","","","","","","","","","","","","","","","","","","","","","","","","","","","","","","","","","","","","","","","","","","","","","","","","","","","","","","","","","","","","","","","",{"$f":"BJ54","v":0.94379628240658531}]
[21,9.6300481999999992,11.962618300000001,"","","","","","","","","","","","","","","","","","","","","","","","","","","","","","","","","","","","","","","","","","","","","","","","","","","","","","","","","","","","","","","","","","","","","","","","","","","","","","","","","","","","","","","","","","","","","","","","","","","","","","","","","","","","","","","","","","","","","","","","","","","","","","","","","","","","","","","","","","","","","","","","","","","","","","","","","","","","","","","","","","","","","","","","","","","","","","","","","","","","","","","","","","","","","","","","","","","","","","","","","","","","","","","","","","","","","","","","","","","","","","","","","","","","","","","","","","","","","","","","","","","","","","","","","","","","",{"$f":"BM54","v":0.92191587184092927}]
[22,8.1017259500000005,12.679399800000001,"","","","","","","","","","","","","","","","","","","","","","","","","","","","","","","","","","","","","","","","","","","","","","","","","","","","","","","","","","","","","","","","","","","","","","","","","","","","","","","","","","","","","","","","","","","","","","","","","","","","","","","","","","","","","","","","","","","","","","","","","","","","","","","","","","","","","","","","","","","","","","","","","","","","","","","","","","","","","","","","","","","","","","","","","","","","","","","","","","","","","","","","","","","","","","","","","","","","","","","","","","","","","","","","","","","","","","","","","","","","","","","","","","","","","","","","","","","","","","","","","","","","","","","","","","","","",{"$f":"BP54","v":0.96289215914087445}]
[23,4.5135066899999998,4.2587103900000001,"","","","","","","","","","","","","","","","","","","","","","","","","","","","","","","","","","","","","","","","","","","","","","","","","","","","","","","","","","","","","","","","","","","","","","","","","","","","","","","","","","","","","","","","","","","","","","","","","","","","","","","","","","","","","","","","","","","","","","","","","","","","","","","","","","","","","","","","","","","","","","","","","","","","","","","","","","","","","","","","","","","","","","","","","","","","","","","","","","","","","","","","","","","","","","","","","","","","","","","","","","","","","","","","","","","","","","","","","","","","","","","","","","","","","","","","","","","","","","","","","","","","","","","","","","","","",{"$f":"BS54","v":0.96419885546311135}]
[24,9.6908459800000006,12.150754600000001,"","","","","","","","","","","","","","","","","","","","","","","","","","","","","","","","","","","","","","","","","","","","","","","","","","","","","","","","","","","","","","","","","","","","","","","","","","","","","","","","","","","","","","","","","","","","","","","","","","","","","","","","","","","","","","","","","","","","","","","","","","","","","","","","","","","","","","","","","","","","","","","","","","","","","","","","","","","","","","","","","","","","","","","","","","","","","","","","","","","","","","","","","","","","","","","","","","","","","","","","","","","","","","","","","","","","","","","","","","","","","","","","","","","","","","","","","","","","","","","","","","","","","","","","","","","","",{"$f":"BV54","v":0.90889728471437237}]
[25,3.2733277300000001,2.7018407,"","","","","","","","","","","","","","","","","","","","","","","","","","","","","","","","","","","","","","","","","","","","","","","","","","","","","","","","","","","","","","","","","","","","","","","","","","","","","","","","","","","","","","","","","","","","","","","","","","","","","","","","","","","","","","","","","","","","","","","","","","","","","","","","","","","","","","","","","","","","","","","","","","","","","","","","","","","","","","","","","","","","","","","","","","","","","","","","","","","","","","","","","","","","","","","","","","","","","","","","","","","","","","","","","","","","","","","","","","","","","","","","","","","","","","","","","","","","","","","","","","","","","","","","","","","","",{"$f":"BY54","v":0.89546820663677884}]
[26,8.4310446300000006,11.3286742,"","","","","","","","","","","","","","","","","","","","","","","","","","","","","","","","","","","","","","","","","","","","","","","","","","","","","","","","","","","","","","","","","","","","","","","","","","","","","","","","","","","","","","","","","","","","","","","","","","","","","","","","","","","","","","","","","","","","","","","","","","","","","","","","","","","","","","","","","","","","","","","","","","","","","","","","","","","","","","","","","","","","","","","","","","","","","","","","","","","","","","","","","","","","","","","","","","","","","","","","","","","","","","","","","","","","","","","","","","","","","","","","","","","","","","","","","","","","","","","","","","","","","","","","","","","","",{"$f":"CB54","v":0.94782713315177569}]
[27,6.0616587600000003,5.5536239399999996,"","","","","","","","","","","","","","","","","","","","","","","","","","","","","","","","","","","","","","","","","","","","","","","","","","","","","","","","","","","","","","","","","","","","","","","","","","","","","","","","","","","","","","","","","","","","","","","","","","","","","","","","","","","","","","","","","","","","","","","","","","","","","","","","","","","","","","","","","","","","","","","","","","","","","","","","","","","","","","","","","","","","","","","","","","","","","","","","","","","","","","","","","","","","","","","","","","","","","","","","","","","","","","","","","","","","","","","","","","","","","","","","","","","","","","","","","","","","","","","","","","","","","","","","","","","","",{"$f":"CE54","v":0.95647413032468043}]
[28,4.4946079699999997,7.0527013700000003,"","","","","","","","","","","","","","","","","","","","","","","","","","","","","","","","","","","","","","","","","","","","","","","","","","","","","","","","","","","","","","","","","","","","","","","","","","","","","","","","","","","","","","","","","","","","","","","","","","","","","","","","","","","","","","","","","","","","","","","","","","","","","","","","","","","","","","","","","","","","","","","","","","","","","","","","","","","","","","","","","","","","","","","","","","","","","","","","","","","","","","","","","","","","","","","","","","","","","","","","","","","","","","","","","","","","","","","","","","","","","","","","","","","","","","","","","","","","","","","","","","","","","","","","","","","","",{"$f":"CH54","v":0.96652827716831702}]
[29,4.6090868499999997,2.6041155800000002,"","","","","","","","","","","","","","","","","","","","","","","","","","","","","","","","","","","","","","","","","","","","","","","","","","","","","","","","","","","","","","","","","","","","","","","","","","","","","","","","","","","","","","","","","","","","","","","","","","","","","","","","","","","","","","","","","","","","","","","","","","","","","","","","","","","","","","","","","","","","","","","","","","","","","","","","","","","","","","","","","","","","","","","","","","","","","","","","","","","","","","","","","","","","","","","","","","","","","","","","","","","","","","","","","","","","","","","","","","","","","","","","","","","","","","","","","","","","","","","","","","","","","","","","","","","","",{"$f":"CK54","v":0.9824826397246077}]
[30,3.6021492500000001,6.0466772400000002,"","","","","","","","","","","","","","","","","","","","","","","","","","","","","","","","","","","","","","","","","","","","","","","","","","","","","","","","","","","","","","","","","","","","","","","","","","","","","","","","","","","","","","","","","","","","","","","","","","","","","","","","","","","","","","","","","","","","","","","","","","","","","","","","","","","","","","","","","","","","","","","","","","","","","","","","","","","","","","","","","","","","","","","","","","","","","","","","","","","","","","","","","","","","","","","","","","","","","","","","","","","","","","","","","","","","","","","","","","","","","","","","","","","","","","","","","","","","","","","","","","","","","","","","","","","","",{"$f":"CN54","v":0.89720276611843464}]
[31,5.6847760599999999,4.1550712799999996,"","","","","","","","","","","","","","","","","","","","","","","","","","","","","","","","","","","","","","","","","","","","","","","","","","","","","","","","","","","","","","","","","","","","","","","","","","","","","","","","","","","","","","","","","","","","","","","","","","","","","","","","","","","","","","","","","","","","","","","","","","","","","","","","","","","","","","","","","","","","","","","","","","","","","","","","","","","","","","","","","","","","","","","","","","","","","","","","","","","","","","","","","","","","","","","","","","","","","","","","","","","","","","","","","","","","","","","","","","","","","","","","","","","","","","","","","","","","","","","","","","","","","","","","","","","","",{"$f":"CQ54","v":0.95411831782942236}]
[32,4.6696612699999998,5.3886031499999998,"","","","","","","","","","","","","","","","","","","","","","","","","","","","","","","","","","","","","","","","","","","","","","","","","","","","","","","","","","","","","","","","","","","","","","","","","","","","","","","","","","","","","","","","","","","","","","","","","","","","","","","","","","","","","","","","","","","","","","","","","","","","","","","","","","","","","","","","","","","","","","","","","","","","","","","","","","","","","","","","","","","","","","","","","","","","","","","","","","","","","","","","","","","","","","","","","","","","","","","","","","","","","","","","","","","","","","","","","","","","","","","","","","","","","","","","","","","","","","","","","","","","","","","","","","","","",{"$f":"CT54","v":0.92477431353213579}]
[33,2.4482117699999999,-1.0929169599999999,{"$f":"IF($A34<=n,INT(501*RAND()+1),\"\")","v":""},"","",{"$f":"IF($A34<=n,INT(501*RAND()+1),\"\")","v":""},"","",{"$f":"IF($A34<=n,INT(501*RAND()+1),\"\")","v":""},{"$f":"IF(J34<>\"\",INDEX($B$2:$B$502,J34),\"\")","v":""},"",{"$f":"IF($A34<=n,INT(501*RAND()+1),\"\")","v":""},{"$f":"IF(M34<>\"\",INDEX($B$2:$B$502,M34),\"\")","v":""},"",{"$f":"IF($A34<=n,INT(501*RAND()+1),\"\")","v":""},{"$f":"IF(P34<>\"\",INDEX($B$2:$B$502,P34),\"\")","v":""},"",{"$f":"IF($A34<=n,INT(501*RAND()+1),\"\")","v":""},{"$f":"IF(S34<>\"\",INDEX($B$2:$B$502,S34),\"\")","v":""},"",{"$f":"IF($A34<=n,INT(501*RAND()+1),\"\")","v":""},{"$f":"IF(V34<>\"\",INDEX($B$2:$B$502,V34),\"\")","v":""},"",{"$f":"IF($A34<=n,INT(501*RAND()+1),\"\")","v":""},{"$f":"IF(Y34<>\"\",INDEX($B$2:$B$502,Y34),\"\")","v":""},"",{"$f":"IF($A34<=n,INT(501*RAND()+1),\"\")","v":""},{"$f":"IF(AB34<>\"\",INDEX($B$2:$B$502,AB34),\"\")","v":""},"",{"$f":"IF($A34<=n,INT(501*RAND()+1),\"\")","v":""},{"$f":"IF(AE34<>\"\",INDEX($B$2:$B$502,AE34),\"\")","v":""},"",{"$f":"IF($A34<=n,INT(501*RAND()+1),\"\")","v":""},{"$f":"IF(AH34<>\"\",INDEX($B$2:$B$502,AH34),\"\")","v":""},"",{"$f":"IF($A34<=n,INT(501*RAND()+1),\"\")","v":""},{"$f":"IF(AK34<>\"\",INDEX($B$2:$B$502,AK34),\"\")","v":""},"",{"$f":"IF($A34<=n,INT(501*RAND()+1),\"\")","v":""},{"$f":"IF(AN34<>\"\",INDEX($B$2:$B$502,AN34),\"\")","v":""},"",{"$f":"IF($A34<=n,INT(501*RAND()+1),\"\")","v":""},{"$f":"IF(AQ34<>\"\",INDEX($B$2:$B$502,AQ34),\"\")","v":""},"",{"$f":"IF($A34<=n,INT(501*RAND()+1),\"\")","v":""},{"$f":"IF(AT34<>\"\",INDEX($B$2:$B$502,AT34),\"\")","v":""},"",{"$f":"IF($A34<=n,INT(501*RAND()+1),\"\")","v":""},{"$f":"IF(AW34<>\"\",INDEX($B$2:$B$502,AW34),\"\")","v":""},"",{"$f":"IF($A34<=n,INT(501*RAND()+1),\"\")","v":""},{"$f":"IF(AZ34<>\"\",INDEX($B$2:$B$502,AZ34),\"\")","v":""},"",{"$f":"IF($A34<=n,INT(501*RAND()+1),\"\")","v":""},{"$f":"IF(BC34<>\"\",INDEX($B$2:$B$502,BC34),\"\")","v":""},"",{"$f":"IF($A34<=n,INT(501*RAND()+1),\"\")","v":""},{"$f":"IF(BF34<>\"\",INDEX($B$2:$B$502,BF34),\"\")","v":""},"",{"$f":"IF($A34<=n,INT(501*RAND()+1),\"\")","v":""},{"$f":"IF(BI34<>\"\",INDEX($B$2:$B$502,BI34),\"\")","v":""},"",{"$f":"IF($A34<=n,INT(501*RAND()+1),\"\")","v":""},{"$f":"IF(BL34<>\"\",INDEX($B$2:$B$502,BL34),\"\")","v":""},"",{"$f":"IF($A34<=n,INT(501*RAND()+1),\"\")","v":""},{"$f":"IF(BO34<>\"\",INDEX($B$2:$B$502,BO34),\"\")","v":""},"",{"$f":"IF($A34<=n,INT(501*RAND()+1),\"\")","v":""},{"$f":"IF(BR34<>\"\",INDEX($B$2:$B$502,BR34),\"\")","v":""},"",{"$f":"IF($A34<=n,INT(501*RAND()+1),\"\")","v":""},{"$f":"IF(BU34<>\"\",INDEX($B$2:$B$502,BU34),\"\")","v":""},"",{"$f":"IF($A34<=n,INT(501*RAND()+1),\"\")","v":""},{"$f":"IF(BX34<>\"\",INDEX($B$2:$B$502,BX34),\"\")","v":""},"",{"$f":"IF($A34<=n,INT(501*RAND()+1),\"\")","v":""},{"$f":"IF(CA34<>\"\",INDEX($B$2:$B$502,CA34),\"\")","v":""},"",{"$f":"IF($A34<=n,INT(501*RAND()+1),\"\")","v":""},{"$f":"IF(CD34<>\"\",INDEX($B$2:$B$502,CD34),\"\")","v":""},"",{"$f":"IF($A34<=n,INT(501*RAND()+1),\"\")","v":""},{"$f":"IF(CG34<>\"\",INDEX($B$2:$B$502,CG34),\"\")","v":""},"",{"$f":"IF($A34<=n,INT(501*RAND()+1),\"\")","v":""},{"$f":"IF(CJ34<>\"\",INDEX($B$2:$B$502,CJ34),\"\")","v":""},"",{"$f":"IF($A34<=n,INT(501*RAND()+1),\"\")","v":""},{"$f":"IF(CM34<>\"\",INDEX($B$2:$B$502,CM34),\"\")","v":""},"",{"$f":"IF($A34<=n,INT(501*RAND()+1),\"\")","v":""},{"$f":"IF(CP34<>\"\",INDEX($B$2:$B$502,CP34),\"\")","v":""},"",{"$f":"IF($A34<=n,INT(501*RAND()+1),\"\")","v":""},{"$f":"IF(CS34<>\"\",INDEX($B$2:$B$502,CS34),\"\")","v":""},"",{"$f":"IF($A34<=n,INT(501*RAND()+1),\"\")","v":""},{"$f":"IF(CV34<>\"\",INDEX($B$2:$B$502,CV34),\"\")","v":""},"",{"$f":"IF($A34<=n,INT(501*RAND()+1),\"\")","v":""},{"$f":"IF(CY34<>\"\",INDEX($B$2:$B$502,CY34),\"\")","v":""},"",{"$f":"IF($A34<=n,INT(501*RAND()+1),\"\")","v":""},{"$f":"IF(DB34<>\"\",INDEX($B$2:$B$502,DB34),\"\")","v":""},"",{"$f":"IF($A34<=n,INT(501*RAND()+1),\"\")","v":""},{"$f":"IF(DE34<>\"\",INDEX($B$2:$B$502,DE34),\"\")","v":""},"",{"$f":"IF($A34<=n,INT(501*RAND()+1),\"\")","v":""},{"$f":"IF(DH34<>\"\",INDEX($B$2:$B$502,DH34),\"\")","v":""},"",{"$f":"IF($A34<=n,INT(501*RAND()+1),\"\")","v":""},{"$f":"IF(DK34<>\"\",INDEX($B$2:$B$502,DK34),\"\")","v":""},"",{"$f":"IF($A34<=n,INT(501*RAND()+1),\"\")","v":""},{"$f":"IF(DN34<>\"\",INDEX($B$2:$B$502,DN34),\"\")","v":""},"",{"$f":"IF($A34<=n,INT(501*RAND()+1),\"\")","v":""},{"$f":"IF(DQ34<>\"\",INDEX($B$2:$B$502,DQ34),\"\")","v":""},"",{"$f":"IF($A34<=n,INT(501*RAND()+1),\"\")","v":""},{"$f":"IF(DT34<>\"\",INDEX($B$2:$B$502,DT34),\"\")","v":""},"",{"$f":"IF($A34<=n,INT(501*RAND()+1),\"\")","v":""},{"$f":"IF(DW34<>\"\",INDEX($B$2:$B$502,DW34),\"\")","v":""},"",{"$f":"IF($A34<=n,INT(501*RAND()+1),\"\")","v":""},{"$f":"IF(DZ34<>\"\",INDEX($B$2:$B$502,DZ34),\"\")","v":""},"",{"$f":"IF($A34<=n,INT(501*RAND()+1),\"\")","v":""},{"$f":"IF(EC34<>\"\",INDEX($B$2:$B$502,EC34),\"\")","v":""},"",{"$f":"IF($A34<=n,INT(501*RAND()+1),\"\")","v":""},{"$f":"IF(EF34<>\"\",INDEX($B$2:$B$502,EF34),\"\")","v":""},"",{"$f":"IF($A34<=n,INT(501*RAND()+1),\"\")","v":""},{"$f":"IF(EI34<>\"\",INDEX($B$2:$B$502,EI34),\"\")","v":""},"",{"$f":"IF($A34<=n,INT(501*RAND()+1),\"\")","v":""},{"$f":"IF(EL34<>\"\",INDEX($B$2:$B$502,EL34),\"\")","v":""},"",{"$f":"IF($A34<=n,INT(501*RAND()+1),\"\")","v":""},{"$f":"IF(EO34<>\"\",INDEX($B$2:$B$502,EO34),\"\")","v":""},"",{"$f":"IF($A34<=n,INT(501*RAND()+1),\"\")","v":""},{"$f":"IF(ER34<>\"\",INDEX($B$2:$B$502,ER34),\"\")","v":""},"",{"$f":"IF($A34<=n,INT(501*RAND()+1),\"\")","v":""},{"$f":"IF(EU34<>\"\",INDEX($B$2:$B$502,EU34),\"\")","v":""},"",{"$f":"IF(AND($A34<=n,EY$1<=flips),INT(501*RAND()+1),\"\")","v":""},{"$f":"IF(EX34<>\"\",INDEX($B$2:$B$502,EX34),\"\")","v":""},"",{"$f":"IF(AND($A34<=n,FB$1<=flips),INT(501*RAND()+1),\"\")","v":""},{"$f":"IF(FA34<>\"\",INDEX($B$2:$B$502,FA34),\"\")","v":""},"",{"$f":"IF(AND($A34<=n,FE$1<=flips),INT(501*RAND()+1),\"\")","v":""},{"$f":"IF(FD34<>\"\",INDEX($B$2:$B$502,FD34),\"\")","v":""},"",{"$f":"IF(AND($A34<=n,FH$1<=flips),INT(501*RAND()+1),\"\")","v":""},{"$f":"IF(FG34<>\"\",INDEX($B$2:$B$502,FG34),\"\")","v":""},"",{"$f":"IF(AND($A34<=n,FK$1<=flips),INT(501*RAND()+1),\"\")","v":""},{"$f":"IF(FJ34<>\"\",INDEX($B$2:$B$502,FJ34),\"\")","v":""},"",{"$f":"IF(AND($A34<=n,FN$1<=flips),INT(501*RAND()+1),\"\")","v":""},{"$f":"IF(FM34<>\"\",INDEX($B$2:$B$502,FM34),\"\")","v":""},"",{"$f":"IF(AND($A34<=n,FQ$1<=flips),INT(501*RAND()+1),\"\")","v":""},{"$f":"IF(FP34<>\"\",INDEX($B$2:$B$502,FP34),\"\")","v":""},"",{"$f":"IF(AND($A34<=n,FT$1<=flips),INT(501*RAND()+1),\"\")","v":""},{"$f":"IF(FS34<>\"\",INDEX($B$2:$B$502,FS34),\"\")","v":""},"",{"$f":"IF(AND($A34<=n,FW$1<=flips),INT(501*RAND()+1),\"\")","v":""},{"$f":"IF(FV34<>\"\",INDEX($B$2:$B$502,FV34),\"\")","v":""},"",{"$f":"IF(AND($A34<=n,FZ$1<=flips),INT(501*RAND()+1),\"\")","v":""},{"$f":"IF(FY34<>\"\",INDEX($B$2:$B$502,FY34),\"\")","v":""},"",{"$f":"IF(AND($A34<=n,GC$1<=flips),INT(501*RAND()+1),\"\")","v":""},{"$f":"IF(GB34<>\"\",INDEX($B$2:$B$502,GB34),\"\")","v":""},"",{"$f":"IF(AND($A34<=n,GF$1<=flips),INT(501*RAND()+1),\"\")","v":""},{"$f":"IF(GE34<>\"\",INDEX($B$2:$B$502,GE34),\"\")","v":""},"",{"$f":"IF(AND($A34<=n,GI$1<=flips),INT(501*RAND()+1),\"\")","v":""},{"$f":"IF(GH34<>\"\",INDEX($B$2:$B$502,GH34),\"\")","v":""},"",{"$f":"IF(AND($A34<=n,GL$1<=flips),INT(501*RAND()+1),\"\")","v":""},{"$f":"IF(GK34<>\"\",INDEX($B$2:$B$502,GK34),\"\")","v":""},"",{"$f":"IF(AND($A34<=n,GO$1<=flips),INT(501*RAND()+1),\"\")","v":""},{"$f":"IF(GN34<>\"\",INDEX($B$2:$B$502,GN34),\"\")","v":""},"",{"$f":"IF(AND($A34<=n,GR$1<=flips),INT(501*RAND()+1),\"\")","v":""},{"$f":"IF(GQ34<>\"\",INDEX($B$2:$B$502,GQ34),\"\")","v":""},"",{"$f":"IF(AND($A34<=n,GU$1<=flips),INT(501*RAND()+1),\"\")","v":""},{"$f":"IF(GT34<>\"\",INDEX($B$2:$B$502,GT34),\"\")","v":""},"",{"$f":"IF(AND($A34<=n,GX$1<=flips),INT(501*RAND()+1),\"\")","v":""},{"$f":"IF(GW34<>\"\",INDEX($B$2:$B$502,GW34),\"\")","v":""},"",{"$f":"IF(AND($A34<=n,HA$1<=flips),INT(501*RAND()+1),\"\")","v":""},{"$f":"IF(GZ34<>\"\",INDEX($B$2:$B$502,GZ34),\"\")","v":""},"",{"$f":"IF(AND($A34<=n,HD$1<=flips),INT(501*RAND()+1),\"\")","v":""},{"$f":"IF(HC34<>\"\",INDEX($B$2:$B$502,HC34),\"\")","v":""},"",{"$f":"IF(AND($A34<=n,HG$1<=flips),INT(501*RAND()+1),\"\")","v":""},{"$f":"IF(HF34<>\"\",INDEX($B$2:$B$502,HF34),\"\")","v":""},"",{"$f":"IF(AND($A34<=n,HJ$1<=flips),INT(501*RAND()+1),\"\")","v":""},{"$f":"IF(HI34<>\"\",INDEX($B$2:$B$502,HI34),\"\")","v":""},"",{"$f":"IF(AND($A34<=n,HM$1<=flips),INT(501*RAND()+1),\"\")","v":""},{"$f":"IF(HL34<>\"\",INDEX($B$2:$B$502,HL34),\"\")","v":""},"",{"$f":"IF(AND($A34<=n,HP$1<=flips),INT(501*RAND()+1),\"\")","v":""},{"$f":"IF(HO34<>\"\",INDEX($B$2:$B$502,HO34),\"\")","v":""},"",{"$f":"IF(AND($A34<=n,HS$1<=flips),INT(501*RAND()+1),\"\")","v":""},{"$f":"IF(HR34<>\"\",INDEX($B$2:$B$502,HR34),\"\")","v":""},"",{"$f":"IF(AND($A34<=n,HV$1<=flips),INT(501*RAND()+1),\"\")","v":""},{"$f":"IF(HU34<>\"\",INDEX($B$2:$B$502,HU34),\"\")","v":""},"",{"$f":"IF(AND($A34<=n,HY$1<=flips),INT(501*RAND()+1),\"\")","v":""},{"$f":"IF(HX34<>\"\",INDEX($B$2:$B$502,HX34),\"\")","v":""},"",{"$f":"IF(AND($A34<=n,IB$1<=flips),INT(501*RAND()+1),\"\")","v":""},{"$f":"IF(IA34<>\"\",INDEX($B$2:$B$502,IA34),\"\")","v":""},"",{"$f":"IF(AND($A34<=n,IE$1<=flips),INT(501*RAND()+1),\"\")","v":""},{"$f":"IF(ID34<>\"\",INDEX($B$2:$B$502,ID34),\"\")","v":""},"",{"$f":"IF(AND($A34<=n,IH$1<=flips),INT(501*RAND()+1),\"\")","v":""},{"$f":"IF(IG34<>\"\",INDEX($B$2:$B$502,IG34),\"\")","v":""},"",{"$f":"IF(AND($A34<=n,IK$1<=flips),INT(501*RAND()+1),\"\")","v":""},{"$f":"IF(IJ34<>\"\",INDEX($B$2:$B$502,IJ34),\"\")","v":""},"",{"$f":"IF(AND($A34<=n,IN$1<=flips),INT(501*RAND()+1),\"\")","v":""},{"$f":"IF(IM34<>\"\",INDEX($B$2:$B$502,IM34),\"\")","v":""},"",{"$f":"IF(AND($A34<=n,IQ$1<=flips),INT(501*RAND()+1),\"\")","v":""},{"$f":"IF(IP34<>\"\",INDEX($B$2:$B$502,IP34),\"\")","v":""},"",{"$f":"IF(AND($A34<=n,IT$1<=flips),INT(501*RAND()+1),\"\")","v":""},{"$f":"IF(IS34<>\"\",INDEX($B$2:$B$502,IS34),\"\")","v":""},"",{"$f":"CW54","v":0.9097859397005742}]
[34,6.7508917300000002,6.6808205200000002,"","","","","","","","","","","","","","","","","","","","","","","","","","","","","","","","","","","","","","","","","","","","","","","","","","","","","","","","","","","","","","","","","","","","","","","","","","","","","","","","","","","","","","","","","","","","","","","","","","","","","","","","","","","","","","","","","","","","","","","","","","","","","","","","","","","","","","","","","","","","","","","","","","","","","","","","","","","","","","","","","","","","","","","","","","","","","","","","","","","","","","","","","","","","","","","","","","","","","","","","","","","","","","","","","","","","","","","","","","","","","","","","","","","","","","","","","","","","","","","","","","","","","","","","","","","","",{"$f":"CZ54","v":0.97216797384491183}]
[35,1.7000925,-2.08932327,"","","","","","","","","","","","","","","","","","","","","","","","","","","","","","","","","","","","","","","","","","","","","","","","","","","","","","","","","","","","","","","","","","","","","","","","","","","","","","","","","","","","","","","","","","","","","","","","","","","","","","","","","","","","","","","","","","","","","","","","","","","","","","","","","","","","","","","","","","","","","","","","","","","","","","","","","","","","","","","","","","","","","","","","","","","","","","","","","","","","","","","","","","","","","","","","","","","","","","","","","","","","","","","","","","","","","","","","","","","","","","","","","","","","","","","","","","","","","","","","","","","","","","","","","","","","",{"$f":"DC54","v":0.95667634006941382}]
[36,1.6648953900000001,1.8233785600000001,"","","","","","","","","","","","","","","","","","","","","","","","","","","","","","","","","","","","","","","","","","","","","","","","","","","","","","","","","","","","","","","","","","","","","","","","","","","","","","","","","","","","","","","","","","","","","","","","","","","","","","","","","","","","","","","","","","","","","","","","","","","","","","","","","","","","","","","","","","","","","","","","","","","","","","","","","","","","","","","","","","","","","","","","","","","","","","","","","","","","","","","","","","","","","","","","","","","","","","","","","","","","","","","","","","","","","","","","","","","","","","","","","","","","","","","","","","","","","","","","","","","","","","","","","","","","",{"$f":"DF54","v":0.94719311907586923}]
[37,3.9202844799999998,2.04055271,"","","","","","","","","","","","","","","","","","","","","","","","","","","","","","","","","","","","","","","","","","","","","","","","","","","","","","","","","","","","","","","","","","","","","","","","","","","","","","","","","","","","","","","","","","","","","","","","","","","","","","","","","","","","","","","","","","","","","","","","","","","","","","","","","","","","","","","","","","","","","","","","","","","","","","","","","","","","","","","","","","","","","","","","","","","","","","","","","","","","","","","","","","","","","","","","","","","","","","","","","","","","","","","","","","","","","","","","","","","","","","","","","","","","","","","","","","","","","","","","","","","","","","","","","","","","",{"$f":"DI54","v":0.91130697585538245}]
[38,5.1867310800000004,5.8437575900000001,"","","","","","","","","","","","","","","","","","","","","","","","","","","","","","","","","","","","","","","","","","","","","","","","","","","","","","","","","","","","","","","","","","","","","","","","","","","","","","","","","","","","","","","","","","","","","","","","","","","","","","","","","","","","","","","","","","","","","","","","","","","","","","","","","","","","","","","","","","","","","","","","","","","","","","","","","","","","","","","","","","","","","","","","","","","","","","","","","","","","","","","","","","","","","","","","","","","","","","","","","","","","","","","","","","","","","","","","","","","","","","","","","","","","","","","","","","","","","","","","","","","","","","","","","","","","",{"$f":"DL54","v":0.96527464276789954}]
[39,2.7793912399999998,5.3105028299999999,"","","","","","","","","","","","","","","","","","","","","","","","","","","","","","","","","","","","","","","","","","","","","","","","","","","","","","","","","","","","","","","","","","","","","","","","","","","","","","","","","","","","","","","","","","","","","","","","","","","","","","","","","","","","","","","","","","","","","","","","","","","","","","","","","","","","","","","","","","","","","","","","","","","","","","","","","","","","","","","","","","","","","","","","","","","","","","","","","","","","","","","","","","","","","","","","","","","","","","","","","","","","","","","","","","","","","","","","","","","","","","","","","","","","","","","","","","","","","","","","","","","","","","","","","","","","",{"$f":"DO54","v":0.88475797424136282}]
[40,8.0786452499999992,8.0379548700000001,"","","","","","","","","","","","","","","","","","","","","","","","","","","","","","","","","","","","","","","","","","","","","","","","","","","","","","","","","","","","","","","","","","","","","","","","","","","","","","","","","","","","","","","","","","","","","","","","","","","","","","","","","","","","","","","","","","","","","","","","","","","","","","","","","","","","","","","","","","","","","","","","","","","","","","","","","","","","","","","","","","","","","","","","","","","","","","","","","","","","","","","","","","","","","","","","","","","","","","","","","","","","","","","","","","","","","","","","","","","","","","","","","","","","","","","","","","","","","","","","","","","","","","","","","","","","",{"$f":"DR54","v":0.85044770284168114}]
[41,2.3735837000000002,-1.5927045900000001,"","","","","","","","","","","","","","","","","","","","","","","","","","","","","","","","","","","","","","","","","","","","","","","","","","","","","","","","","","","","","","","","","","","","","","","","","","","","","","","","","","","","","","","","","","","","","","","","","","","","","","","","","","","","","","","","","","","","","","","","","","","","","","","","","","","","","","","","","","","","","","","","","","","","","","","","","","","","","","","","","","","","","","","","","","","","","","","","","","","","","","","","","","","","","","","","","","","","","","","","","","","","","","","","","","","","","","","","","","","","","","","","","","","","","","","","","","","","","","","","","","","","","","","","","","","","",{"$f":"DU54","v":0.96685958836127928}]
[42,7.5593373799999997,12.683575100000001,"","","","","","","","","","","","","","","","","","","","","","","","","","","","","","","","","","","","","","","","","","","","","","","","","","","","","","","","","","","","","","","","","","","","","","","","","","","","","","","","","","","","","","","","","","","","","","","","","","","","","","","","","","","","","","","","","","","","","","","","","","","","","","","","","","","","","","","","","","","","","","","","","","","","","","","","","","","","","","","","","","","","","","","","","","","","","","","","","","","","","","","","","","","","","","","","","","","","","","","","","","","","","","","","","","","","","","","","","","","","","","","","","","","","","","","","","","","","","","","","","","","","","","","","","","","","",{"$f":"DX54","v":0.96001829269274652}]
[43,5.1334551900000003,8.2972361899999996,"","","","","","","","","","","","","","","","","","","","","","","","","","","","","","","","","","","","","","","","","","","","","","","","","","","","","","","","","","","","","","","","","","","","","","","","","","","","","","","","","","","","","","","","","","","","","","","","","","","","","","","","","","","","","","","","","","","","","","","","","","","","","","","","","","","","","","","","","","","","","","","","","","","","","","","","","","","","","","","","","","","","","","","","","","","","","","","","","","","","","","","","","","","","","","","","","","","","","","","","","","","","","","","","","","","","","","","","","","","","","","","","","","","","","","","","","","","","","","","","","","","","","","","","","","","","",{"$f":"EA54","v":0.94066811690300267}]
[44,2.5187078600000001,3.9538099999999998,"","","","","","","","","","","","","","","","","","","","","","","","","","","","","","","","","","","","","","","","","","","","","","","","","","","","","","","","","","","","","","","","","","","","","","","","","","","","","","","","","","","","","","","","","","","","","","","","","","","","","","","","","","","","","","","","","","","","","","","","","","","","","","","","","","","","","","","","","","","","","","","","","","","","","","","","","","","","","","","","","","","","","","","","","","","","","","","","","","","","","","","","","","","","","","","","","","","","","","","","","","","","","","","","","","","","","","","","","","","","","","","","","","","","","","","","","","","","","","","","","","","","","","","","","","","","",{"$f":"ED54","v":0.82693639257735752}]
[45,9.3723747399999997,9.6176463699999992,"","","","","","","","","","","","","","","","","","","","","","","","","","","","","","","","","","","","","","","","","","","","","","","","","","","","","","","","","","","","","","","","","","","","","","","","","","","","","","","","","","","","","","","","","","","","","","","","","","","","","","","","","","","","","","","","","","","","","","","","","","","","","","","","","","","","","","","","","","","","","","","","","","","","","","","","","","","","","","","","","","","","","","","","","","","","","","","","","","","","","","","","","","","","","","","","","","","","","","","","","","","","","","","","","","","","","","","","","","","","","","","","","","","","","","","","","","","","","","","","","","","","","","","","","","","","",{"$f":"EG54","v":0.93867597463734631}]
[46,6.9409220200000004,6.7436555499999997,"","","","","","","","","","","","","","","","","","","","","","","","","","","","","","","","","","","","","","","","","","","","","","","","","","","","","","","","","","","","","","","","","","","","","","","","","","","","","","","","","","","","","","","","","","","","","","","","","","","","","","","","","","","","","","","","","","","","","","","","","","","","","","","","","","","","","","","","","","","","","","","","","","","","","","","","","","","","","","","","","","","","","","","","","","","","","","","","","","","","","","","","","","","","","","","","","","","","","","","","","","","","","","","","","","","","","","","","","","","","","","","","","","","","","","","","","","","","","","","","","","","","","","","","","","","","",{"$f":"EJ54","v":0.91611078898432141}]
[47,3.4734701800000001,0.35695392199999998,"","","","","","","","","","","","","","","","","","","","","","","","","","","","","","","","","","","","","","","","","","","","","","","","","","","","","","","","","","","","","","","","","","","","","","","","","","","","","","","","","","","","","","","","","","","","","","","","","","","","","","","","","","","","","","","","","","","","","","","","","","","","","","","","","","","","","","","","","","","","","","","","","","","","","","","","","","","","","","","","","","","","","","","","","","","","","","","","","","","","","","","","","","","","","","","","","","","","","","","","","","","","","","","","","","","","","","","","","","","","","","","","","","","","","","","","","","","","","","","","","","","","","","","","","","","","",{"$f":"EM54","v":0.95803579251619131}]
[48,1.16874791,-3.1067277500000001,"","","","","","","","","","","","","","","","","","","","","","","","","","","","","","","","","","","","","","","","","","","","","","","","","","","","","","","","","","","","","","","","","","","","","","","","","","","","","","","","","","","","","","","","","","","","","","","","","","","","","","","","","","","","","","","","","","","","","","","","","","","","","","","","","","","","","","","","","","","","","","","","","","","","","","","","","","","","","","","","","","","","","","","","","","","","","","","","","","","","","","","","","","","","","","","","","","","","","","","","","","","","","","","","","","","","","","","","","","","","","","","","","","","","","","","","","","","","","","","","","","","","","","","","","","","","",{"$f":"EP54","v":0.92262752920998581}]
[49,1.22022199,-2.8587521699999998,"","","","","","","","","","","","","","","","","","","","","","","","","","","","","","","","","","","","","","","","","","","","","","","","","","","","","","","","","","","","","","","","","","","","","","","","","","","","","","","","","","","","","","","","","","","","","","","","","","","","","","","","","","","","","","","","","","","","","","","","","","","","","","","","","","","","","","","","","","","","","","","","","","","","","","","","","","","","","","","","","","","","","","","","","","","","","","","","","","","","","","","","","","","","","","","","","","","","","","","","","","","","","","","","","","","","","","","","","","","","","","","","","","","","","","","","","","","","","","","","","","","","","","","","","","","","",{"$f":"ES54","v":0.92445387023544556}]
[50,3.3373057099999999,0.91152189800000005,"","","","","","","","","","","","","","","","","","","","","","","","","","","","","","","","","","","","","","","","","","","","","","","","","","","","","","","","","","","","","","","","","","","","","","","","","","","","","","","","","","","","","","","","","","","","","","","","","","","","","","","","","","","","","","","","","","","","","","","","","","","","","","","","","","","","","","","","","","","","","","","","","","","","","","","","","","","","","","","","","","","","","","","","","","","","","","","","","","","","","","","","","","","","","","","","","","","","","","","","","","","","","","","","","","","","","","","","","","","","","","","","","","","","","","","","","","","","","","","","","","","","","","","","","","","","",{"$f":"EV54","v":0.92186740334689266}]
[51,9.9104819800000001,11.892123959999999,"","","","","","","","","","","","","","","","","","","","","","","","","","","","","","","","","","","","","","","","","","","","","","","","","","","","","","","","","","","","","","","","","","","","","","","","","","","","","","","","","","","","","","","","","","","","","","","","","","","","","","","","","","","","","","","","","","","","","","","","","","","","","","","","","","","","","","","","","","","","","","","","","","","","","","","","","",{"$f":"IF($A52<=n,INT(501*RAND()+1),\"\")","v":""},"",{"$f":"IF(FA52<>\"\",INDEX($C$2:$C$502,FA52),\"\")","v":""},{"$f":"IF($A52<=n,INT(501*RAND()+1),\"\")","v":""},"",{"$f":"IF(FD52<>\"\",INDEX($C$2:$C$502,FD52),\"\")","v":""},{"$f":"IF($A52<=n,INT(501*RAND()+1),\"\")","v":""},"",{"$f":"IF(FG52<>\"\",INDEX($C$2:$C$502,FG52),\"\")","v":""},{"$f":"IF($A52<=n,INT(501*RAND()+1),\"\")","v":""},"",{"$f":"IF(FJ52<>\"\",INDEX($C$2:$C$502,FJ52),\"\")","v":""},{"$f":"IF($A52<=n,INT(501*RAND()+1),\"\")","v":""},"",{"$f":"IF(FM52<>\"\",INDEX($C$2:$C$502,FM52),\"\")","v":""},{"$f":"IF($A52<=n,INT(501*RAND()+1),\"\")","v":""},"",{"$f":"IF(FP52<>\"\",INDEX($C$2:$C$502,FP52),\"\")","v":""},{"$f":"IF($A52<=n,INT(501*RAND()+1),\"\")","v":""},"",{"$f":"IF(FS52<>\"\",INDEX($C$2:$C$502,FS52),\"\")","v":""},{"$f":"IF($A52<=n,INT(501*RAND()+1),\"\")","v":""},"",{"$f":"IF(FV52<>\"\",INDEX($C$2:$C$502,FV52),\"\")","v":""},{"$f":"IF($A52<=n,INT(501*RAND()+1),\"\")","v":""},"",{"$f":"IF(FY52<>\"\",INDEX($C$2:$C$502,FY52),\"\")","v":""},{"$f":"IF($A52<=n,INT(501*RAND()+1),\"\")","v":""},"",{"$f":"IF(GB52<>\"\",INDEX($C$2:$C$502,GB52),\"\")","v":""},{"$f":"IF($A52<=n,INT(501*RAND()+1),\"\")","v":""},"",{"$f":"IF(GE52<>\"\",INDEX($C$2:$C$502,GE52),\"\")","v":""},{"$f":"IF($A52<=n,INT(501*RAND()+1),\"\")","v":""},"",{"$f":"IF(GH52<>\"\",INDEX($C$2:$C$502,GH52),\"\")","v":""},{"$f":"IF($A52<=n,INT(501*RAND()+1),\"\")","v":""},"",{"$f":"IF(GK52<>\"\",INDEX($C$2:$C$502,GK52),\"\")","v":""},{"$f":"IF($A52<=n,INT(501*RAND()+1),\"\")","v":""},"",{"$f":"IF(GN52<>\"\",INDEX($C$2:$C$502,GN52),\"\")","v":""},{"$f":"IF($A52<=n,INT(501*RAND()+1),\"\")","v":""},"",{"$f":"IF(GQ52<>\"\",INDEX($C$2:$C$502,GQ52),\"\")","v":""},{"$f":"IF($A52<=n,INT(501*RAND()+1),\"\")","v":""},"",{"$f":"IF(GT52<>\"\",INDEX($C$2:$C$502,GT52),\"\")","v":""},{"$f":"IF($A52<=n,INT(501*RAND()+1),\"\")","v":""},"",{"$f":"IF(GW52<>\"\",INDEX($C$2:$C$502,GW52),\"\")","v":""},{"$f":"IF($A52<=n,INT(501*RAND()+1),\"\")","v":""},"",{"$f":"IF(GZ52<>\"\",INDEX($C$2:$C$502,GZ52),\"\")","v":""},{"$f":"IF($A52<=n,INT(501*RAND()+1),\"\")","v":""},"",{"$f":"IF(HC52<>\"\",INDEX($C$2:$C$502,HC52),\"\")","v":""},{"$f":"IF($A52<=n,INT(501*RAND()+1),\"\")","v":""},"",{"$f":"IF(HF52<>\"\",INDEX($C$2:$C$502,HF52),\"\")","v":""},{"$f":"IF($A52<=n,INT(501*RAND()+1),\"\")","v":""},"",{"$f":"IF(HI52<>\"\",INDEX($C$2:$C$502,HI52),\"\")","v":""},{"$f":"IF($A52<=n,INT(501*RAND()+1),\"\")","v":""},"",{"$f":"IF(HL52<>\"\",INDEX($C$2:$C$502,HL52),\"\")","v":""},{"$f":"IF($A52<=n,INT(501*RAND()+1),\"\")","v":""},"",{"$f":"IF(HO52<>\"\",INDEX($C$2:$C$502,HO52),\"\")","v":""},{"$f":"IF($A52<=n,INT(501*RAND()+1),\"\")","v":""},"",{"$f":"IF(HR52<>\"\",INDEX($C$2:$C$502,HR52),\"\")","v":""},{"$f":"IF($A52<=n,INT(501*RAND()+1),\"\")","v":""},"",{"$f":"IF(HU52<>\"\",INDEX($C$2:$C$502,HU52),\"\")","v":""},{"$f":"IF($A52<=n,INT(501*RAND()+1),\"\")","v":""},"",{"$f":"IF(HX52<>\"\",INDEX($C$2:$C$502,HX52),\"\")","v":""},{"$f":"IF($A52<=n,INT(501*RAND()+1),\"\")","v":""},"",{"$f":"IF(IA52<>\"\",INDEX($C$2:$C$502,IA52),\"\")","v":""},{"$f":"IF($A52<=n,INT(501*RAND()+1),\"\")","v":""},"",{"$f":"IF(ID52<>\"\",INDEX($C$2:$C$502,ID52),\"\")","v":""},{"$f":"IF($A52<=n,INT(501*RAND()+1),\"\")","v":""},"",{"$f":"IF(IG52<>\"\",INDEX($C$2:$C$502,IG52),\"\")","v":""},{"$f":"IF($A52<=n,INT(501*RAND()+1),\"\")","v":""},"",{"$f":"IF(IJ52<>\"\",INDEX($C$2:$C$502,IJ52),\"\")","v":""},{"$f":"IF($A52<=n,INT(501*RAND()+1),\"\")","v":""},"",{"$f":"IF(IM52<>\"\",INDEX($C$2:$C$502,IM52),\"\")","v":""},{"$f":"IF($A52<=n,INT(501*RAND()+1),\"\")","v":""},"",{"$f":"IF(IP52<>\"\",INDEX($C$2:$C$502,IP52),\"\")","v":""},{"$f":"IF($A52<=n,INT(501*RAND()+1),\"\")","v":""},"",{"$f":"IF(IS52<>\"\",INDEX($C$2:$C$502,IS52),\"\")","v":""},{"$f":"EY54","v":0.85414251031199595}]
[52,8.4212998199999998,10.24603712,"","","","","","","","","","","","","","","","","","","","","","","","","","","","","","","","","","","","","","","","","","","","","","","","","","","","","","","","","","","","","","","","","","","","","","","","","","","","","","","","","","","","","","","","","","","","","","","","","","","","","","","","","","","","","","","","","","","","","","","","","","","","","","","","","","","","","","","","","","","","","","","","","","","","","","",{"$f":"IF($A53<=n,INT(501*RAND()+1),\"\")","v":""},"","",{"$f":"IF($A53<=n,INT(501*RAND()+1),\"\")","v":""},"",{"$f":"IF(FA53<>\"\",INDEX($C$2:$C$502,FA53),\"\")","v":""},{"$f":"IF($A53<=n,INT(501*RAND()+1),\"\")","v":""},"",{"$f":"IF(FD53<>\"\",INDEX($C$2:$C$502,FD53),\"\")","v":""},{"$f":"IF($A53<=n,INT(501*RAND()+1),\"\")","v":""},"",{"$f":"IF(FG53<>\"\",INDEX($C$2:$C$502,FG53),\"\")","v":""},{"$f":"IF($A53<=n,INT(501*RAND()+1),\"\")","v":""},"",{"$f":"IF(FJ53<>\"\",INDEX($C$2:$C$502,FJ53),\"\")","v":""},{"$f":"IF($A53<=n,INT(501*RAND()+1),\"\")","v":""},"",{"$f":"IF(FM53<>\"\",INDEX($C$2:$C$502,FM53),\"\")","v":""},{"$f":"IF($A53<=n,INT(501*RAND()+1),\"\")","v":""},"",{"$f":"IF(FP53<>\"\",INDEX($C$2:$C$502,FP53),\"\")","v":""},{"$f":"IF($A53<=n,INT(501*RAND()+1),\"\")","v":""},"",{"$f":"IF(FS53<>\"\",INDEX($C$2:$C$502,FS53),\"\")","v":""},{"$f":"IF($A53<=n,INT(501*RAND()+1),\"\")","v":""},"",{"$f":"IF(FV53<>\"\",INDEX($C$2:$C$502,FV53),\"\")","v":""},{"$f":"IF($A53<=n,INT(501*RAND()+1),\"\")","v":""},"",{"$f":"IF(FY53<>\"\",INDEX($C$2:$C$502,FY53),\"\")","v":""},{"$f":"IF($A53<=n,INT(501*RAND()+1),\"\")","v":""},"",{"$f":"IF(GB53<>\"\",INDEX($C$2:$C$502,GB53),\"\")","v":""},{"$f":"IF($A53<=n,INT(501*RAND()+1),\"\")","v":""},"",{"$f":"IF(GE53<>\"\",INDEX($C$2:$C$502,GE53),\"\")","v":""},{"$f":"IF($A53<=n,INT(501*RAND()+1),\"\")","v":""},"",{"$f":"IF(GH53<>\"\",INDEX($C$2:$C$502,GH53),\"\")","v":""},{"$f":"IF($A53<=n,INT(501*RAND()+1),\"\")","v":""},"",{"$f":"IF(GK53<>\"\",INDEX($C$2:$C$502,GK53),\"\")","v":""},{"$f":"IF($A53<=n,INT(501*RAND()+1),\"\")","v":""},"",{"$f":"IF(GN53<>\"\",INDEX($C$2:$C$502,GN53),\"\")","v":""},{"$f":"IF($A53<=n,INT(501*RAND()+1),\"\")","v":""},"",{"$f":"IF(GQ53<>\"\",INDEX($C$2:$C$502,GQ53),\"\")","v":""},{"$f":"IF($A53<=n,INT(501*RAND()+1),\"\")","v":""},"",{"$f":"IF(GT53<>\"\",INDEX($C$2:$C$502,GT53),\"\")","v":""},{"$f":"IF($A53<=n,INT(501*RAND()+1),\"\")","v":""},"",{"$f":"IF(GW53<>\"\",INDEX($C$2:$C$502,GW53),\"\")","v":""},{"$f":"IF($A53<=n,INT(501*RAND()+1),\"\")","v":""},"",{"$f":"IF(GZ53<>\"\",INDEX($C$2:$C$502,GZ53),\"\")","v":""},{"$f":"IF($A53<=n,INT(501*RAND()+1),\"\")","v":""},"",{"$f":"IF(HC53<>\"\",INDEX($C$2:$C$502,HC53),\"\")","v":""},{"$f":"IF($A53<=n,INT(501*RAND()+1),\"\")","v":""},"",{"$f":"IF(HF53<>\"\",INDEX($C$2:$C$502,HF53),\"\")","v":""},{"$f":"IF($A53<=n,INT(501*RAND()+1),\"\")","v":""},"",{"$f":"IF(HI53<>\"\",INDEX($C$2:$C$502,HI53),\"\")","v":""},{"$f":"IF($A53<=n,INT(501*RAND()+1),\"\")","v":""},"",{"$f":"IF(HL53<>\"\",INDEX($C$2:$C$502,HL53),\"\")","v":""},{"$f":"IF($A53<=n,INT(501*RAND()+1),\"\")","v":""},"",{"$f":"IF(HO53<>\"\",INDEX($C$2:$C$502,HO53),\"\")","v":""},{"$f":"IF($A53<=n,INT(501*RAND()+1),\"\")","v":""},"",{"$f":"IF(HR53<>\"\",INDEX($C$2:$C$502,HR53),\"\")","v":""},{"$f":"IF($A53<=n,INT(501*RAND()+1),\"\")","v":""},"",{"$f":"IF(HU53<>\"\",INDEX($C$2:$C$502,HU53),\"\")","v":""},{"$f":"IF($A53<=n,INT(501*RAND()+1),\"\")","v":""},"",{"$f":"IF(HX53<>\"\",INDEX($C$2:$C$502,HX53),\"\")","v":""},{"$f":"IF($A53<=n,INT(501*RAND()+1),\"\")","v":""},"",{"$f":"IF(IA53<>\"\",INDEX($C$2:$C$502,IA53),\"\")","v":""},{"$f":"IF($A53<=n,INT(501*RAND()+1),\"\")","v":""},"",{"$f":"IF(ID53<>\"\",INDEX($C$2:$C$502,ID53),\"\")","v":""},{"$f":"IF($A53<=n,INT(501*RAND()+1),\"\")","v":""},"",{"$f":"IF(IG53<>\"\",INDEX($C$2:$C$502,IG53),\"\")","v":""},{"$f":"IF($A53<=n,INT(501*RAND()+1),\"\")","v":""},"",{"$f":"IF(IJ53<>\"\",INDEX($C$2:$C$502,IJ53),\"\")","v":""},{"$f":"IF($A53<=n,INT(501*RAND()+1),\"\")","v":""},"",{"$f":"IF(IM53<>\"\",INDEX($C$2:$C$502,IM53),\"\")","v":""},{"$f":"IF($A53<=n,INT(501*RAND()+1),\"\")","v":""},"",{"$f":"IF(IP53<>\"\",INDEX($C$2:$C$502,IP53),\"\")","v":""},{"$f":"IF($A53<=n,INT(501*RAND()+1),\"\")","v":""},"",{"$f":"IF(IS53<>\"\",INDEX($C$2:$C$502,IS53),\"\")","v":""},{"$f":"FB54","v":0.92101128554023526}]
[53,0.20667169799999999,-0.79117017499999998,"cc=",{"$f":"CORREL(E2:E52,F2:F52)","v":0.97409843049607336},null,"cc=",{"$f":"CORREL(H2:H52,I2:I52)","v":0.93476270685559382},null,"cc=",{"$f":"CORREL(K2:K52,L2:L52)","v":0.95467872562954037},null,"cc=",{"$f":"CORREL(N2:N52,O2:O52)","v":0.91590532968150495},null,"cc=",{"$f":"CORREL(Q2:Q52,R2:R52)","v":0.97001496667681097},null,"cc=",{"$f":"CORREL(T2:T52,U2:U52)","v":0.9265366342714848},null,"cc=",{"$f":"CORREL(W2:W52,X2:X52)","v":0.91654348586585033},null,"cc=",{"$f":"CORREL(Z2:Z52,AA2:AA52)","v":0.96650777353662909},null,"cc=",{"$f":"CORREL(AC2:AC52,AD2:AD52)","v":0.83912660195142796},null,"cc=",{"$f":"CORREL(AF2:AF52,AG2:AG52)","v":0.84076720774332014},null,"cc=",{"$f":"CORREL(AI2:AI52,AJ2:AJ52)","v":0.91641922374796647},null,"cc=",{"$f":"CORREL(AL2:AL52,AM2:AM52)","v":0.94209795755843451},null,"cc=",{"$f":"CORREL(AO2:AO52,AP2:AP52)","v":0.92410354221750124},null,"cc=",{"$f":"CORREL(AR2:AR52,AS2:AS52)","v":0.93306140607850652},null,"cc=",{"$f":"CORREL(AU2:AU52,AV2:AV52)","v":0.84648371332105987},null,"cc=",{"$f":"CORREL(AX2:AX52,AY2:AY52)","v":0.95162581296707682},null,"cc=",{"$f":"CORREL(BA2:BA52,BB2:BB52)","v":0.8959262030439864},null,"cc=",{"$f":"CORREL(BD2:BD52,BE2:BE52)","v":0.92399964966967063},null,"cc=",{"$f":"CORREL(BG2:BG52,BH2:BH52)","v":0.90133735598032061},null,"cc=",{"$f":"CORREL(BJ2:BJ52,BK2:BK52)","v":0.94379628240658531},null,"cc=",{"$f":"CORREL(BM2:BM52,BN2:BN52)","v":0.92191587184092927},null,"cc=",{"$f":"CORREL(BP2:BP52,BQ2:BQ52)","v":0.96289215914087445},null,"cc=",{"$f":"CORREL(BS2:BS52,BT2:BT52)","v":0.96419885546311135},null,"cc=",{"$f":"CORREL(BV2:BV52,BW2:BW52)","v":0.90889728471437237},null,"cc=",{"$f":"CORREL(BY2:BY52,BZ2:BZ52)","v":0.89546820663677884},null,"cc=",{"$f":"CORREL(CB2:CB52,CC2:CC52)","v":0.94782713315177569},null,"cc=",{"$f":"CORREL(CE2:CE52,CF2:CF52)","v":0.95647413032468043},null,"cc=",{"$f":"CORREL(CH2:CH52,CI2:CI52)","v":0.96652827716831702},null,"cc=",{"$f":"CORREL(CK2:CK52,CL2:CL52)","v":0.9824826397246077},null,"cc=",{"$f":"CORREL(CN2:CN52,CO2:CO52)","v":0.89720276611843464},null,"cc=",{"$f":"CORREL(CQ2:CQ52,CR2:CR52)","v":0.95411831782942236},null,"cc=",{"$f":"CORREL(CT2:CT52,CU2:CU52)","v":0.92477431353213579},null,"cc=",{"$f":"CORREL(CW2:CW52,CX2:CX52)","v":0.9097859397005742},null,"cc=",{"$f":"CORREL(CZ2:CZ52,DA2:DA52)","v":0.97216797384491183},null,"cc=",{"$f":"CORREL(DC2:DC52,DD2:DD52)","v":0.95667634006941382},null,"cc=",{"$f":"CORREL(DF2:DF52,DG2:DG52)","v":0.94719311907586923},null,"cc=",{"$f":"CORREL(DI2:DI52,DJ2:DJ52)","v":0.91130697585538245},null,"cc=",{"$f":"CORREL(DL2:DL52,DM2:DM52)","v":0.96527464276789954},null,"cc=",{"$f":"CORREL(DO2:DO52,DP2:DP52)","v":0.88475797424136282},null,"cc=",{"$f":"CORREL(DR2:DR52,DS2:DS52)","v":0.85044770284168114},null,"cc=",{"$f":"CORREL(DU2:DU52,DV2:DV52)","v":0.96685958836127928},null,"cc=",{"$f":"CORREL(DX2:DX52,DY2:DY52)","v":0.96001829269274652},null,"cc=",{"$f":"CORREL(EA2:EA52,EB2:EB52)","v":0.94066811690300267},null,"cc=",{"$f":"CORREL(ED2:ED52,EE2:EE52)","v":0.82693639257735752},null,"cc=",{"$f":"CORREL(EG2:EG52,EH2:EH52)","v":0.93867597463734631},null,"cc=",{"$f":"CORREL(EJ2:EJ52,EK2:EK52)","v":0.91611078898432141},null,"cc=",{"$f":"CORREL(EM2:EM52,EN2:EN52)","v":0.95803579251619131},null,"cc=",{"$f":"CORREL(EP2:EP52,EQ2:EQ52)","v":0.92262752920998581},null,"cc=",{"$f":"CORREL(ES2:ES52,ET2:ET52)","v":0.92445387023544556},null,"cc=",{"$f":"CORREL(EV2:EV52,EW2:EW52)","v":0.92186740334689266},null,"cc=",{"$f":"IF(EX2=\"\",\"\",CORREL(EY2:EY52,EZ2:EZ52))","v":0.85414251031199595},null,"cc=",{"$f":"IF(FA2=\"\",\"\",CORREL(FB2:FB52,FC2:FC52))","v":0.92101128554023526},null,"cc=",{"$f":"IF(FD2=\"\",\"\",CORREL(FE2:FE52,FF2:FF52))","v":0.94633827103145685},null,"cc=",{"$f":"IF(FG2=\"\",\"\",CORREL(FH2:FH52,FI2:FI52))","v":0.96385568225531704},null,"cc=",{"$f":"IF(FJ2=\"\",\"\",CORREL(FK2:FK52,FL2:FL52))","v":0.91282002005506713},null,"cc=",{"$f":"IF(FM2=\"\",\"\",CORREL(FN2:FN52,FO2:FO52))","v":0.92535011035439485},null,"cc=",{"$f":"IF(FP2=\"\",\"\",CORREL(FQ2:FQ52,FR2:FR52))","v":0.9303400192395922},null,"cc=",{"$f":"IF(FS2=\"\",\"\",CORREL(FT2:FT52,FU2:FU52))","v":0.92942818333725308},null,"cc=",{"$f":"IF(FV2=\"\",\"\",CORREL(FW2:FW52,FX2:FX52))","v":0.94038264394899129},null,"cc=",{"$f":"IF(FY2=\"\",\"\",CORREL(FZ2:FZ52,GA2:GA52))","v":0.78657293846265652},null,"cc=",{"$f":"IF(GB2=\"\",\"\",CORREL(GC2:GC52,GD2:GD52))","v":0.92841555268403164},null,"cc=",{"$f":"IF(GE2=\"\",\"\",CORREL(GF2:GF52,GG2:GG52))","v":0.94225226665426709},null,"cc=",{"$f":"IF(GH2=\"\",\"\",CORREL(GI2:GI52,GJ2:GJ52))","v":0.94589380269811063},null,"cc=",{"$f":"IF(GK2=\"\",\"\",CORREL(GL2:GL52,GM2:GM52))","v":0.90690772915569706},null,"cc=",{"$f":"IF(GN2=\"\",\"\",CORREL(GO2:GO52,GP2:GP52))","v":0.86531567206843685},null,"cc=",{"$f":"IF(GQ2=\"\",\"\",CORREL(GR2:GR52,GS2:GS52))","v":0.91961055053544383},null,"cc=",{"$f":"IF(GT2=\"\",\"\",CORREL(GU2:GU52,GV2:GV52))","v":0.91562514790756089},null,"cc=",{"$f":"IF(GW2=\"\",\"\",CORREL(GX2:GX52,GY2:GY52))","v":0.90225947412995899},null,"cc=",{"$f":"IF(GZ2=\"\",\"\",CORREL(HA2:HA52,HB2:HB52))","v":0.92969911934967198},null,"cc=",{"$f":"IF(HC2=\"\",\"\",CORREL(HD2:HD52,HE2:HE52))","v":0.958741217941807},null,"cc=",{"$f":"IF(HF2=\"\",\"\",CORREL(HG2:HG52,HH2:HH52))","v":0.93561099974714845},null,"cc=",{"$f":"IF(HI2=\"\",\"\",CORREL(HJ2:HJ52,HK2:HK52))","v":0.90740902139303747},null,"cc=",{"$f":"IF(HL2=\"\",\"\",CORREL(HM2:HM52,HN2:HN52))","v":0.95467367725534868},null,"cc=",{"$f":"IF(HO2=\"\",\"\",CORREL(HP2:HP52,HQ2:HQ52))","v":0.96790936083139023},null,"cc=",{"$f":"IF(HR2=\"\",\"\",CORREL(HS2:HS52,HT2:HT52))","v":0.91163018939708262},null,"cc=",{"$f":"IF(HU2=\"\",\"\",CORREL(HV2:HV52,HW2:HW52))","v":0.87288855897345863},null,"cc=",{"$f":"IF(HX2=\"\",\"\",CORREL(HY2:HY52,HZ2:HZ52))","v":0.94670345707134396},null,"cc=",{"$f":"IF(IA2=\"\",\"\",CORREL(IB2:IB52,IC2:IC52))","v":0.95928215402289241},null,"cc=",{"$f":"IF(ID2=\"\",\"\",CORREL(IE2:IE52,IF2:IF52))","v":0.91444670073708822},null,"cc=",{"$f":"IF(IG2=\"\",\"\",CORREL(IH2:IH52,II2:II52))","v":0.87980617803740502},null,"cc=",{"$f":"IF(IJ2=\"\",\"\",CORREL(IK2:IK52,IL2:IL52))","v":0.89963855720461838},null,"cc=",{"$f":"IF(IM2=\"\",\"\",CORREL(IN2:IN52,IO2:IO52))","v":0.94966385482769899},null,"cc=",{"$f":"IF(IP2=\"\",\"\",CORREL(IQ2:IQ52,IR2:IR52))","v":0.92462087572469642},null,"cc=",{"$f":"IF(IS2=\"\",\"\",CORREL(IT2:IT52,IU2:IU52))","v":0.95691453899397161},null,{"$f":"FE54","v":0.94633827103145685}]
[54,6.4843481000000001,10.3540317,null,null,null,null,null,null,null,null,null,null,null,null,null,null,null,null,null,null,null,null,null,null,null,null,null,null,null,null,null,null,null,null,null,null,null,null,null,null,null,null,null,null,null,null,null,null,null,null,null,null,null,null,null,null,null,null,null,null,null,null,null,null,null,null,null,null,null,null,null,null,null,null,null,null,null,null,null,null,null,null,null,null,null,null,null,null,null,null,null,null,null,null,null,null,null,null,null,null,null,null,null,null,null,null,null,null,null,null,null,null,null,null,null,null,null,null,null,null,null,null,null,null,null,null,null,null,null,null,null,null,null,null,null,null,null,null,null,null,null,null,null,null,null,null,null,null,null,null,null,null,null,null,null,null,null,null,null,null,null,null,null,null,null,null,null,null,null,null,null,null,null,null,null,null,null,null,null,null,null,null,null,null,null,null,null,null,null,null,null,null,null,null,null,null,null,null,null,null,null,null,null,null,null,null,null,null,null,null,null,null,null,null,null,null,null,null,null,null,null,null,null,null,null,null,null,null,null,null,null,null,null,null,null,null,null,null,null,null,null,null,null,null,null,null,null,null,null,null,null,null,null,null,{"$f":"FH54","v":0.96385568225531704}]
[55,9.1472265700000008,9.7148863700000003,"sample",85,null,"sample",{"$f":"E56+1","v":86},null,"sample",{"$f":"H56+1","v":87},null,"sample",{"$f":"K56+1","v":88},null,"sample",{"$f":"N56+1","v":89},null,"sample",{"$f":"Q56+1","v":90},null,"sample",{"$f":"T56+1","v":91},null,"sample",{"$f":"W56+1","v":92},null,"sample",{"$f":"Z56+1","v":93},null,"sample",{"$f":"AC56+1","v":94},null,"sample",{"$f":"AF56+1","v":95},null,"sample",{"$f":"AI56+1","v":96},null,"sample",{"$f":"AL56+1","v":97},null,"sample",{"$f":"AO56+1","v":98},null,"sample",{"$f":"AR56+1","v":99},null,"sample",{"$f":"AU56+1","v":100},null,"sample",{"$f":"AX56+1","v":101},null,"sample",{"$f":"BA56+1","v":102},null,"sample",{"$f":"BD56+1","v":103},null,"sample",{"$f":"BG56+1","v":104},null,"sample",{"$f":"BJ56+1","v":105},null,"sample",{"$f":"BM56+1","v":106},null,"sample",{"$f":"BP56+1","v":107},null,"sample",{"$f":"BS56+1","v":108},null,"sample",{"$f":"BV56+1","v":109},null,"sample",{"$f":"BY56+1","v":110},null,"sample",{"$f":"CB56+1","v":111},null,"sample",{"$f":"CE56+1","v":112},null,"sample",{"$f":"CH56+1","v":113},null,"sample",{"$f":"CK56+1","v":114},null,"sample",{"$f":"CN56+1","v":115},null,"sample",{"$f":"CQ56+1","v":116},null,"sample",{"$f":"CT56+1","v":117},null,"sample",{"$f":"CW56+1","v":118},null,"sample",{"$f":"CZ56+1","v":119},null,"sample",{"$f":"DC56+1","v":120},null,"sample",{"$f":"DF56+1","v":121},null,"sample",{"$f":"DI56+1","v":122},null,"sample",{"$f":"DL56+1","v":123},null,"sample",{"$f":"DO56+1","v":124},null,"sample",{"$f":"DR56+1","v":125},null,"sample",{"$f":"DU56+1","v":126},null,"sample",{"$f":"DX56+1","v":127},null,"sample",{"$f":"EA56+1","v":128},null,"sample",{"$f":"ED56+1","v":129},null,"sample",{"$f":"EG56+1","v":130},null,"sample",{"$f":"EJ56+1","v":131},null,"sample",{"$f":"EM56+1","v":132},null,"sample",{"$f":"EP56+1","v":133},null,"sample",{"$f":"ES56+1","v":134},null,"sample",{"$f":"EV56+1","v":135},null,"sample",{"$f":"EY56+1","v":136},null,"sample",{"$f":"FB56+1","v":137},null,"sample",{"$f":"FE56+1","v":138},null,"sample",{"$f":"FH56+1","v":139},null,"sample",{"$f":"FK56+1","v":140},null,"sample",{"$f":"FN56+1","v":141},null,"sample",{"$f":"FQ56+1","v":142},null,"sample",{"$f":"FT56+1","v":143},null,"sample",{"$f":"FW56+1","v":144},null,"sample",{"$f":"FZ56+1","v":145},null,"sample",{"$f":"GC56+1","v":146},null,"sample",{"$f":"GF56+1","v":147},null,"sample",{"$f":"GI56+1","v":148},null,"sample",{"$f":"GL56+1","v":149},null,"sample",{"$f":"GO56+1","v":150},null,"sample",{"$f":"GR56+1","v":151},null,"sample",{"$f":"GU56+1","v":152},null,"sample",{"$f":"GX56+1","v":153},null,"sample",{"$f":"HA56+1","v":154},null,"sample",{"$f":"HD56+1","v":155},null,"sample",{"$f":"HG56+1","v":156},null,"sample",{"$f":"HJ56+1","v":157},null,"sample",{"$f":"HM56+1","v":158},null,"sample",{"$f":"HP56+1","v":159},null,"sample",{"$f":"HS56+1","v":160},null,"sample",{"$f":"HV56+1","v":161},null,"sample",{"$f":"HY56+1","v":162},null,"sample",{"$f":"IB56+1","v":163},null,"sample",{"$f":"IE56+1","v":164},null,"sample",{"$f":"IH56+1","v":165},null,"sample",{"$f":"IK56+1","v":166},null,"sample",{"$f":"IN56+1","v":167},null,"sample",{"$f":"IQ56+1","v":168},null,{"$f":"FK54","v":0.91282002005506713}]
[56,0.84874671999999995,0.71562971500000006,{"$f":"IF(AND($A2<=n,E$56<=flips),INT(501*RAND()+1),\"\")","v":409},{"$f":"IF(D57<>\"\",INDEX($B$2:$B$502,D57),\"\")","v":9.8503596824013595},{"$f":"IF(D57<>\"\",INDEX($C$2:$C$502,D57),\"\")","v":13.656028266075758},{"$f":"IF(AND($A2<=n,H$56<=flips),INT(501*RAND()+1),\"\")","v":141},{"$f":"IF(G57<>\"\",INDEX($B$2:$B$502,G57),\"\")","v":4.8005063115632574},{"$f":"IF(G57<>\"\",INDEX($C$2:$C$502,G57),\"\")","v":5.6106886371162874},{"$f":"IF(AND($A2<=n,K$56<=flips),INT(501*RAND()+1),\"\")","v":490},{"$f":"IF(J57<>\"\",INDEX($B$2:$B$502,J57),\"\")","v":0.75450661755060766},{"$f":"IF(J57<>\"\",INDEX($C$2:$C$502,J57),\"\")","v":-0.12200500735643094},{"$f":"IF(AND($A2<=n,N$56<=flips),INT(501*RAND()+1),\"\")","v":206},{"$f":"IF(M57<>\"\",INDEX($B$2:$B$502,M57),\"\")","v":6.5727778271282133},{"$f":"IF(M57<>\"\",INDEX($C$2:$C$502,M57),\"\")","v":8.7475985828241836},{"$f":"IF(AND($A2<=n,Q$56<=flips),INT(501*RAND()+1),\"\")","v":337},{"$f":"IF(P57<>\"\",INDEX($B$2:$B$502,P57),\"\")","v":6.9008867643619247},{"$f":"IF(P57<>\"\",INDEX($C$2:$C$502,P57),\"\")","v":10.204409107974497},{"$f":"IF(AND($A2<=n,T$56<=flips),INT(501*RAND()+1),\"\")","v":127},{"$f":"IF(S57<>\"\",INDEX($B$2:$B$502,S57),\"\")","v":6.3462433024678511},{"$f":"IF(S57<>\"\",INDEX($C$2:$C$502,S57),\"\")","v":11.0887658263538},{"$f":"IF(AND($A2<=n,W$56<=flips),INT(501*RAND()+1),\"\")","v":308},{"$f":"IF(V57<>\"\",INDEX($B$2:$B$502,V57),\"\")","v":0.86140813919678649},{"$f":"IF(V57<>\"\",INDEX($C$2:$C$502,V57),\"\")","v":2.8977346899606902},{"$f":"IF(AND($A2<=n,Z$56<=flips),INT(501*RAND()+1),\"\")","v":158},{"$f":"IF(Y57<>\"\",INDEX($B$2:$B$502,Y57),\"\")","v":6.5764931629664947},{"$f":"IF(Y57<>\"\",INDEX($C$2:$C$502,Y57),\"\")","v":13.218822693597421},{"$f":"IF(AND($A2<=n,AC$56<=flips),INT(501*RAND()+1),\"\")","v":36},{"$f":"IF(AB57<>\"\",INDEX($B$2:$B$502,AB57),\"\")","v":1.6648953900000001},{"$f":"IF(AB57<>\"\",INDEX($C$2:$C$502,AB57),\"\")","v":1.8233785600000001},{"$f":"IF(AND($A2<=n,AF$56<=flips),INT(501*RAND()+1),\"\")","v":49},{"$f":"IF(AE57<>\"\",INDEX($B$2:$B$502,AE57),\"\")","v":1.22022199},{"$f":"IF(AE57<>\"\",INDEX($C$2:$C$502,AE57),\"\")","v":-2.8587521699999998},{"$f":"IF(AND($A2<=n,AI$56<=flips),INT(501*RAND()+1),\"\")","v":122},{"$f":"IF(AH57<>\"\",INDEX($B$2:$B$502,AH57),\"\")","v":7.182313270619229},{"$f":"IF(AH57<>\"\",INDEX($C$2:$C$502,AH57),\"\")","v":9.864613996322797},{"$f":"IF(AND($A2<=n,AL$56<=flips),INT(501*RAND()+1),\"\")","v":52},{"$f":"IF(AK57<>\"\",INDEX($B$2:$B$502,AK57),\"\")","v":8.4212998199999998},{"$f":"IF(AK57<>\"\",INDEX($C$2:$C$502,AK57),\"\")","v":10.24603712},{"$f":"IF(AND($A2<=n,AO$56<=flips),INT(501*RAND()+1),\"\")","v":107},{"$f":"IF(AN57<>\"\",INDEX($B$2:$B$502,AN57),\"\")","v":1.1405256196458247},{"$f":"IF(AN57<>\"\",INDEX($C$2:$C$502,AN57),\"\")","v":1.0120546091450575},{"$f":"IF(AND($A2<=n,AR$56<=flips),INT(501*RAND()+1),\"\")","v":409},{"$f":"IF(AQ57<>\"\",INDEX($B$2:$B$502,AQ57),\"\")","v":9.8503596824013595},{"$f":"IF(AQ57<>\"\",INDEX($C$2:$C$502,AQ57),\"\")","v":13.656028266075758},{"$f":"IF(AND($A2<=n,AU$56<=flips),INT(501*RAND()+1),\"\")","v":284},{"$f":"IF(AT57<>\"\",INDEX($B$2:$B$502,AT57),\"\")","v":7.818623012144597},{"$f":"IF(AT57<>\"\",INDEX($C$2:$C$502,AT57),\"\")","v":14.288010440950092},{"$f":"IF(AND($A2<=n,AX$56<=flips),INT(501*RAND()+1),\"\")","v":485},{"$f":"IF(AW57<>\"\",INDEX($B$2:$B$502,AW57),\"\")","v":2.8795624536466757},{"$f":"IF(AW57<>\"\",INDEX($C$2:$C$502,AW57),\"\")","v":5.3634522958762441},{"$f":"IF(AND($A2<=n,BA$56<=flips),INT(501*RAND()+1),\"\")","v":387},{"$f":"IF(AZ57<>\"\",INDEX($B$2:$B$502,AZ57),\"\")","v":9.5004431501629956},{"$f":"IF(AZ57<>\"\",INDEX($C$2:$C$502,AZ57),\"\")","v":12.75987320728431},{"$f":"IF(AND($A2<=n,BD$56<=flips),INT(501*RAND()+1),\"\")","v":183},{"$f":"IF(BC57<>\"\",INDEX($B$2:$B$502,BC57),\"\")","v":2.3217560734071774},{"$f":"IF(BC57<>\"\",INDEX($C$2:$C$502,BC57),\"\")","v":2.9248271345654651},{"$f":"IF(AND($A2<=n,BG$56<=flips),INT(501*RAND()+1),\"\")","v":196},{"$f":"IF(BF57<>\"\",INDEX($B$2:$B$502,BF57),\"\")","v":0.76803770988060238},{"$f":"IF(BF57<>\"\",INDEX($C$2:$C$502,BF57),\"\")","v":-0.17529515458519196},{"$f":"IF(AND($A2<=n,BJ$56<=flips),INT(501*RAND()+1),\"\")","v":347},{"$f":"IF(BI57<>\"\",INDEX($B$2:$B$502,BI57),\"\")","v":6.3247959995675895},{"$f":"IF(BI57<>\"\",INDEX($C$2:$C$502,BI57),\"\")","v":7.8685728216588791},{"$f":"IF(AND($A2<=n,BM$56<=flips),INT(501*RAND()+1),\"\")","v":258},{"$f":"IF(BL57<>\"\",INDEX($B$2:$B$502,BL57),\"\")","v":1.2394882492330073},{"$f":"IF(BL57<>\"\",INDEX($C$2:$C$502,BL57),\"\")","v":0.73355664601018433},{"$f":"IF(AND($A2<=n,BP$56<=flips),INT(501*RAND()+1),\"\")","v":7},{"$f":"IF(BO57<>\"\",INDEX($B$2:$B$502,BO57),\"\")","v":5.5718689399999999},{"$f":"IF(BO57<>\"\",INDEX($C$2:$C$502,BO57),\"\")","v":3.4202956800000002},{"$f":"IF(AND($A2<=n,BS$56<=flips),INT(501*RAND()+1),\"\")","v":120},{"$f":"IF(BR57<>\"\",INDEX($B$2:$B$502,BR57),\"\")","v":0.35354353741588795},{"$f":"IF(BR57<>\"\",INDEX($C$2:$C$502,BR57),\"\")","v":-1.0731643416126662},{"$f":"IF(AND($A2<=n,BV$56<=flips),INT(501*RAND()+1),\"\")","v":292},{"$f":"IF(BU57<>\"\",INDEX($B$2:$B$502,BU57),\"\")","v":3.0610660275056034},{"$f":"IF(BU57<>\"\",INDEX($C$2:$C$502,BU57),\"\")","v":8.1888671683822771},{"$f":"IF(AND($A2<=n,BY$56<=flips),INT(501*RAND()+1),\"\")","v":216},{"$f":"IF(BX57<>\"\",INDEX($B$2:$B$502,BX57),\"\")","v":7.8903828523821495},{"$f":"IF(BX57<>\"\",INDEX($C$2:$C$502,BX57),\"\")","v":6.7415408013276004},{"$f":"IF(AND($A2<=n,CB$56<=flips),INT(501*RAND()+1),\"\")","v":283},{"$f":"IF(CA57<>\"\",INDEX($B$2:$B$502,CA57),\"\")","v":6.1842725200147726},{"$f":"IF(CA57<>\"\",INDEX($C$2:$C$502,CA57),\"\")","v":7.808466476660179},{"$f":"IF(AND($A2<=n,CE$56<=flips),INT(501*RAND()+1),\"\")","v":474},{"$f":"IF(CD57<>\"\",INDEX($B$2:$B$502,CD57),\"\")","v":6.1767803832186363},{"$f":"IF(CD57<>\"\",INDEX($C$2:$C$502,CD57),\"\")","v":11.118102665077959},{"$f":"IF(AND($A2<=n,CH$56<=flips),INT(501*RAND()+1),\"\")","v":91},{"$f":"IF(CG57<>\"\",INDEX($B$2:$B$502,CG57),\"\")","v":4.4224595999999998},{"$f":"IF(CG57<>\"\",INDEX($C$2:$C$502,CG57),\"\")","v":7.0814903300000003},{"$f":"IF(AND($A2<=n,CK$56<=flips),INT(501*RAND()+1),\"\")","v":417},{"$f":"IF(CJ57<>\"\",INDEX($B$2:$B$502,CJ57),\"\")","v":7.3386603021936114},{"$f":"IF(CJ57<>\"\",INDEX($C$2:$C$502,CJ57),\"\")","v":15.295872075750442},{"$f":"IF(AND($A2<=n,CN$56<=flips),INT(501*RAND()+1),\"\")","v":129},{"$f":"IF(CM57<>\"\",INDEX($B$2:$B$502,CM57),\"\")","v":3.4021490602585969},{"$f":"IF(CM57<>\"\",INDEX($C$2:$C$502,CM57),\"\")","v":7.3291441406926339},{"$f":"IF(AND($A2<=n,CQ$56<=flips),INT(501*RAND()+1),\"\")","v":252},{"$f":"IF(CP57<>\"\",INDEX($B$2:$B$502,CP57),\"\")","v":2.6702250271780237},{"$f":"IF(CP57<>\"\",INDEX($C$2:$C$502,CP57),\"\")","v":2.925908317102361},{"$f":"IF(AND($A2<=n,CT$56<=flips),INT(501*RAND()+1),\"\")","v":39},{"$f":"IF(CS57<>\"\",INDEX($B$2:$B$502,CS57),\"\")","v":2.7793912399999998},{"$f":"IF(CS57<>\"\",INDEX($C$2:$C$502,CS57),\"\")","v":5.3105028299999999},{"$f":"IF(AND($A2<=n,CW$56<=flips),INT(501*RAND()+1),\"\")","v":455},{"$f":"IF(CV57<>\"\",INDEX($B$2:$B$502,CV57),\"\")","v":6.075263980189149},{"$f":"IF(CV57<>\"\",INDEX($C$2:$C$502,CV57),\"\")","v":11.282461750971585},{"$f":"IF(AND($A2<=n,CZ$56<=flips),INT(501*RAND()+1),\"\")","v":491},{"$f":"IF(CY57<>\"\",INDEX($B$2:$B$502,CY57),\"\")","v":5.4002680752708176},{"$f":"IF(CY57<>\"\",INDEX($C$2:$C$502,CY57),\"\")","v":9.3292209099241745},{"$f":"IF(AND($A2<=n,DC$56<=flips),INT(501*RAND()+1),\"\")","v":315},{"$f":"IF(DB57<>\"\",INDEX($B$2:$B$502,DB57),\"\")","v":8.9355246603105254},{"$f":"IF(DB57<>\"\",INDEX($C$2:$C$502,DB57),\"\")","v":15.393548209679764},{"$f":"IF(AND($A2<=n,DF$56<=flips),INT(501*RAND()+1),\"\")","v":216},{"$f":"IF(DE57<>\"\",INDEX($B$2:$B$502,DE57),\"\")","v":7.8903828523821495},{"$f":"IF(DE57<>\"\",INDEX($C$2:$C$502,DE57),\"\")","v":6.7415408013276004},{"$f":"IF(AND($A2<=n,DI$56<=flips),INT(501*RAND()+1),\"\")","v":198},{"$f":"IF(DH57<>\"\",INDEX($B$2:$B$502,DH57),\"\")","v":6.0178781402330994},{"$f":"IF(DH57<>\"\",INDEX($C$2:$C$502,DH57),\"\")","v":7.3870964732148332},{"$f":"IF(AND($A2<=n,DL$56<=flips),INT(501*RAND()+1),\"\")","v":433},{"$f":"IF(DK57<>\"\",INDEX($B$2:$B$502,DK57),\"\")","v":3.27441585738101},{"$f":"IF(DK57<>\"\",INDEX($C$2:$C$502,DK57),\"\")","v":6.7843168266616818},{"$f":"IF(AND($A2<=n,DO$56<=flips),INT(501*RAND()+1),\"\")","v":261},{"$f":"IF(DN57<>\"\",INDEX($B$2:$B$502,DN57),\"\")","v":9.0074577620333436},{"$f":"IF(DN57<>\"\",INDEX($C$2:$C$502,DN57),\"\")","v":13.253751216105011},{"$f":"IF(AND($A2<=n,DR$56<=flips),INT(501*RAND()+1),\"\")","v":462},{"$f":"IF(DQ57<>\"\",INDEX($B$2:$B$502,DQ57),\"\")","v":1.0059581562211317},{"$f":"IF(DQ57<>\"\",INDEX($C$2:$C$502,DQ57),\"\")","v":0.12797791593396501},{"$f":"IF(AND($A2<=n,DU$56<=flips),INT(501*RAND()+1),\"\")","v":255},{"$f":"IF(DT57<>\"\",INDEX($B$2:$B$502,DT57),\"\")","v":4.5506393858648675},{"$f":"IF(DT57<>\"\",INDEX($C$2:$C$502,DT57),\"\")","v":5.838884714126932},{"$f":"IF(AND($A2<=n,DX$56<=flips),INT(501*RAND()+1),\"\")","v":101},{"$f":"IF(DW57<>\"\",INDEX($B$2:$B$502,DW57),\"\")","v":5.4458456762474583},{"$f":"IF(DW57<>\"\",INDEX($C$2:$C$502,DW57),\"\")","v":6.6681100293613467},{"$f":"IF(AND($A2<=n,EA$56<=flips),INT(501*RAND()+1),\"\")","v":357},{"$f":"IF(DZ57<>\"\",INDEX($B$2:$B$502,DZ57),\"\")","v":6.4900321083413282},{"$f":"IF(DZ57<>\"\",INDEX($C$2:$C$502,DZ57),\"\")","v":13.120219713956633},{"$f":"IF(AND($A2<=n,ED$56<=flips),INT(501*RAND()+1),\"\")","v":68},{"$f":"IF(EC57<>\"\",INDEX($B$2:$B$502,EC57),\"\")","v":4.59207945},{"$f":"IF(EC57<>\"\",INDEX($C$2:$C$502,EC57),\"\")","v":2.4343364599999999},{"$f":"IF(AND($A2<=n,EG$56<=flips),INT(501*RAND()+1),\"\")","v":381},{"$f":"IF(EF57<>\"\",INDEX($B$2:$B$502,EF57),\"\")","v":9.1319343172330729},{"$f":"IF(EF57<>\"\",INDEX($C$2:$C$502,EF57),\"\")","v":12.552913191434319},{"$f":"IF(AND($A2<=n,EJ$56<=flips),INT(501*RAND()+1),\"\")","v":78},{"$f":"IF(EI57<>\"\",INDEX($B$2:$B$502,EI57),\"\")","v":5.7589141000000001},{"$f":"IF(EI57<>\"\",INDEX($C$2:$C$502,EI57),\"\")","v":6.3190208200000004},{"$f":"IF(AND($A2<=n,EM$56<=flips),INT(501*RAND()+1),\"\")","v":368},{"$f":"IF(EL57<>\"\",INDEX($B$2:$B$502,EL57),\"\")","v":4.4205173223964334},{"$f":"IF(EL57<>\"\",INDEX($C$2:$C$502,EL57),\"\")","v":5.404310703761789},{"$f":"IF(AND($A2<=n,EP$56<=flips),INT(501*RAND()+1),\"\")","v":351},{"$f":"IF(EO57<>\"\",INDEX($B$2:$B$502,EO57),\"\")","v":7.2935958371762499},{"$f":"IF(EO57<>\"\",INDEX($C$2:$C$502,EO57),\"\")","v":9.6293815376374745},{"$f":"IF(AND($A2<=n,ES$56<=flips),INT(501*RAND()+1),\"\")","v":401},{"$f":"IF(ER57<>\"\",INDEX($B$2:$B$502,ER57),\"\")","v":2.4874776446800251},{"$f":"IF(ER57<>\"\",INDEX($C$2:$C$502,ER57),\"\")","v":2.5548488822556337},{"$f":"IF(AND($A2<=n,EV$56<=flips),INT(501*RAND()+1),\"\")","v":61},{"$f":"IF(EU57<>\"\",INDEX($B$2:$B$502,EU57),\"\")","v":5.6862280099999998},{"$f":"IF(EU57<>\"\",INDEX($C$2:$C$502,EU57),\"\")","v":9.6901438100000004},{"$f":"IF(AND($A2<=n,EY$56<=flips),INT(501*RAND()+1),\"\")","v":421},{"$f":"IF(EX57<>\"\",INDEX($B$2:$B$502,EX57),\"\")","v":0.54660265947950926},{"$f":"IF(EX57<>\"\",INDEX($C$2:$C$502,EX57),\"\")","v":-0.18653225912045091},{"$f":"IF(AND($A2<=n,FB$56<=flips),INT(501*RAND()+1),\"\")","v":155},{"$f":"IF(FA57<>\"\",INDEX($B$2:$B$502,FA57),\"\")","v":4.8256411591609805},{"$f":"IF(FA57<>\"\",INDEX($C$2:$C$502,FA57),\"\")","v":6.1600312882596793},{"$f":"IF(AND($A2<=n,FE$56<=flips),INT(501*RAND()+1),\"\")","v":""},{"$f":"IF(FD57<>\"\",INDEX($B$2:$B$502,FD57),\"\")","v":""},{"$f":"IF(FD57<>\"\",INDEX($C$2:$C$502,FD57),\"\")","v":""},{"$f":"IF(AND($A2<=n,FH$56<=flips),INT(501*RAND()+1),\"\")","v":""},{"$f":"IF(FG57<>\"\",INDEX($B$2:$B$502,FG57),\"\")","v":""},{"$f":"IF(FG57<>\"\",INDEX($C$2:$C$502,FG57),\"\")","v":""},{"$f":"IF(AND($A2<=n,FK$56<=flips),INT(501*RAND()+1),\"\")","v":""},{"$f":"IF(FJ57<>\"\",INDEX($B$2:$B$502,FJ57),\"\")","v":""},{"$f":"IF(FJ57<>\"\",INDEX($C$2:$C$502,FJ57),\"\")","v":""},{"$f":"IF(AND($A2<=n,FN$56<=flips),INT(501*RAND()+1),\"\")","v":""},{"$f":"IF(FM57<>\"\",INDEX($B$2:$B$502,FM57),\"\")","v":""},{"$f":"IF(FM57<>\"\",INDEX($C$2:$C$502,FM57),\"\")","v":""},{"$f":"IF(AND($A2<=n,FQ$56<=flips),INT(501*RAND()+1),\"\")","v":""},{"$f":"IF(FP57<>\"\",INDEX($B$2:$B$502,FP57),\"\")","v":""},{"$f":"IF(FP57<>\"\",INDEX($C$2:$C$502,FP57),\"\")","v":""},{"$f":"IF(AND($A2<=n,FT$56<=flips),INT(501*RAND()+1),\"\")","v":""},{"$f":"IF(FS57<>\"\",INDEX($B$2:$B$502,FS57),\"\")","v":""},{"$f":"IF(FS57<>\"\",INDEX($C$2:$C$502,FS57),\"\")","v":""},{"$f":"IF(AND($A2<=n,FW$56<=flips),INT(501*RAND()+1),\"\")","v":""},{"$f":"IF(FV57<>\"\",INDEX($B$2:$B$502,FV57),\"\")","v":""},{"$f":"IF(FV57<>\"\",INDEX($C$2:$C$502,FV57),\"\")","v":""},{"$f":"IF(AND($A2<=n,FZ$56<=flips),INT(501*RAND()+1),\"\")","v":""},{"$f":"IF(FY57<>\"\",INDEX($B$2:$B$502,FY57),\"\")","v":""},{"$f":"IF(FY57<>\"\",INDEX($C$2:$C$502,FY57),\"\")","v":""},{"$f":"IF(AND($A2<=n,GC$56<=flips),INT(501*RAND()+1),\"\")","v":""},{"$f":"IF(GB57<>\"\",INDEX($B$2:$B$502,GB57),\"\")","v":""},{"$f":"IF(GB57<>\"\",INDEX($C$2:$C$502,GB57),\"\")","v":""},{"$f":"IF(AND($A2<=n,GF$56<=flips),INT(501*RAND()+1),\"\")","v":""},{"$f":"IF(GE57<>\"\",INDEX($B$2:$B$502,GE57),\"\")","v":""},{"$f":"IF(GE57<>\"\",INDEX($C$2:$C$502,GE57),\"\")","v":""},{"$f":"IF(AND($A2<=n,GI$56<=flips),INT(501*RAND()+1),\"\")","v":""},{"$f":"IF(GH57<>\"\",INDEX($B$2:$B$502,GH57),\"\")","v":""},{"$f":"IF(GH57<>\"\",INDEX($C$2:$C$502,GH57),\"\")","v":""},{"$f":"IF(AND($A2<=n,GL$56<=flips),INT(501*RAND()+1),\"\")","v":""},{"$f":"IF(GK57<>\"\",INDEX($B$2:$B$502,GK57),\"\")","v":""},{"$f":"IF(GK57<>\"\",INDEX($C$2:$C$502,GK57),\"\")","v":""},{"$f":"IF(AND($A2<=n,GO$56<=flips),INT(501*RAND()+1),\"\")","v":""},{"$f":"IF(GN57<>\"\",INDEX($B$2:$B$502,GN57),\"\")","v":""},{"$f":"IF(GN57<>\"\",INDEX($C$2:$C$502,GN57),\"\")","v":""},{"$f":"IF(AND($A2<=n,GR$56<=flips),INT(501*RAND()+1),\"\")","v":""},{"$f":"IF(GQ57<>\"\",INDEX($B$2:$B$502,GQ57),\"\")","v":""},{"$f":"IF(GQ57<>\"\",INDEX($C$2:$C$502,GQ57),\"\")","v":""},{"$f":"IF(AND($A2<=n,GU$56<=flips),INT(501*RAND()+1),\"\")","v":""},{"$f":"IF(GT57<>\"\",INDEX($B$2:$B$502,GT57),\"\")","v":""},{"$f":"IF(GT57<>\"\",INDEX($C$2:$C$502,GT57),\"\")","v":""},{"$f":"IF(AND($A2<=n,GX$56<=flips),INT(501*RAND()+1),\"\")","v":""},{"$f":"IF(GW57<>\"\",INDEX($B$2:$B$502,GW57),\"\")","v":""},{"$f":"IF(GW57<>\"\",INDEX($C$2:$C$502,GW57),\"\")","v":""},{"$f":"IF(AND($A2<=n,HA$56<=flips),INT(501*RAND()+1),\"\")","v":""},{"$f":"IF(GZ57<>\"\",INDEX($B$2:$B$502,GZ57),\"\")","v":""},{"$f":"IF(GZ57<>\"\",INDEX($C$2:$C$502,GZ57),\"\")","v":""},{"$f":"IF(AND($A2<=n,HD$56<=flips),INT(501*RAND()+1),\"\")","v":""},{"$f":"IF(HC57<>\"\",INDEX($B$2:$B$502,HC57),\"\")","v":""},{"$f":"IF(HC57<>\"\",INDEX($C$2:$C$502,HC57),\"\")","v":""},{"$f":"IF(AND($A2<=n,HG$56<=flips),INT(501*RAND()+1),\"\")","v":""},{"$f":"IF(HF57<>\"\",INDEX($B$2:$B$502,HF57),\"\")","v":""},{"$f":"IF(HF57<>\"\",INDEX($C$2:$C$502,HF57),\"\")","v":""},{"$f":"IF(AND($A2<=n,HJ$56<=flips),INT(501*RAND()+1),\"\")","v":""},{"$f":"IF(HI57<>\"\",INDEX($B$2:$B$502,HI57),\"\")","v":""},{"$f":"IF(HI57<>\"\",INDEX($C$2:$C$502,HI57),\"\")","v":""},{"$f":"IF(AND($A2<=n,HM$56<=flips),INT(501*RAND()+1),\"\")","v":""},{"$f":"IF(HL57<>\"\",INDEX($B$2:$B$502,HL57),\"\")","v":""},{"$f":"IF(HL57<>\"\",INDEX($C$2:$C$502,HL57),\"\")","v":""},{"$f":"IF(AND($A2<=n,HP$56<=flips),INT(501*RAND()+1),\"\")","v":""},{"$f":"IF(HO57<>\"\",INDEX($B$2:$B$502,HO57),\"\")","v":""},{"$f":"IF(HO57<>\"\",INDEX($C$2:$C$502,HO57),\"\")","v":""},{"$f":"IF(AND($A2<=n,HS$56<=flips),INT(501*RAND()+1),\"\")","v":""},{"$f":"IF(HR57<>\"\",INDEX($B$2:$B$502,HR57),\"\")","v":""},{"$f":"IF(HR57<>\"\",INDEX($C$2:$C$502,HR57),\"\")","v":""},{"$f":"IF(AND($A2<=n,HV$56<=flips),INT(501*RAND()+1),\"\")","v":""},{"$f":"IF(HU57<>\"\",INDEX($B$2:$B$502,HU57),\"\")","v":""},{"$f":"IF(HU57<>\"\",INDEX($C$2:$C$502,HU57),\"\")","v":""},{"$f":"IF(AND($A2<=n,HY$56<=flips),INT(501*RAND()+1),\"\")","v":""},{"$f":"IF(HX57<>\"\",INDEX($B$2:$B$502,HX57),\"\")","v":""},{"$f":"IF(HX57<>\"\",INDEX($C$2:$C$502,HX57),\"\")","v":""},{"$f":"IF(AND($A2<=n,IB$56<=flips),INT(501*RAND()+1),\"\")","v":""},{"$f":"IF(IA57<>\"\",INDEX($B$2:$B$502,IA57),\"\")","v":""},{"$f":"IF(IA57<>\"\",INDEX($C$2:$C$502,IA57),\"\")","v":""},{"$f":"IF(AND($A2<=n,IE$56<=flips),INT(501*RAND()+1),\"\")","v":""},{"$f":"IF(ID57<>\"\",INDEX($B$2:$B$502,ID57),\"\")","v":""},{"$f":"IF(ID57<>\"\",INDEX($C$2:$C$502,ID57),\"\")","v":""},{"$f":"IF(AND($A2<=n,IH$56<=flips),INT(501*RAND()+1),\"\")","v":""},{"$f":"IF(IG57<>\"\",INDEX($B$2:$B$502,IG57),\"\")","v":""},{"$f":"IF(IG57<>\"\",INDEX($C$2:$C$502,IG57),\"\")","v":""},{"$f":"IF(AND($A2<=n,IK$56<=flips),INT(501*RAND()+1),\"\")","v":""},{"$f":"IF(IJ57<>\"\",INDEX($B$2:$B$502,IJ57),\"\")","v":""},{"$f":"IF(IJ57<>\"\",INDEX($C$2:$C$502,IJ57),\"\")","v":""},{"$f":"IF(AND($A2<=n,IN$56<=flips),INT(501*RAND()+1),\"\")","v":""},{"$f":"IF(IM57<>\"\",INDEX($B$2:$B$502,IM57),\"\")","v":""},{"$f":"IF(IM57<>\"\",INDEX($C$2:$C$502,IM57),\"\")","v":""},{"$f":"IF(AND($A2<=n,IQ$56<=flips),INT(501*RAND()+1),\"\")","v":""},{"$f":"IF(IP57<>\"\",INDEX($B$2:$B$502,IP57),\"\")","v":""},{"$f":"IF(IP57<>\"\",INDEX($C$2:$C$502,IP57),\"\")","v":""},{"$f":"IF(AND($A2<=n,IT$56<=flips),INT(501*RAND()+1),\"\")","v":""},{"$f":"IF(IS57<>\"\",INDEX($B$2:$B$502,IS57),\"\")","v":""},{"$f":"IF(IS57<>\"\",INDEX($C$2:$C$502,IS57),\"\")","v":""},{"$f":"FN54","v":0.92535011035439485}]
[57,4.4389659000000004,2.81245038,79,{"$f":"IF(D58<>\"\",INDEX($B$2:$B$502,D58),\"\")","v":1.39826337},{"$f":"IF(D58<>\"\",INDEX($C$2:$C$502,D58),\"\")","v":1.12138749},40,8.0786452499999992,8.0379548700000001,26,8.4310446300000006,11.3286742,289,9.1558546588781642,13.345455166555794,178,7.2518105835745672,11.875647018657912,459,3.6068105942080053,4.0983668111970726,340,1.7998922865176414,1.8595912072524055,284,7.818623012144597,14.288010440950092,86,1.25997063,0.88099889499999995,126,8.8349732676527726,11.917701081681987,462,1.0059581562211317,0.12797791593396501,400,1.3928145321172103,4.6426942183984741,337,6.9008867643619247,10.204409107974497,320,8.6877146182605465,15.233535264352582,68,4.59207945,2.4343364599999999,284,7.818623012144597,14.288010440950092,332,0.61801842081518288,1.2424019630482599,259,6.5239562867684793,8.5470040434976404,188,9.1345655578800589E-2,-1.4671504185821658,231,6.5893763959274914,8.971115924241138,78,5.7589141000000001,6.3190208200000004,157,7.2810892925524584,9.7350388718327459,185,8.1699973206037448,11.341782431199082,407,9.4578980321574022,13.162653526693784,163,5.4932355305844798,8.8656207961652012,57,4.4389659000000004,2.81245038,249,9.8019176403557751,16.65592597297271,70,1.423125,0.64634512099999997,480,8.2796306061379212,11.034225795616823,340,1.7998922865176414,1.8595912072524055,181,6.2890043826908126,12.751292336237183,119,4.1661267499970478,7.4375455053121549,211,4.9689101028393967,6.5161516213616197,440,9.9083344028830922,14.030196260761389,158,6.5764931629664947,13.218822693597421,395,7.826619216503234,10.134721442862574,475,7.9138442150953558,10.703020787632038,153,3.2384547362536154,4.3544413035996898,311,9.8732776289864876,13.39935789623949,26,8.4310446300000006,11.3286742,46,6.9409220200000004,6.7436555499999997,414,2.7950537847837964,4.5073928915468091,497,0.22086403318721359,-1.3690361231285952,172,7.3103128496753573,10.56882331609917,428,4.325001095251368,5.0708702554562199,443,9.6400232339910481,14.714347343605308,188,9.1345655578800589E-2,-1.4671504185821658,469,9.4131592375111506,13.251051764366048,277,5.220468369479347,8.1139770160987776,406,6.1174243289691699,11.635918876811942,81,5.5414155999999997,8.21511411,482,5.8149146706111843,7.78950536979365,"","","","","","","","","","","","","","","","","","","","","","","","","","","","","","","","","","","","","","","","","","","","","","","","","","","","","","","","","","","","","","","","","","","","","","","","","","","","","","","","","","","","","","","","","","","","","","","","",{"$f":"FQ54","v":0.9303400192395922}]
[58,5.9462980999999999,9.7186380799999998,268,4.8050001233502115,6.1785477163140996,295,5.3604518039992683,8.1724568467567948,154,9.8373755329406993,15.801176329166585,234,1.1330083820892867,3.9329833082832204,75,4.4822054400000004,4.6762966099999996,138,7.2415678080261969,9.5755070649732623,181,6.2890043826908126,12.751292336237183,18,6.2052832000000002,8.9630255999999999,337,6.9008867643619247,10.204409107974497,282,7.3934600803110868,12.654889585788244,396,8.2278637630366447,11.785310894543299,209,5.4429712832420085,7.6258458572340526,191,8.862057695934995,12.368626358792984,445,6.9115955179206656,9.4989223867298804,484,4.0045094149045024,5.7257781052145909,358,6.8644644434118813,9.2775228103630116,55,9.1472265700000008,9.7148863700000003,286,0.15446583210299014,-0.8391181197015869,499,6.1626943154846758,9.9580512542602477,52,8.4212998199999998,10.24603712,171,8.7780746245692143,13.506420648081406,274,3.0262558719003962,9.169401729152689,46,6.9409220200000004,6.7436555499999997,30,3.6021492500000001,6.0466772400000002,139,3.5467090203525475,8.8908244024619005,369,6.9658494743887545,9.4982959108348108,456,9.0579338811012011,14.242059244215399,94,6.2620883799999998,10.6125892,165,3.0401163617295479,3.5833705441942101,421,0.54660265947950926,-0.18653225912045091,196,0.76803770988060238,-0.17529515458519196,167,5.6949934178282025,7.5872591807906486,228,2.5634850895736427,2.4768516990427418,59,0.11949396399999999,-4.5824346299999998,334,0.1426316554836049,-0.78786307693174251,134,9.1500914337672956,14.553313377781,320,8.6877146182605465,15.233535264352582,280,4.6960122517294334,6.3431212890244,200,4.0071369326860351,5.8149025862845107,149,8.0900216626433252,10.603349573558262,44,2.5187078600000001,3.9538099999999998,76,4.3412921999999998,4.0240330999999996,16,1.20622191,-1.56819643,499,6.1626943154846758,9.9580512542602477,304,7.9525604667211196,9.8374114454575601,7,5.5718689399999999,3.4202956800000002,349,4.9966891895952958,6.064861197109102,426,4.5326184498414541,7.2658175643726883,277,5.220468369479347,8.1139770160987776,338,6.1399117043838665,8.2210826242295774,138,7.2415678080261969,9.5755070649732623,246,2.5963679645121052,8.6568750385048006,"","","","","","","","","","","","","","","","","","","","","","","","","","","","","","","","","","","","","","","","","","","","","","","","","","","","","","","","","","","","","","","","","","","","","","","","","","","","","","","","","","","","","","","","","","","","","","","","",{"$f":"FT54","v":0.92942818333725308}]
[59,0.11949396399999999,-4.5824346299999998,75,4.4822054400000004,4.6762966099999996,20,8.97702256,12.3319163,395,7.826619216503234,10.134721442862574,489,2.3562173660461116,3.3868039256993798,315,8.9355246603105254,15.393548209679764,85,1.82822638,-2.92768506,224,8.8500932679654216,12.105880499957472,206,6.5727778271282133,8.7475985828241836,96,4.8245429299999998,3.8588945699999999,121,4.2728411131601867,5.2206182647121677,324,4.3558168742634829,7.801517982897999,161,4.3820515385193133,4.9365147229767743,369,6.9658494743887545,9.4982959108348108,461,4.8845852752784396,6.6348643622707826,285,6.6620714482949728,9.6321675585271631,65,2.1725842800000001,-0.318387121,408,4.5681849007135256,5.9608129255769073,82,5.1856461300000003,7.9659008900000003,116,5.3250493749477474,11.2900628245365,71,5.2521179900000003,8.9534160499999995,448,4.9931588576240138,7.2674600338665032,326,0.76667411142584463,2.1630137371862332,488,1.429231249359415,3.5381799420611801,489,2.3562173660461116,3.3868039256993798,429,0.84150849679000217,1.0462541563059669,421,0.54660265947950926,-0.18653225912045091,363,8.8903958428841925,12.042877971650041,156,7.5222741385832492,10.398178080808218,191,8.862057695934995,12.368626358792984,95,7.4445936899999996,10.165211899999999,459,3.6068105942080053,4.0983668111970726,119,4.1661267499970478,7.4375455053121549,21,9.6300481999999992,11.962618300000001,187,6.519533521942888,9.254708349873745,331,1.3243081533701484,1.0602961618497493,337,6.9008867643619247,10.204409107974497,413,9.7773770633914321,13.805124819802874,89,2.3520277799999998,-0.517630912,77,2.6233265499999998,4.44153764,116,5.3250493749477474,11.2900628245365,69,9.3413851000000001,14.209857100000001,473,8.8106454217136623,12.313253000955346,96,4.8245429299999998,3.8588945699999999,171,8.7780746245692143,13.506420648081406,371,6.7523814684139749,9.8569693030717573,220,4.3773948230563153,7.335011065144073,276,4.0381884226039766,5.3857284288438505,22,8.1017259500000005,12.679399800000001,90,6.6065631500000004,9.5195644500000007,228,2.5634850895736427,2.4768516990427418,197,3.0020486930644386,4.4511516805145366,477,3.1588429852097644,4.9684866719746434,"","","","","","","","","","","","","","","","","","","","","","","","","","","","","","","","","","","","","","","","","","","","","","","","","","","","","","","","","","","","","","","","","","","","","","","","","","","","","","","","","","","","","","","","","","","","","","","","",{"$f":"FW54","v":0.94038264394899129}]
[60,4.5104675800000003,6.9694584800000001,377,3.0408975358690071,2.6602505325350201,57,4.4389659000000004,2.81245038,358,6.8644644434118813,9.2775228103630116,60,4.5104675800000003,6.9694584800000001,263,6.5771345737093618,10.129726947775568,32,4.6696612699999998,5.3886031499999998,230,8.7358017372407204,13.504142490399479,449,4.3506429977654015,5.6550583574589179,375,4.3911451875225893,5.019223424003405,296,8.233341992061245,13.716824070049993,196,0.76803770988060238,-0.17529515458519196,202,6.996969959662005,8.8053679620889831,435,3.8642261794273658,9.2796652551715511,158,6.5764931629664947,13.218822693597421,454,5.9778139928798435,8.9311886960292632,400,1.3928145321172103,4.6426942183984741,443,9.6400232339910481,14.714347343605308,441,9.3548784425746696,16.689508933402745,393,1.8554865276435994,1.8222645960802755,208,1.5051788029239521,4.9638057506063475,316,8.141106430121285,13.610480114295285,287,7.7959736246489175,11.006525900573429,177,5.3679291962647957,6.5109667962489217,214,1.6941838803347231,0.83294517643265431,390,9.4746422668363195,13.830945987610692,43,5.1334551900000003,8.2972361899999996,63,5.2446946700000003,7.8713711000000002,118,7.9459313192243197,12.866085688882031,99,8.4986549606923578,15.265962912187948,458,1.3578284498681548,2.5379222086592796,141,4.8005063115632574,5.6106886371162874,99,8.4986549606923578,15.265962912187948,57,4.4389659000000004,2.81245038,82,5.1856461300000003,7.9659008900000003,364,2.674927641791407,4.8361072334281729,3,7.9678431400000003,7.8402365899999999,10,4.3081281100000002,4.9679645800000003,125,2.4221504716819453,2.1387712771999832,17,2.1361076400000001,4.7004972599999997,185,8.1699973206037448,11.341782431199082,37,3.9202844799999998,2.04055271,318,3.8323661245541629,4.9005898149337508,449,4.3506429977654015,5.6550583574589179,80,8.3465480200000002,10.091565299999999,87,5.9835337900000001,6.7541769299999999,365,8.8782001103438812,12.349001526138636,272,2.9001792757518441,3.3810563193857082,167,5.6949934178282025,7.5872591807906486,437,5.3936026916160813,7.5269307804698089,420,6.569000716891928,8.1677036913542587,471,5.9742813871291389,7.870514320009943,333,6.9817304993047475,8.979745073768191,"","","","","","","","","","","","","","","","","","","","","","","","","","","","","","","","","","","","","","","","","","","","","","","","","","","","","","","","","","","","","","","","","","","","","","","","","","","","","","","","","","","","","","","","","","","","","","","","",{"$f":"FZ54","v":0.78657293846265652}]
[61,5.6862280099999998,9.6901438100000004,4,6.2171594299999997,9.7130448299999994,181,6.2890043826908126,12.751292336237183,200,4.0071369326860351,5.8149025862845107,15,0.74146844599999995,-3.1050906700000001,207,0.38803442786040421,-0.84365506804234947,192,6.6372141472336654,9.0381054897906381,95,7.4445936899999996,10.165211899999999,495,5.6670881206542045,8.7474404972316631,496,4.5326842345820495,5.1733498148988177,280,4.6960122517294334,6.3431212890244,283,6.1842725200147726,7.808466476660179,226,9.2500602122973614,11.351208399530799,370,4.4215250791477079,10.527068064918168,132,2.3657539173435982,1.9008836040513479,185,8.1699973206037448,11.341782431199082,439,3.9366875209881425,4.3564057071213753,196,0.76803770988060238,-0.17529515458519196,491,5.4002680752708176,9.3292209099241745,430,4.0231000638151926,4.5932348661614739,35,1.7000925,-2.08932327,446,1.7654113582191089,2.141253773149888,338,6.1399117043838665,8.2210826242295774,276,4.0381884226039766,5.3857284288438505,426,4.5326184498414541,7.2658175643726883,382,3.9405995487896761,6.6048693588312615,217,8.7737972157628192,11.901876569481338,413,9.7773770633914321,13.805124819802874,365,8.8782001103438812,12.349001526138636,238,8.9789489170835779,14.57182859908777,470,3.2534896362086507,3.2825058166553216,267,6.5110817307785851,13.800060184140401,471,5.9742813871291389,7.870514320009943,91,4.4224595999999998,7.0814903300000003,218,9.1766607303114167,13.3242806178202,362,7.0533094021657856,9.5051582595847144,256,6.0503575811612365E-2,-0.88215821640236758,347,6.3247959995675895,7.8685728216588791,154,9.8373755329406993,15.801176329166585,341,9.9761232919260046,13.980574358054476,61,5.6862280099999998,9.6901438100000004,118,7.9459313192243197,12.866085688882031,495,5.6670881206542045,8.7474404972316631,185,8.1699973206037448,11.341782431199082,215,4.4844934000096437,10.497068403577201,150,6.8236248933967891,12.354040682638001,465,3.9416342223019907,5.536921984303949,285,6.6620714482949728,9.6321675585271631,40,8.0786452499999992,8.0379548700000001,50,3.3373057099999999,0.91152189800000005,422,8.900442607690513,12.35432214856479,101,5.4458456762474583,6.6681100293613467,111,3.8563894703487112,4.9257543803902486,"","","","","","","","","","","","","","","","","","","","","","","","","","","","","","","","","","","","","","","","","","","","","","","","","","","","","","","","","","","","","","","","","","","","","","","","","","","","","","","","","","","","","","","","","","","","","","","","",{"$f":"GC54","v":0.92841555268403164}]
[62,6.5333036399999997,9.8579278600000002,461,4.8845852752784396,6.6348643622707826,406,6.1174243289691699,11.635918876811942,189,1.101807709501168,0.46254609360549703,331,1.3243081533701484,1.0602961618497493,485,2.8795624536466757,5.3634522958762441,172,7.3103128496753573,10.56882331609917,465,3.9416342223019907,5.536921984303949,364,2.674927641791407,4.8361072334281729,464,1.4581096815090877,0.65039979552104965,181,6.2890043826908126,12.751292336237183,358,6.8644644434118813,9.2775228103630116,168,5.7103770203424009,7.2397772694645726,280,4.6960122517294334,6.3431212890244,225,4.7927455702920296,7.82741515961016,230,8.7358017372407204,13.504142490399479,436,4.0820805396994864,8.7544259883443516,11,0.98388779100000001,-0.190496477,477,3.1588429852097644,4.9684866719746434,487,6.0398490469143589,8.00193117490468,88,8.87683015,11.8436226,438,4.3215582402596375,5.5561618103124433,413,9.7773770633914321,13.805124819802874,251,7.6582415224492912,10.144178208610738,295,5.3604518039992683,8.1724568467567948,187,6.519533521942888,9.254708349873745,167,5.6949934178282025,7.5872591807906486,154,9.8373755329406993,15.801176329166585,95,7.4445936899999996,10.165211899999999,313,1.620383073816658,2.2166902889335058,89,2.3520277799999998,-0.517630912,330,2.8377527642991263,3.3333387812130022,424,8.0719953943479084,11.164053202561197,84,8.6145668200000003,11.9266656,410,1.4768568736947074,1.3799032819796315,261,9.0074577620333436,13.253751216105011,67,8.53363023,11.8219133,205,9.041516206091643,12.043639779605522,187,6.519533521942888,9.254708349873745,435,3.8642261794273658,9.2796652551715511,10,4.3081281100000002,4.9679645800000003,253,2.7270468586034036,1.1828700834185699,351,7.2935958371762499,9.6293815376374745,10,4.3081281100000002,4.9679645800000003,95,7.4445936899999996,10.165211899999999,485,2.8795624536466757,5.3634522958762441,193,7.3238383677391106,9.8486686017351293,456,9.0579338811012011,14.242059244215399,380,7.8589178589293081,10.051016488601196,447,1.7217897250392489,1.4757734328180563,180,3.1214132439063502,3.8316182739838296,34,6.7508917300000002,6.6808205200000002,29,4.6090868499999997,2.6041155800000002,"","","","","","","","","","","","","","","","","","","","","","","","","","","","","","","","","","","","","","","","","","","","","","","","","","","","","","","","","","","","","","","","","","","","","","","","","","","","","","","","","","","","","","","","","","","","","","","","",{"$f":"GF54","v":0.94225226665426709}]
[63,5.2446946700000003,7.8713711000000002,305,5.4747900828073686,7.2465913957509533,415,9.7094675975974916,13.896482453995,451,9.655504892810324,13.602996726514972,106,5.5739660508097177,10.596846294807699,459,3.6068105942080053,4.0983668111970726,421,0.54660265947950926,-0.18653225912045091,231,6.5893763959274914,8.971115924241138,296,8.233341992061245,13.716824070049993,309,0.25699945148575987,1.59382960362792,335,3.6499905948580413,7.825033330792496,498,9.7910890322286335,13.160044791377686,313,1.620383073816658,2.2166902889335058,117,1.6340339228916534,3.020722199310383,469,9.4131592375111506,13.251051764366048,461,4.8845852752784396,6.6348643622707826,202,6.996969959662005,8.8053679620889831,206,6.5727778271282133,8.7475985828241836,31,5.6847760599999999,4.1550712799999996,444,4.5829127045120988,9.7188359995582747,473,8.8106454217136623,12.313253000955346,451,9.655504892810324,13.602996726514972,424,8.0719953943479084,11.164053202561197,457,7.7179870138134472,10.458313363579663,279,3.7412358280695468,4.4347980900826478,321,8.6432983083976556,11.795238857365748,371,6.7523814684139749,9.8569693030717573,29,4.6090868499999997,2.6041155800000002,16,1.20622191,-1.56819643,282,7.3934600803110868,12.654889585788244,257,4.8671143214962798E-2,0.35667577297134001,256,6.0503575811612365E-2,-0.88215821640236758,165,3.0401163617295479,3.5833705441942101,463,8.8583914825613448,12.013535616745314,471,5.9742813871291389,7.870514320009943,50,3.3373057099999999,0.91152189800000005,63,5.2446946700000003,7.8713711000000002,414,2.7950537847837964,4.5073928915468091,29,4.6090868499999997,2.6041155800000002,63,5.2446946700000003,7.8713711000000002,294,5.3502649803261022,9.3992153776299077,81,5.5414155999999997,8.21511411,39,2.7793912399999998,5.3105028299999999,405,6.3082639571029953,8.4171265027942468,405,6.3082639571029953,8.4171265027942468,297,4.8105841760667722,5.724291400066047,263,6.5771345737093618,10.129726947775568,205,9.041516206091643,12.043639779605522,39,2.7793912399999998,5.3105028299999999,218,9.1766607303114167,13.3242806178202,463,8.8583914825613448,12.013535616745314,253,2.7270468586034036,1.1828700834185699,281,1.477663452221547,3.0510870667526055,"","","","","","","","","","","","","","","","","","","","","","","","","","","","","","","","","","","","","","","","","","","","","","","","","","","","","","","","","","","","","","","","","","","","","","","","","","","","","","","","","","","","","","","","","","","","","","","","",{"$f":"GI54","v":0.94589380269811063}]
[64,2.3317131500000001,3.9683671,441,9.3548784425746696,16.689508933402745,98,4.4179373499999999,3.4445838200000001,334,0.1426316554836049,-0.78786307693174251,34,6.7508917300000002,6.6808205200000002,353,5.644777953613076,8.6480184410304002,30,3.6021492500000001,6.0466772400000002,160,2.3790581557966028,5.6357215776136949,265,0.36522624383226177,-0.19922227605221843,50,3.3373057099999999,0.91152189800000005,175,2.2315282967237082,2.4042547655017708,500,3.9061874613272463,5.3176122982893004,60,4.5104675800000003,6.9694584800000001,293,1.5675344209138453,1.7533965630004673,131,6.8864912989983518,9.410603282295412,148,1.1377542072032565,4.1653095983966999,126,8.8349732676527726,11.917701081681987,337,6.9008867643619247,10.204409107974497,251,7.6582415224492912,10.144178208610738,340,1.7998922865176414,1.8595912072524055,70,1.423125,0.64634512099999997,13,5.69596444,8.7782791400000004,292,3.0610660275056034,8.1888671683822771,156,7.5222741385832492,10.398178080808218,240,3.4208672870853274,8.9278844529987893,367,5.7603707681106009,7.7914720670936486,379,2.483427613021556,4.8399690215175593,499,6.1626943154846758,9.9580512542602477,238,8.9789489170835779,14.57182859908777,249,9.8019176403557751,16.65592597297271,217,8.7737972157628192,11.901876569481338,67,8.53363023,11.8219133,308,0.86140813919678649,2.8977346899606902,393,1.8554865276435994,1.8222645960802755,20,8.97702256,12.3319163,26,8.4310446300000006,11.3286742,336,1.870541375343342,1.1805516340269766,61,5.6862280099999998,9.6901438100000004,336,1.870541375343342,1.1805516340269766,223,1.4677999427926225,1.3276112265289484,279,3.7412358280695468,4.4347980900826478,420,6.569000716891928,8.1677036913542587,417,7.3386603021936114,15.295872075750442,64,2.3317131500000001,3.9683671,267,6.5110817307785851,13.800060184140401,318,3.8323661245541629,4.9005898149337508,366,7.6590328997082864,9.9893809862059104,327,9.039115292345361,12.357589907902458,219,1.4135924929262988,3.7481662616878935,78,5.7589141000000001,6.3190208200000004,166,8.6908914981058629,15.603789463461201,477,3.1588429852097644,4.9684866719746434,205,9.041516206091643,12.043639779605522,"","","","","","","","","","","","","","","","","","","","","","","","","","","","","","","","","","","","","","","","","","","","","","","","","","","","","","","","","","","","","","","","","","","","","","","","","","","","","","","","","","","","","","","","","","","","","","","","",{"$f":"GL54","v":0.90690772915569706}]
[65,2.1725842800000001,-0.318387121,479,8.462811050415155,9.6409875244599998,364,2.674927641791407,4.8361072334281729,3,7.9678431400000003,7.8402365899999999,128,9.1177701257784616,11.889390364798979,84,8.6145668200000003,11.9266656,459,3.6068105942080053,4.0983668111970726,175,2.2315282967237082,2.4042547655017708,171,8.7780746245692143,13.506420648081406,493,2.4976878149009263,2.8511708533162654,5,7.8018108399999999,8.8408872499999998,312,5.4160761701007898,7.0981108578805241,468,2.121102408831459,2.606792530372414,433,3.27441585738101,6.7843168266616818,266,7.2161926911738306,9.8859229973063734,41,2.3735837000000002,-1.5927045900000001,163,5.4932355305844798,8.8656207961652012,329,6.0537901132036875,7.9817682349426731,439,3.9366875209881425,4.3564057071213753,301,1.4880319609982529,1.0816092435081188,208,1.5051788029239521,4.9638057506063475,294,5.3502649803261022,9.3992153776299077,156,7.5222741385832492,10.398178080808218,135,1.1446641872815011,3.1697184174253565,313,1.620383073816658,2.2166902889335058,322,0.15103619558535009,0.74855586193504564,448,4.9931588576240138,7.2674600338665032,109,4.2473853747116674,5.5314138092696616,99,8.4986549606923578,15.265962912187948,193,7.3238383677391106,9.8486686017351293,210,9.4908536981671787,13.202516086178253,45,9.3723747399999997,9.6176463699999992,246,2.5963679645121052,8.6568750385048006,231,6.5893763959274914,8.971115924241138,420,6.569000716891928,8.1677036913542587,209,5.4429712832420085,7.6258458572340526,253,2.7270468586034036,1.1828700834185699,480,8.2796306061379212,11.034225795616823,347,6.3247959995675895,7.8685728216588791,268,4.8050001233502115,6.1785477163140996,461,4.8845852752784396,6.6348643622707826,270,4.8924771983786464,9.4491420220653204,188,9.1345655578800589E-2,-1.4671504185821658,496,4.5326842345820495,5.1733498148988177,393,1.8554865276435994,1.8222645960802755,304,7.9525604667211196,9.8374114454575601,481,4.5791507599287158,6.4370171946791341,114,1.252853786427286,1.0100640028655623,452,6.6479377130863604,10.67406086654605,350,7.76762289708544,10.420430228595862,66,1.1164723999999999,-7.8287546E-2,370,4.4215250791477079,10.527068064918168,114,1.252853786427286,1.0100640028655623,"","","","","","","","","","","","","","","","","","","","","","","","","","","","","","","","","","","","","","","","","","","","","","","","","","","","","","","","","","","","","","","","","","","","","","","","","","","","","","","","","","","","","","","","","","","","","","","","",{"$f":"GO54","v":0.86531567206843685}]
[66,1.1164723999999999,-7.8287546E-2,200,4.0071369326860351,5.8149025862845107,32,4.6696612699999998,5.3886031499999998,81,5.5414155999999997,8.21511411,335,3.6499905948580413,7.825033330792496,12,9.1948615199999999,11.032072100000001,206,6.5727778271282133,8.7475985828241836,76,4.3412921999999998,4.0240330999999996,234,1.1330083820892867,3.9329833082832204,175,2.2315282967237082,2.4042547655017708,101,5.4458456762474583,6.6681100293613467,342,6.1140364480937777,7.6693035512060561,354,1.4703597302266935,0.77110129201157374,6,9.5395347800000003,13.2443258,381,9.1319343172330729,12.552913191434319,421,0.54660265947950926,-0.18653225912045091,346,1.1915612553786969,2.2692563540303219,337,6.9008867643619247,10.204409107974497,19,5.9551803400000001,4.7732745999999997,140,0.76271523417664078,0.2338329209201615,233,7.9848542353849306,10.790153830847302,280,4.6960122517294334,6.3431212890244,133,2.6830196025925201,3.0389984183887524,361,7.7104019408160536,11.235786062738599,294,5.3502649803261022,9.3992153776299077,395,7.826619216503234,10.134721442862574,44,2.5187078600000001,3.9538099999999998,174,6.3223547334367414,8.2132773358906981,118,7.9459313192243197,12.866085688882031,195,7.8962395661564555,10.467689897148318,73,6.3058183300000001,5.8214770199999997,34,6.7508917300000002,6.6808205200000002,392,7.8642278245167496,10.695125370339451,52,8.4212998199999998,10.24603712,282,7.3934600803110868,12.654889585788244,439,3.9366875209881425,4.3564057071213753,131,6.8864912989983518,9.410603282295412,294,5.3502649803261022,9.3992153776299077,308,0.86140813919678649,2.8977346899606902,380,7.8589178589293081,10.051016488601196,407,9.4578980321574022,13.162653526693784,55,9.1472265700000008,9.7148863700000003,461,4.8845852752784396,6.6348643622707826,427,6.9885348759584236,9.3455077581845476,124,9.5943776524206328,14.973745581355651,196,0.76803770988060238,-0.17529515458519196,429,0.84150849679000217,1.0462541563059669,287,7.7959736246489175,11.006525900573429,313,1.620383073816658,2.2166902889335058,330,2.8377527642991263,3.3333387812130022,349,4.9966891895952958,6.064861197109102,418,9.6101716773658019,14.488520415201176,79,1.39826337,1.12138749,"","","","","","","","","","","","","","","","","","","","","","","","","","","","","","","","","","","","","","","","","","","","","","","","","","","","","","","","","","","","","","","","","","","","","","","","","","","","","","","","","","","","","","","","","","","","","","","","",{"$f":"GR54","v":0.91961055053544383}]
[67,8.53363023,11.8219133,334,0.1426316554836049,-0.78786307693174251,348,6.2277472888214858,7.9355552105199703,253,2.7270468586034036,1.1828700834185699,7,5.5718689399999999,3.4202956800000002,257,4.8671143214962798E-2,0.35667577297134001,75,4.4822054400000004,4.6762966099999996,44,2.5187078600000001,3.9538099999999998,191,8.862057695934995,12.368626358792984,189,1.101807709501168,0.46254609360549703,33,2.4482117699999999,-1.0929169599999999,66,1.1164723999999999,-7.8287546E-2,192,6.6372141472336654,9.0381054897906381,49,1.22022199,-2.8587521699999998,245,7.9719723429466356,14.077036682687522,167,5.6949934178282025,7.5872591807906486,130,5.0060367960099228,5.9533080785299743,146,8.0919079664045395,12.022468542541647,102,3.4094557169609363,3.6520829590804085,28,4.4946079699999997,7.0527013700000003,274,3.0262558719003962,9.169401729152689,205,9.041516206091643,12.043639779605522,211,4.9689101028393967,6.5161516213616197,276,4.0381884226039766,5.3857284288438505,38,5.1867310800000004,5.8437575900000001,29,4.6090868499999997,2.6041155800000002,93,9.7713714700000001,11.31715752,309,0.25699945148575987,1.59382960362792,154,9.8373755329406993,15.801176329166585,328,2.0438486082449536,1.771787990984288,37,3.9202844799999998,2.04055271,132,2.3657539173435982,1.9008836040513479,175,2.2315282967237082,2.4042547655017708,398,5.9640576353372721,7.3864178093434401,207,0.38803442786040421,-0.84365506804234947,456,9.0579338811012011,14.242059244215399,356,1.4933176598749931,2.1275883997256515,352,3.2542346853922854,3.9283447304969492,427,6.9885348759584236,9.3455077581845476,451,9.655504892810324,13.602996726514972,305,5.4747900828073686,7.2465913957509533,311,9.8732776289864876,13.39935789623949,339,6.2612765442406459,9.0131252623016547,24,9.6908459800000006,12.150754600000001,43,5.1334551900000003,8.2972361899999996,222,2.9012296601372434,7.5231318089897998,74,3.1306581699999998,3.6333193600000002,345,7.1072252119212909,9.7334006368689181,114,1.252853786427286,1.0100640028655623,340,1.7998922865176414,1.8595912072524055,415,9.7094675975974916,13.896482453995,265,0.36522624383226177,-0.19922227605221843,67,8.53363023,11.8219133,"","","","","","","","","","","","","","","","","","","","","","","","","","","","","","","","","","","","","","","","","","","","","","","","","","","","","","","","","","","","","","","","","","","","","","","","","","","","","","","","","","","","","","","","","","","","","","","","",{"$f":"GU54","v":0.91562514790756089}]
[68,4.59207945,2.4343364599999999,121,4.2728411131601867,5.2206182647121677,422,8.900442607690513,12.35432214856479,323,6.8403117988900259,8.8327768684551362,259,6.5239562867684793,8.5470040434976404,262,1.8314434350190556,1.9047131476628156,348,6.2277472888214858,7.9355552105199703,32,4.6696612699999998,5.3886031499999998,349,4.9966891895952958,6.064861197109102,247,3.9683628429778928,4.5622538904374883,46,6.9409220200000004,6.7436555499999997,90,6.6065631500000004,9.5195644500000007,498,9.7910890322286335,13.160044791377686,193,7.3238383677391106,9.8486686017351293,244,1.7375385257517406,1.3274580924991946,393,1.8554865276435994,1.8222645960802755,339,6.2612765442406459,9.0131252623016547,190,3.6099991361880601,5.9099133664434191,364,2.674927641791407,4.8361072334281729,82,5.1856461300000003,7.9659008900000003,469,9.4131592375111506,13.251051764366048,112,4.3293947390416765,5.4820662630587123,73,6.3058183300000001,5.8214770199999997,289,9.1558546588781642,13.345455166555794,440,9.9083344028830922,14.030196260761389,98,4.4179373499999999,3.4445838200000001,20,8.97702256,12.3319163,164,9.9656062706024162,13.997749013626128,221,4.2438187682743411,6.2838912182060103,169,7.8580010287960045,12.828081007665793,40,8.0786452499999992,8.0379548700000001,290,3.5826281094704382,4.30831352958017,376,0.46505274619487835,-0.22593091958698719,198,6.0178781402330994,7.3870964732148332,259,6.5239562867684793,8.5470040434976404,357,6.4900321083413282,13.120219713956633,224,8.8500932679654216,12.105880499957472,38,5.1867310800000004,5.8437575900000001,429,0.84150849679000217,1.0462541563059669,386,1.0073275699233375,3.0485049962051756,49,1.22022199,-2.8587521699999998,343,5.1503670677794489,6.738228966505095,259,6.5239562867684793,8.5470040434976404,174,6.3223547334367414,8.2132773358906981,375,4.3911451875225893,5.019223424003405,28,4.4946079699999997,7.0527013700000003,363,8.8903958428841925,12.042877971650041,144,6.6182337976023771,10.934469818299988,476,4.76923728814028,5.3629003049054003,457,7.7179870138134472,10.458313363579663,211,4.9689101028393967,6.5161516213616197,172,7.3103128496753573,10.56882331609917,22,8.1017259500000005,12.679399800000001,"","","","","","","","","","","","","","","","","","","","","","","","","","","","","","","","","","","","","","","","","","","","","","","","","","","","","","","","","","","","","","","","","","","","","","","","","","","","","","","","","","","","","","","","","","","","","","","","",{"$f":"GX54","v":0.90225947412995899}]
[69,9.3413851000000001,14.209857100000001,350,7.76762289708544,10.420430228595862,112,4.3293947390416765,5.4820662630587123,285,6.6620714482949728,9.6321675585271631,185,8.1699973206037448,11.341782431199082,13,5.69596444,8.7782791400000004,486,6.5694184699584923,13.472349693690731,387,9.5004431501629956,12.75987320728431,419,8.1956683960958472,11.456945995606301,173,4.2856205396178044,5.7101114324544113,254,1.1419442312216033,1.5742783532651146,344,1.5135708129106806,4.6587681243049923,298,8.7172011800544347,10.1909323143341,140,0.76271523417664078,0.2338329209201615,158,6.5764931629664947,13.218822693597421,267,6.5110817307785851,13.800060184140401,181,6.2890043826908126,12.751292336237183,486,6.5694184699584923,13.472349693690731,187,6.519533521942888,9.254708349873745,85,1.82822638,-2.92768506,192,6.6372141472336654,9.0381054897906381,220,4.3773948230563153,7.335011065144073,278,0.19869643820853655,-1.548675626708963,142,9.9112222145109907,14.010701314914378,420,6.569000716891928,8.1677036913542587,282,7.3934600803110868,12.654889585788244,438,4.3215582402596375,5.5561618103124433,125,2.4221504716819453,2.1387712771999832,95,7.4445936899999996,10.165211899999999,115,5.7921047390135083,6.9372239234158073,242,2.7873558148971078,3.2600339112539189,241,1.4419552557102744,1.2654029560604627,442,2.5956425287846496,2.7804630136276995,356,1.4933176598749931,2.1275883997256515,391,6.5585587679285684,8.6346855940950515,492,6.5324341693541577,13.285598183869865,319,0.56592228775294018,0.98820446181555521,33,2.4482117699999999,-1.0929169599999999,50,3.3373057099999999,0.91152189800000005,19,5.9551803400000001,4.7732745999999997,155,4.8256411591609805,6.1600312882596793,363,8.8903958428841925,12.042877971650041,442,2.5956425287846496,2.7804630136276995,439,3.9366875209881425,4.3564057071213753,205,9.041516206091643,12.043639779605522,404,6.6865527342262094,9.1847616816165427,475,7.9138442150953558,10.703020787632038,277,5.220468369479347,8.1139770160987776,282,7.3934600803110868,12.654889585788244,389,7.3343054886960601,9.743790495905488,333,6.9817304993047475,8.979745073768191,436,4.0820805396994864,8.7544259883443516,293,1.5675344209138453,1.7533965630004673,"","","","","","","","","","","","","","","","","","","","","","","","","","","","","","","","","","","","","","","","","","","","","","","","","","","","","","","","","","","","","","","","","","","","","","","","","","","","","","","","","","","","","","","","","","","","","","","","",{"$f":"HA54","v":0.92969911934967198}]
[70,1.423125,0.64634512099999997,482,5.8149146706111843,7.78950536979365,111,3.8563894703487112,4.9257543803902486,329,6.0537901132036875,7.9817682349426731,501,2.0269028791192145,1.7832891667725619,184,0.14145823444282613,-0.83671946230057703,78,5.7589141000000001,6.3190208200000004,25,3.2733277300000001,2.7018407,268,4.8050001233502115,6.1785477163140996,357,6.4900321083413282,13.120219713956633,327,9.039115292345361,12.357589907902458,309,0.25699945148575987,1.59382960362792,464,1.4581096815090877,0.65039979552104965,94,6.2620883799999998,10.6125892,439,3.9366875209881425,4.3564057071213753,118,7.9459313192243197,12.866085688882031,415,9.7094675975974916,13.896482453995,349,4.9966891895952958,6.064861197109102,317,4.941073579261861,6.3327469760680835,366,7.6590328997082864,9.9893809862059104,151,5.3397351752720468,7.1779337361530198,35,1.7000925,-2.08932327,109,4.2473853747116674,5.5314138092696616,21,9.6300481999999992,11.962618300000001,294,5.3502649803261022,9.3992153776299077,365,8.8782001103438812,12.349001526138636,331,1.3243081533701484,1.0602961618497493,404,6.6865527342262094,9.1847616816165427,120,0.35354353741588795,-1.0731643416126662,119,4.1661267499970478,7.4375455053121549,138,7.2415678080261969,9.5755070649732623,127,6.3462433024678511,11.0887658263538,69,9.3413851000000001,14.209857100000001,115,5.7921047390135083,6.9372239234158073,386,1.0073275699233375,3.0485049962051756,359,5.1636931133625286,7.3496835595638865,139,3.5467090203525475,8.8908244024619005,244,1.7375385257517406,1.3274580924991946,483,9.7387030796730585,13.476781084329959,291,9.3188617307808546,15.1632824539856,4,6.2171594299999997,9.7130448299999994,96,4.8245429299999998,3.8588945699999999,95,7.4445936899999996,10.165211899999999,313,1.620383073816658,2.2166902889335058,433,3.27441585738101,6.7843168266616818,495,5.6670881206542045,8.7474404972316631,78,5.7589141000000001,6.3190208200000004,261,9.0074577620333436,13.253751216105011,200,4.0071369326860351,5.8149025862845107,382,3.9405995487896761,6.6048693588312615,405,6.3082639571029953,8.4171265027942468,195,7.8962395661564555,10.467689897148318,220,4.3773948230563153,7.335011065144073,"","","","","","","","","","","","","","","","","","","","","","","","","","","","","","","","","","","","","","","","","","","","","","","","","","","","","","","","","","","","","","","","","","","","","","","","","","","","","","","","","","","","","","","","","","","","","","","","",{"$f":"HD54","v":0.958741217941807}]
[71,5.2521179900000003,8.9534160499999995,220,4.3773948230563153,7.335011065144073,72,8.4497598600000003,10.1485986,467,3.8746898569702637,5.1374500008896238,216,7.8903828523821495,6.7415408013276004,220,4.3773948230563153,7.335011065144073,113,9.488624038798692,13.332107472922251,56,0.84874671999999995,0.71562971500000006,421,0.54660265947950926,-0.18653225912045091,392,7.8642278245167496,10.695125370339451,331,1.3243081533701484,1.0602961618497493,161,4.3820515385193133,4.9365147229767743,76,4.3412921999999998,4.0240330999999996,167,5.6949934178282025,7.5872591807906486,52,8.4212998199999998,10.24603712,270,4.8924771983786464,9.4491420220653204,372,0.41494044522567552,0.47240752731020907,282,7.3934600803110868,12.654889585788244,364,2.674927641791407,4.8361072334281729,14,2.3539153100000001,1.08322714,485,2.8795624536466757,5.3634522958762441,366,7.6590328997082864,9.9893809862059104,144,6.6182337976023771,10.934469818299988,179,3.2648962740822185E-2,0.14112108804542001,384,5.4766934263239371,7.1280835430655349,173,4.2856205396178044,5.7101114324544113,116,5.3250493749477474,11.2900628245365,214,1.6941838803347231,0.83294517643265431,7,5.5718689399999999,3.4202956800000002,98,4.4179373499999999,3.4445838200000001,230,8.7358017372407204,13.504142490399479,162,1.7286565252373598,1.4654855864438978,317,4.941073579261861,6.3327469760680835,323,6.8403117988900259,8.8327768684551362,287,7.7959736246489175,11.006525900573429,437,5.3936026916160813,7.5269307804698089,137,8.8662054094358478,15.395163428346962,185,8.1699973206037448,11.341782431199082,213,6.6983500438591488,10.792994407672209,429,0.84150849679000217,1.0462541563059669,466,2.2721212362698306,2.4139360395814542,243,7.3723567430533041,14.15401139120323,234,1.1330083820892867,3.9329833082832204,45,9.3723747399999997,9.6176463699999992,72,8.4497598600000003,10.1485986,324,4.3558168742634829,7.801517982897999,120,0.35354353741588795,-1.0731643416126662,225,4.7927455702920296,7.82741515961016,22,8.1017259500000005,12.679399800000001,197,3.0020486930644386,4.4511516805145366,15,0.74146844599999995,-3.1050906700000001,153,3.2384547362536154,4.3544413035996898,409,9.8503596824013595,13.656028266075758,"","","","","","","","","","","","","","","","","","","","","","","","","","","","","","","","","","","","","","","","","","","","","","","","","","","","","","","","","","","","","","","","","","","","","","","","","","","","","","","","","","","","","","","","","","","","","","","","",{"$f":"HG54","v":0.93561099974714845}]
[72,8.4497598600000003,10.1485986,338,6.1399117043838665,8.2210826242295774,437,5.3936026916160813,{"$f":"IF(G73<>\"\",INDEX($C$2:$C$502,G73),\"\")","v":7.5269307804698089},411,4.5011269504434015,{"$f":"IF(J73<>\"\",INDEX($C$2:$C$502,J73),\"\")","v":7.9390670251094289},170,3.7446948913362732,{"$f":"IF(M73<>\"\",INDEX($C$2:$C$502,M73),\"\")","v":4.4641817735593659},310,7.1479073898209116,{"$f":"IF(P73<>\"\",INDEX($C$2:$C$502,P73),\"\")","v":9.1696355865690773},478,0.41872762724397994,{"$f":"IF(S73<>\"\",INDEX($C$2:$C$502,S73),\"\")","v":-0.63339038621088262},213,6.6983500438591488,{"$f":"IF(V73<>\"\",INDEX($C$2:$C$502,V73),\"\")","v":10.792994407672209},404,6.6865527342262094,{"$f":"IF(Y73<>\"\",INDEX($C$2:$C$502,Y73),\"\")","v":9.1847616816165427},86,1.25997063,{"$f":"IF(AB73<>\"\",INDEX($C$2:$C$502,AB73),\"\")","v":0.88099889499999995},422,8.900442607690513,{"$f":"IF(AE73<>\"\",INDEX($C$2:$C$502,AE73),\"\")","v":12.35432214856479},241,1.4419552557102744,{"$f":"IF(AH73<>\"\",INDEX($C$2:$C$502,AH73),\"\")","v":1.2654029560604627},413,9.7773770633914321,{"$f":"IF(AK73<>\"\",INDEX($C$2:$C$502,AK73),\"\")","v":13.805124819802874},104,2.7962367993366222,{"$f":"IF(AN73<>\"\",INDEX($C$2:$C$502,AN73),\"\")","v":3.8294492481387614},91,4.4224595999999998,{"$f":"IF(AQ73<>\"\",INDEX($C$2:$C$502,AQ73),\"\")","v":7.0814903300000003},224,8.8500932679654216,{"$f":"IF(AT73<>\"\",INDEX($C$2:$C$502,AT73),\"\")","v":12.105880499957472},61,5.6862280099999998,{"$f":"IF(AW73<>\"\",INDEX($C$2:$C$502,AW73),\"\")","v":9.6901438100000004},388,3.0136595489422291,{"$f":"IF(AZ73<>\"\",INDEX($C$2:$C$502,AZ73),\"\")","v":2.8531384179154013},474,6.1767803832186363,{"$f":"IF(BC73<>\"\",INDEX($C$2:$C$502,BC73),\"\")","v":11.118102665077959},45,9.3723747399999997,{"$f":"IF(BF73<>\"\",INDEX($C$2:$C$502,BF73),\"\")","v":9.6176463699999992},447,1.7217897250392489,{"$f":"IF(BI73<>\"\",INDEX($C$2:$C$502,BI73),\"\")","v":1.4757734328180563},44,2.5187078600000001,{"$f":"IF(BL73<>\"\",INDEX($C$2:$C$502,BL73),\"\")","v":3.9538099999999998},393,1.8554865276435994,{"$f":"IF(BO73<>\"\",INDEX($C$2:$C$502,BO73),\"\")","v":1.8222645960802755},422,8.900442607690513,{"$f":"IF(BR73<>\"\",INDEX($C$2:$C$502,BR73),\"\")","v":12.35432214856479},452,6.6479377130863604,{"$f":"IF(BU73<>\"\",INDEX($C$2:$C$502,BU73),\"\")","v":10.67406086654605},177,5.3679291962647957,{"$f":"IF(BX73<>\"\",INDEX($C$2:$C$502,BX73),\"\")","v":6.5109667962489217},41,2.3735837000000002,{"$f":"IF(CA73<>\"\",INDEX($C$2:$C$502,CA73),\"\")","v":-1.5927045900000001},389,7.3343054886960601,{"$f":"IF(CD73<>\"\",INDEX($C$2:$C$502,CD73),\"\")","v":9.743790495905488},255,4.5506393858648675,{"$f":"IF(CG73<>\"\",INDEX($C$2:$C$502,CG73),\"\")","v":5.838884714126932},384,5.4766934263239371,{"$f":"IF(CJ73<>\"\",INDEX($C$2:$C$502,CJ73),\"\")","v":7.1280835430655349},224,8.8500932679654216,{"$f":"IF(CM73<>\"\",INDEX($C$2:$C$502,CM73),\"\")","v":12.105880499957472},142,9.9112222145109907,{"$f":"IF(CP73<>\"\",INDEX($C$2:$C$502,CP73),\"\")","v":14.010701314914378},384,5.4766934263239371,{"$f":"IF(CS73<>\"\",INDEX($C$2:$C$502,CS73),\"\")","v":7.1280835430655349},207,0.38803442786040421,{"$f":"IF(CV73<>\"\",INDEX($C$2:$C$502,CV73),\"\")","v":-0.84365506804234947},339,6.2612765442406459,{"$f":"IF(CY73<>\"\",INDEX($C$2:$C$502,CY73),\"\")","v":9.0131252623016547},492,6.5324341693541577,{"$f":"IF(DB73<>\"\",INDEX($C$2:$C$502,DB73),\"\")","v":13.285598183869865},339,6.2612765442406459,{"$f":"IF(DE73<>\"\",INDEX($C$2:$C$502,DE73),\"\")","v":9.0131252623016547},471,5.9742813871291389,{"$f":"IF(DH73<>\"\",INDEX($C$2:$C$502,DH73),\"\")","v":7.870514320009943},193,7.3238383677391106,{"$f":"IF(DK73<>\"\",INDEX($C$2:$C$502,DK73),\"\")","v":9.8486686017351293},217,8.7737972157628192,{"$f":"IF(DN73<>\"\",INDEX($C$2:$C$502,DN73),\"\")","v":11.901876569481338},314,3.8937080461722862,{"$f":"IF(DQ73<>\"\",INDEX($C$2:$C$502,DQ73),\"\")","v":4.0343377095742046},50,3.3373057099999999,{"$f":"IF(DT73<>\"\",INDEX($C$2:$C$502,DT73),\"\")","v":0.91152189800000005},320,8.6877146182605465,{"$f":"IF(DW73<>\"\",INDEX($C$2:$C$502,DW73),\"\")","v":15.233535264352582},113,9.488624038798692,{"$f":"IF(DZ73<>\"\",INDEX($C$2:$C$502,DZ73),\"\")","v":13.332107472922251},26,8.4310446300000006,{"$f":"IF(EC73<>\"\",INDEX($C$2:$C$502,EC73),\"\")","v":11.3286742},174,6.3223547334367414,{"$f":"IF(EF73<>\"\",INDEX($C$2:$C$502,EF73),\"\")","v":8.2132773358906981},393,1.8554865276435994,{"$f":"IF(EI73<>\"\",INDEX($C$2:$C$502,EI73),\"\")","v":1.8222645960802755},243,7.3723567430533041,{"$f":"IF(EL73<>\"\",INDEX($C$2:$C$502,EL73),\"\")","v":14.15401139120323},182,1.3086412443964068,{"$f":"IF(EO73<>\"\",INDEX($C$2:$C$502,EO73),\"\")","v":3.6081103627702},138,7.2415678080261969,{"$f":"IF(ER73<>\"\",INDEX($C$2:$C$502,ER73),\"\")","v":9.5755070649732623},318,3.8323661245541629,{"$f":"IF(EU73<>\"\",INDEX($C$2:$C$502,EU73),\"\")","v":4.9005898149337508},405,6.3082639571029953,{"$f":"IF(EX73<>\"\",INDEX($C$2:$C$502,EX73),\"\")","v":8.4171265027942468},240,3.4208672870853274,{"$f":"IF(FA73<>\"\",INDEX($C$2:$C$502,FA73),\"\")","v":8.9278844529987893},"","",{"$f":"IF(FD73<>\"\",INDEX($C$2:$C$502,FD73),\"\")","v":""},"","",{"$f":"IF(FG73<>\"\",INDEX($C$2:$C$502,FG73),\"\")","v":""},"","",{"$f":"IF(FJ73<>\"\",INDEX($C$2:$C$502,FJ73),\"\")","v":""},"","",{"$f":"IF(FM73<>\"\",INDEX($C$2:$C$502,FM73),\"\")","v":""},"","",{"$f":"IF(FP73<>\"\",INDEX($C$2:$C$502,FP73),\"\")","v":""},"","",{"$f":"IF(FS73<>\"\",INDEX($C$2:$C$502,FS73),\"\")","v":""},"","",{"$f":"IF(FV73<>\"\",INDEX($C$2:$C$502,FV73),\"\")","v":""},"","",{"$f":"IF(FY73<>\"\",INDEX($C$2:$C$502,FY73),\"\")","v":""},"","",{"$f":"IF(GB73<>\"\",INDEX($C$2:$C$502,GB73),\"\")","v":""},"","",{"$f":"IF(GE73<>\"\",INDEX($C$2:$C$502,GE73),\"\")","v":""},"","",{"$f":"IF(GH73<>\"\",INDEX($C$2:$C$502,GH73),\"\")","v":""},"","",{"$f":"IF(GK73<>\"\",INDEX($C$2:$C$502,GK73),\"\")","v":""},"","",{"$f":"IF(GN73<>\"\",INDEX($C$2:$C$502,GN73),\"\")","v":""},"","",{"$f":"IF(GQ73<>\"\",INDEX($C$2:$C$502,GQ73),\"\")","v":""},"","",{"$f":"IF(GT73<>\"\",INDEX($C$2:$C$502,GT73),\"\")","v":""},"","",{"$f":"IF(GW73<>\"\",INDEX($C$2:$C$502,GW73),\"\")","v":""},"","",{"$f":"IF(GZ73<>\"\",INDEX($C$2:$C$502,GZ73),\"\")","v":""},"","",{"$f":"IF(HC73<>\"\",INDEX($C$2:$C$502,HC73),\"\")","v":""},"","",{"$f":"IF(HF73<>\"\",INDEX($C$2:$C$502,HF73),\"\")","v":""},"","",{"$f":"IF(HI73<>\"\",INDEX($C$2:$C$502,HI73),\"\")","v":""},"","",{"$f":"IF(HL73<>\"\",INDEX($C$2:$C$502,HL73),\"\")","v":""},"","",{"$f":"IF(HO73<>\"\",INDEX($C$2:$C$502,HO73),\"\")","v":""},"","",{"$f":"IF(HR73<>\"\",INDEX($C$2:$C$502,HR73),\"\")","v":""},"","",{"$f":"IF(HU73<>\"\",INDEX($C$2:$C$502,HU73),\"\")","v":""},"","",{"$f":"IF(HX73<>\"\",INDEX($C$2:$C$502,HX73),\"\")","v":""},"","",{"$f":"IF(IA73<>\"\",INDEX($C$2:$C$502,IA73),\"\")","v":""},"","",{"$f":"IF(ID73<>\"\",INDEX($C$2:$C$502,ID73),\"\")","v":""},"","",{"$f":"IF(IG73<>\"\",INDEX($C$2:$C$502,IG73),\"\")","v":""},"","",{"$f":"IF(IJ73<>\"\",INDEX($C$2:$C$502,IJ73),\"\")","v":""},"","",{"$f":"IF(IM73<>\"\",INDEX($C$2:$C$502,IM73),\"\")","v":""},"","",{"$f":"IF(IP73<>\"\",INDEX($C$2:$C$502,IP73),\"\")","v":""},"","","",{"$f":"HJ54","v":0.90740902139303747}]
[73,6.3058183300000001,5.8214770199999997,"","","","","","","","","","","","","","","","","","","","","","","","","","","","","","","","","","","","","","","","","","","","","","","","","","","","","","","","","","","","","","","","","","","","","","","","","","","","","","","","","","","","","","","","","","","","","","","","","","","","","","","","","","","","","","","","","","","","","","","","","","","","","","","","","","","","","","","","","","","","","","","","","","","","","","","","","","","","","","","","","","","","","","","","","","","","","","","","","","","","","","","","","","","","","","","","","","","","","","","","","","","","","","","","","","","","","","","","","","","","","","","","","","","","","","","","","","","","","","","","","","","","","","","","","","","","",{"$f":"HM54","v":0.95467367725534868}]
[74,3.1306581699999998,3.6333193600000002,"","","","","","","","","","","","","","","","","","","","","","","","","","","","","","","","","","","","","","","","","","","","","","","","","","","","","","","","","","","","","","","","","","","","","","","","","","","","","","","","","","","","","","","","","","","","","","","","","","","","","","","","","","","","","","","","","","","","","","","","","","","","","","","","","","","","","","","","","","","","","","","","","","","","","","","","","","","","","","","","","","","","","","","","","","","","","","","","","","","","","","","","","","","","","","","","","","","","","","","","","","","","","","","","","","","","","","","","","","","","","","","","","","","","","","","","","","","","","","","","","","","","","","","","","","","","",{"$f":"HP54","v":0.96790936083139023}]
[75,4.4822054400000004,4.6762966099999996,"","","","","","","","","","","","","","","","","","","","","","","","","","","","","","","","","","","","","","","","","","","","","","","","","","","","","","","","","","","","","","","","","","","","","","","","","","","","","","","","","","","","","","","","","","","","","","","","","","","","","","","","","","","","","","","","","","","","","","","","","","","","","","","","","","","","","","","","","","","","","","","","","","","","","","","","","","","","","","","","","","","","","","","","","","","","","","","","","","","","","","","","","","","","","","","","","","","","","","","","","","","","","","","","","","","","","","","","","","","","","","","","","","","","","","","","","","","","","","","","","","","","","","","","","","","","",{"$f":"HS54","v":0.91163018939708262}]
[76,4.3412921999999998,4.0240330999999996,"","","","","","","","","","","","","","","","","","","","","","","","","","","","","","","","","","","","","","","","","","","","","","","","","","","","","","","","","","","","","","","","","","","","","","","","","","","","","","","","","","","","","","","","","","","","","","","","","","","","","","","","","","","","","","","","","","","","","","","","","","","","","","","","","","","","","","","","","","","","","","","","","","","","","","","","","","","","","","","","","","","","","","","","","","","","","","","","","","","","","","","","","","","","","","","","","","","","","","","","","","","","","","","","","","","","","","","","","","","","","","","","","","","","","","","","","","","","","","","","","","","","","","","","","","","","",{"$f":"HV54","v":0.87288855897345863}]
[77,2.6233265499999998,4.44153764,"","","","","","","","","","","","","","","","","","","","","","","","","","","","","","","","","","","","","","","","","","","","","","","","","","","","","","","","","","","","","","","","","","","","","","","","","","","","","","","","","","","","","","","","","","","","","","","","","","","","","","","","","","","","","","","","","","","","","","","","","","","","","","","","","","","","","","","","","","","","","","","","","","","","","","","","","","","","","","","","","","","","","","","","","","","","","","","","","","","","","","","","","","","","","","","","","","","","","","","","","","","","","","","","","","","","","","","","","","","","","","","","","","","","","","","","","","","","","","","","","","","","","","","","","","","","",{"$f":"HY54","v":0.94670345707134396}]
[78,5.7589141000000001,6.3190208200000004,"","","","","","","","","","","","","","","","","","","","","","","","","","","","","","","","","","","","","","","","","","","","","","","","","","","","","","","","","","","","","","","","","","","","","","","","","","","","","","","","","","","","","","","","","","","","","","","","","","","","","","","","","","","","","","","","","","","","","","","","","","","","","","","","","","","","","","","","","","","","","","","","","","","","","","","","","","","","","","","","","","","","","","","","","","","","","","","","","","","","","","","","","","","","","","","","","","","","","","","","","","","","","","","","","","","","","","","","","","","","","","","","","","","","","","","","","","","","","","","","","","","","","","","","","","","","",{"$f":"IB54","v":0.95928215402289241}]
[79,1.39826337,1.12138749,"","","","","","","","","","","","","","","","","","","","","","","","","","","","","","","","","","","","","","","","","","","","","","","","","","","","","","","","","","","","","","","","","","","","","","","","","","","","","","","","","","","","","","","","","","","","","","","","","","","","","","","","","","","","","","","","","","","","","","","","","","","","","","","","","","","","","","","","","","","","","","","","","","","","","","","","","","","","","","","","","","","","","","","","","","","","","","","","","","","","","","","","","","","","","","","","","","","","","","","","","","","","","","","","","","","","","","","","","","","","","","","","","","","","","","","","","","","","","","","","","","","","","","","","","","","","",{"$f":"IE54","v":0.91444670073708822}]
[80,8.3465480200000002,10.091565299999999,"","","","","","","","","","","","","","","","","","","","","","","","","","","","","","","","","","","","","","","","","","","","","","","","","","","","","","","","","","","","","","","","","","","","","","","","","","","","","","","","","","","","","","","","","","","","","","","","","","","","","","","","","","","","","","","","","","","","","","","","","","","","","","","","","","","","","","","","","","","","","","","","","","","","","","","","","","","","","","","","","","","","","","","","","","","","","","","","","","","","","","","","","","","","","","","","","","","","","","","","","","","","","","","","","","","","","","","","","","","","","","","","","","","","","","","","","","","","","","","","","","","","","","","","","","","","",{"$f":"IH54","v":0.87980617803740502}]
[81,5.5414155999999997,8.21511411,"","","","","","","","","","","","","","","","","","","","","","","","","","","","","","","","","","","","","","","","","","","","","","","","","","","","","","","","","","","","","","","","","","","","","","","","","","","","","","","","","","","","","","","","","","","","","","","","","","","","","","","","","","","","","","","","","","","","","","","","","","","","","","","","","","","","","","","","","","","","","","","","","","","","","","","","","","","","","","","","","","","","","","","","","","","","","","","","","","","","","","","","","","","","","","","","","","","","","","","","","","","","","","","","","","","","","","","","","","","","","","","","","","","","","","","","","","","","","","","","","","","","","","","","","","","","",{"$f":"IK54","v":0.89963855720461838}]
[82,5.1856461300000003,7.9659008900000003,"","","","","","","","","","","","","","","","","","","","","","","","","","","","","","","","","","","","","","","","","","","","","","","","","","","","","","","","","","","","","","","","","","","","","","","","","","","","","","","","","","","","","","","","","","","","","","","","","","","","","","","","","","","","","","","","","","","","","","","","","","","","","","","","","","","","","","","","","","","","","","","","","","","","","","","","","","","","","","","","","","","","","","","","","","","","","","","","","","","","","","","","","","","","","","","","","","","","","","","","","","","","","","","","","","","","","","","","","","","","","","","","","","","","","","","","","","","","","","","","","","","","","","","","","","","","",{"$f":"IN54","v":0.94966385482769899}]
[83,2.3124036499999998,2.1144006599999998,"","","","","","","","","","","","","","","","","","","","","","","","","","","","","","","","","","","","","","","","","","","","","","","","","","","","","","","","","","","","","","","","","","","","","","","","","","","","","","","","","","","","","","","","","","","","","","","","","","","","","","","","","","","","","","","","","","","","","","","","","","","","","","","","","","","","","","","","","","","","","","","","","","","","","","","","","","","","","","","","","","","","","","","","","","","","","","","","","","","","","","","","","","","","","","","","","","","","","","","","","","","","","","","","","","","","","","","","","","","","","","","","","","","","","","","","","","","","","","","","","","","","","","","","","","","","",{"$f":"IQ54","v":0.92462087572469642}]
[84,8.6145668200000003,11.9266656,"","","","","","","","","","","","","","","","","","","","","","","","","","","","","","","","","","","","","","","","","","","","","","","","","","","","","","","","","","","","","","","","","","","","","","","","","","","","","","","","","","","","","","","","","","","","","","","","","","","","","","","","","","","","","","","","","","","","","","","","","","","","","","","","","","","","","","","","","","","","","","","","","","","","","","","","","","","","","","","","","","","","","","","","","","","","","","","","","","","","","","","","","","","","","","","","","","","","","","","","","","","","","","","","","","","","","","","","","","","","","","","","","","","","","","","","","","","","","","","","","","","","","","","","","","","","",{"$f":"IT54","v":0.95691453899397161}]
[85,1.82822638,-2.92768506,"","","","","","","","","","","","","","","","","","","","","","","","","","","","","","","","","","","","","","","","","","","","","","","","","","","","","","","","","","","","","","","","","","","","","","","","","","","","","","","","","","","","","","","","","","","","","","","","","","","","","","","","","","","","","","","","","","","","","","","","","","","","","","","","","","","","","","","","","","","","","","","","","","","","","","","","","","","","","","","","","","","","","","","","","","","","","","","","","","","","","","","","","","","","","","","","","","","","","","","","","","","","","","","","","","","","","","","","","","","","","","","","","","","","","","","","","","","","","","","","","","","","","","","","","","","","",{"$f":"E109","v":0.95786696275081518}]
[86,1.25997063,0.88099889499999995,"","","","","","","","","","","","","","","","","","","","","","","","","","","","","","","","","","","","","","","","","","","","","","","","","","","","","","","","","","","","","","","","","","","","","","","","","","","","","","","","","","","","","","","","","","","","","","","","","","","","","","","","","","","","","","","","","","","","","","","","","","","","","","","","","","","","","","","","","","","","","","","","","","","","","","","","","","","","","","","","","","","","","","","","","","","","","","","","","","","","","","","","","","","","","","","","","","","","","","","","","","","","","","","","","","","","","","","","","","","","","","","","","","","","","","","","","","","","","","","","","","","","","","","","","","","","",{"$f":"H109","v":0.8338240886085394}]
[87,5.9835337900000001,6.7541769299999999,"","","","","","","","","","","","","","","","","","","","","","","","","","","","","","","","","","","","","","","","","","","","","","","","","","","","","","","","","","","","","","","","","","","","","","","","","","","","","","","","","","","","","","","","","","","","","","","","","","","","","","","","","","","","","","","","","","","","","","","","","","","","","","","","","","","","","","","","","","","","","","","","","","","","","","","","","","","","","","","","","","","","","","","","","","","","","","","","","","","","","","","","","","","","","","","","","","","","","","","","","","","","","","","","","","","","","","","","","","","","","","","","","","","","","","","","","","","","","","","","","","","","","","","","","","","","",{"$f":"K$109","v":0.96481145689800241}]
[88,8.87683015,11.8436226,{"$f":"IF(AND($A34<=n,E$56<=flips),INT(501*RAND()+1),\"\")","v":""},"","",{"$f":"IF(AND($A34<=n,H$56<=flips),INT(501*RAND()+1),\"\")","v":""},{"$f":"IF(G89<>\"\",INDEX($B$2:$B$502,G89),\"\")","v":""},"",{"$f":"IF(AND($A34<=n,K$56<=flips),INT(501*RAND()+1),\"\")","v":""},{"$f":"IF(J89<>\"\",INDEX($B$2:$B$502,J89),\"\")","v":""},"",{"$f":"IF(AND($A34<=n,N$56<=flips),INT(501*RAND()+1),\"\")","v":""},{"$f":"IF(M89<>\"\",INDEX($B$2:$B$502,M89),\"\")","v":""},"",{"$f":"IF(AND($A34<=n,Q$56<=flips),INT(501*RAND()+1),\"\")","v":""},{"$f":"IF(P89<>\"\",INDEX($B$2:$B$502,P89),\"\")","v":""},"",{"$f":"IF(AND($A34<=n,T$56<=flips),INT(501*RAND()+1),\"\")","v":""},{"$f":"IF(S89<>\"\",INDEX($B$2:$B$502,S89),\"\")","v":""},"",{"$f":"IF(AND($A34<=n,W$56<=flips),INT(501*RAND()+1),\"\")","v":""},{"$f":"IF(V89<>\"\",INDEX($B$2:$B$502,V89),\"\")","v":""},"",{"$f":"IF(AND($A34<=n,Z$56<=flips),INT(501*RAND()+1),\"\")","v":""},{"$f":"IF(Y89<>\"\",INDEX($B$2:$B$502,Y89),\"\")","v":""},"",{"$f":"IF(AND($A34<=n,AC$56<=flips),INT(501*RAND()+1),\"\")","v":""},{"$f":"IF(AB89<>\"\",INDEX($B$2:$B$502,AB89),\"\")","v":""},"",{"$f":"IF(AND($A34<=n,AF$56<=flips),INT(501*RAND()+1),\"\")","v":""},{"$f":"IF(AE89<>\"\",INDEX($B$2:$B$502,AE89),\"\")","v":""},"",{"$f":"IF(AND($A34<=n,AI$56<=flips),INT(501*RAND()+1),\"\")","v":""},{"$f":"IF(AH89<>\"\",INDEX($B$2:$B$502,AH89),\"\")","v":""},"",{"$f":"IF(AND($A34<=n,AL$56<=flips),INT(501*RAND()+1),\"\")","v":""},{"$f":"IF(AK89<>\"\",INDEX($B$2:$B$502,AK89),\"\")","v":""},"",{"$f":"IF(AND($A34<=n,AO$56<=flips),INT(501*RAND()+1),\"\")","v":""},{"$f":"IF(AN89<>\"\",INDEX($B$2:$B$502,AN89),\"\")","v":""},"",{"$f":"IF(AND($A34<=n,AR$56<=flips),INT(501*RAND()+1),\"\")","v":""},{"$f":"IF(AQ89<>\"\",INDEX($B$2:$B$502,AQ89),\"\")","v":""},"",{"$f":"IF(AND($A34<=n,AU$56<=flips),INT(501*RAND()+1),\"\")","v":""},{"$f":"IF(AT89<>\"\",INDEX($B$2:$B$502,AT89),\"\")","v":""},"",{"$f":"IF(AND($A34<=n,AX$56<=flips),INT(501*RAND()+1),\"\")","v":""},{"$f":"IF(AW89<>\"\",INDEX($B$2:$B$502,AW89),\"\")","v":""},"",{"$f":"IF(AND($A34<=n,BA$56<=flips),INT(501*RAND()+1),\"\")","v":""},{"$f":"IF(AZ89<>\"\",INDEX($B$2:$B$502,AZ89),\"\")","v":""},"",{"$f":"IF(AND($A34<=n,BD$56<=flips),INT(501*RAND()+1),\"\")","v":""},{"$f":"IF(BC89<>\"\",INDEX($B$2:$B$502,BC89),\"\")","v":""},"",{"$f":"IF(AND($A34<=n,BG$56<=flips),INT(501*RAND()+1),\"\")","v":""},{"$f":"IF(BF89<>\"\",INDEX($B$2:$B$502,BF89),\"\")","v":""},"",{"$f":"IF(AND($A34<=n,BJ$56<=flips),INT(501*RAND()+1),\"\")","v":""},{"$f":"IF(BI89<>\"\",INDEX($B$2:$B$502,BI89),\"\")","v":""},"",{"$f":"IF(AND($A34<=n,BM$56<=flips),INT(501*RAND()+1),\"\")","v":""},{"$f":"IF(BL89<>\"\",INDEX($B$2:$B$502,BL89),\"\")","v":""},"",{"$f":"IF(AND($A34<=n,BP$56<=flips),INT(501*RAND()+1),\"\")","v":""},{"$f":"IF(BO89<>\"\",INDEX($B$2:$B$502,BO89),\"\")","v":""},"",{"$f":"IF(AND($A34<=n,BS$56<=flips),INT(501*RAND()+1),\"\")","v":""},{"$f":"IF(BR89<>\"\",INDEX($B$2:$B$502,BR89),\"\")","v":""},"",{"$f":"IF(AND($A34<=n,BV$56<=flips),INT(501*RAND()+1),\"\")","v":""},{"$f":"IF(BU89<>\"\",INDEX($B$2:$B$502,BU89),\"\")","v":""},"",{"$f":"IF(AND($A34<=n,BY$56<=flips),INT(501*RAND()+1),\"\")","v":""},{"$f":"IF(BX89<>\"\",INDEX($B$2:$B$502,BX89),\"\")","v":""},"",{"$f":"IF(AND($A34<=n,CB$56<=flips),INT(501*RAND()+1),\"\")","v":""},{"$f":"IF(CA89<>\"\",INDEX($B$2:$B$502,CA89),\"\")","v":""},"",{"$f":"IF(AND($A34<=n,CE$56<=flips),INT(501*RAND()+1),\"\")","v":""},{"$f":"IF(CD89<>\"\",INDEX($B$2:$B$502,CD89),\"\")","v":""},"",{"$f":"IF(AND($A34<=n,CH$56<=flips),INT(501*RAND()+1),\"\")","v":""},{"$f":"IF(CG89<>\"\",INDEX($B$2:$B$502,CG89),\"\")","v":""},"",{"$f":"IF(AND($A34<=n,CK$56<=flips),INT(501*RAND()+1),\"\")","v":""},{"$f":"IF(CJ89<>\"\",INDEX($B$2:$B$502,CJ89),\"\")","v":""},"",{"$f":"IF(AND($A34<=n,CN$56<=flips),INT(501*RAND()+1),\"\")","v":""},{"$f":"IF(CM89<>\"\",INDEX($B$2:$B$502,CM89),\"\")","v":""},"",{"$f":"IF(AND($A34<=n,CQ$56<=flips),INT(501*RAND()+1),\"\")","v":""},{"$f":"IF(CP89<>\"\",INDEX($B$2:$B$502,CP89),\"\")","v":""},"",{"$f":"IF(AND($A34<=n,CT$56<=flips),INT(501*RAND()+1),\"\")","v":""},{"$f":"IF(CS89<>\"\",INDEX($B$2:$B$502,CS89),\"\")","v":""},"",{"$f":"IF(AND($A34<=n,CW$56<=flips),INT(501*RAND()+1),\"\")","v":""},{"$f":"IF(CV89<>\"\",INDEX($B$2:$B$502,CV89),\"\")","v":""},"",{"$f":"IF(AND($A34<=n,CZ$56<=flips),INT(501*RAND()+1),\"\")","v":""},{"$f":"IF(CY89<>\"\",INDEX($B$2:$B$502,CY89),\"\")","v":""},"",{"$f":"IF(AND($A34<=n,DC$56<=flips),INT(501*RAND()+1),\"\")","v":""},{"$f":"IF(DB89<>\"\",INDEX($B$2:$B$502,DB89),\"\")","v":""},"",{"$f":"IF(AND($A34<=n,DF$56<=flips),INT(501*RAND()+1),\"\")","v":""},{"$f":"IF(DE89<>\"\",INDEX($B$2:$B$502,DE89),\"\")","v":""},"",{"$f":"IF(AND($A34<=n,DI$56<=flips),INT(501*RAND()+1),\"\")","v":""},{"$f":"IF(DH89<>\"\",INDEX($B$2:$B$502,DH89),\"\")","v":""},"",{"$f":"IF(AND($A34<=n,DL$56<=flips),INT(501*RAND()+1),\"\")","v":""},{"$f":"IF(DK89<>\"\",INDEX($B$2:$B$502,DK89),\"\")","v":""},"",{"$f":"IF(AND($A34<=n,DO$56<=flips),INT(501*RAND()+1),\"\")","v":""},{"$f":"IF(DN89<>\"\",INDEX($B$2:$B$502,DN89),\"\")","v":""},"",{"$f":"IF(AND($A34<=n,DR$56<=flips),INT(501*RAND()+1),\"\")","v":""},{"$f":"IF(DQ89<>\"\",INDEX($B$2:$B$502,DQ89),\"\")","v":""},"",{"$f":"IF(AND($A34<=n,DU$56<=flips),INT(501*RAND()+1),\"\")","v":""},{"$f":"IF(DT89<>\"\",INDEX($B$2:$B$502,DT89),\"\")","v":""},"",{"$f":"IF(AND($A34<=n,DX$56<=flips),INT(501*RAND()+1),\"\")","v":""},{"$f":"IF(DW89<>\"\",INDEX($B$2:$B$502,DW89),\"\")","v":""},"",{"$f":"IF(AND($A34<=n,EA$56<=flips),INT(501*RAND()+1),\"\")","v":""},{"$f":"IF(DZ89<>\"\",INDEX($B$2:$B$502,DZ89),\"\")","v":""},"",{"$f":"IF(AND($A34<=n,ED$56<=flips),INT(501*RAND()+1),\"\")","v":""},{"$f":"IF(EC89<>\"\",INDEX($B$2:$B$502,EC89),\"\")","v":""},"",{"$f":"IF(AND($A34<=n,EG$56<=flips),INT(501*RAND()+1),\"\")","v":""},{"$f":"IF(EF89<>\"\",INDEX($B$2:$B$502,EF89),\"\")","v":""},"",{"$f":"IF(AND($A34<=n,EJ$56<=flips),INT(501*RAND()+1),\"\")","v":""},{"$f":"IF(EI89<>\"\",INDEX($B$2:$B$502,EI89),\"\")","v":""},"",{"$f":"IF(AND($A34<=n,EM$56<=flips),INT(501*RAND()+1),\"\")","v":""},{"$f":"IF(EL89<>\"\",INDEX($B$2:$B$502,EL89),\"\")","v":""},"",{"$f":"IF(AND($A34<=n,EP$56<=flips),INT(501*RAND()+1),\"\")","v":""},{"$f":"IF(EO89<>\"\",INDEX($B$2:$B$502,EO89),\"\")","v":""},"",{"$f":"IF(AND($A34<=n,ES$56<=flips),INT(501*RAND()+1),\"\")","v":""},{"$f":"IF(ER89<>\"\",INDEX($B$2:$B$502,ER89),\"\")","v":""},"",{"$f":"IF(AND($A34<=n,EV$56<=flips),INT(501*RAND()+1),\"\")","v":""},{"$f":"IF(EU89<>\"\",INDEX($B$2:$B$502,EU89),\"\")","v":""},"",{"$f":"IF(AND($A34<=n,EY$56<=flips),INT(501*RAND()+1),\"\")","v":""},{"$f":"IF(EX89<>\"\",INDEX($B$2:$B$502,EX89),\"\")","v":""},"",{"$f":"IF(AND($A34<=n,FB$56<=flips),INT(501*RAND()+1),\"\")","v":""},{"$f":"IF(FA89<>\"\",INDEX($B$2:$B$502,FA89),\"\")","v":""},"",{"$f":"IF(AND($A34<=n,FE$56<=flips),INT(501*RAND()+1),\"\")","v":""},{"$f":"IF(FD89<>\"\",INDEX($B$2:$B$502,FD89),\"\")","v":""},"",{"$f":"IF(AND($A34<=n,FH$56<=flips),INT(501*RAND()+1),\"\")","v":""},{"$f":"IF(FG89<>\"\",INDEX($B$2:$B$502,FG89),\"\")","v":""},"",{"$f":"IF(AND($A34<=n,FK$56<=flips),INT(501*RAND()+1),\"\")","v":""},{"$f":"IF(FJ89<>\"\",INDEX($B$2:$B$502,FJ89),\"\")","v":""},"",{"$f":"IF(AND($A34<=n,FN$56<=flips),INT(501*RAND()+1),\"\")","v":""},{"$f":"IF(FM89<>\"\",INDEX($B$2:$B$502,FM89),\"\")","v":""},"",{"$f":"IF(AND($A34<=n,FQ$56<=flips),INT(501*RAND()+1),\"\")","v":""},{"$f":"IF(FP89<>\"\",INDEX($B$2:$B$502,FP89),\"\")","v":""},"",{"$f":"IF(AND($A34<=n,FT$56<=flips),INT(501*RAND()+1),\"\")","v":""},{"$f":"IF(FS89<>\"\",INDEX($B$2:$B$502,FS89),\"\")","v":""},"",{"$f":"IF(AND($A34<=n,FW$56<=flips),INT(501*RAND()+1),\"\")","v":""},{"$f":"IF(FV89<>\"\",INDEX($B$2:$B$502,FV89),\"\")","v":""},"",{"$f":"IF(AND($A34<=n,FZ$56<=flips),INT(501*RAND()+1),\"\")","v":""},{"$f":"IF(FY89<>\"\",INDEX($B$2:$B$502,FY89),\"\")","v":""},"",{"$f":"IF(AND($A34<=n,GC$56<=flips),INT(501*RAND()+1),\"\")","v":""},{"$f":"IF(GB89<>\"\",INDEX($B$2:$B$502,GB89),\"\")","v":""},"",{"$f":"IF(AND($A34<=n,GF$56<=flips),INT(501*RAND()+1),\"\")","v":""},{"$f":"IF(GE89<>\"\",INDEX($B$2:$B$502,GE89),\"\")","v":""},"",{"$f":"IF(AND($A34<=n,GI$56<=flips),INT(501*RAND()+1),\"\")","v":""},{"$f":"IF(GH89<>\"\",INDEX($B$2:$B$502,GH89),\"\")","v":""},"",{"$f":"IF(AND($A34<=n,GL$56<=flips),INT(501*RAND()+1),\"\")","v":""},{"$f":"IF(GK89<>\"\",INDEX($B$2:$B$502,GK89),\"\")","v":""},"",{"$f":"IF(AND($A34<=n,GO$56<=flips),INT(501*RAND()+1),\"\")","v":""},{"$f":"IF(GN89<>\"\",INDEX($B$2:$B$502,GN89),\"\")","v":""},"",{"$f":"IF(AND($A34<=n,GR$56<=flips),INT(501*RAND()+1),\"\")","v":""},{"$f":"IF(GQ89<>\"\",INDEX($B$2:$B$502,GQ89),\"\")","v":""},"",{"$f":"IF(AND($A34<=n,GU$56<=flips),INT(501*RAND()+1),\"\")","v":""},{"$f":"IF(GT89<>\"\",INDEX($B$2:$B$502,GT89),\"\")","v":""},"",{"$f":"IF(AND($A34<=n,GX$56<=flips),INT(501*RAND()+1),\"\")","v":""},{"$f":"IF(GW89<>\"\",INDEX($B$2:$B$502,GW89),\"\")","v":""},"",{"$f":"IF(AND($A34<=n,HA$56<=flips),INT(501*RAND()+1),\"\")","v":""},{"$f":"IF(GZ89<>\"\",INDEX($B$2:$B$502,GZ89),\"\")","v":""},"",{"$f":"IF(AND($A34<=n,HD$56<=flips),INT(501*RAND()+1),\"\")","v":""},{"$f":"IF(HC89<>\"\",INDEX($B$2:$B$502,HC89),\"\")","v":""},"",{"$f":"IF(AND($A34<=n,HG$56<=flips),INT(501*RAND()+1),\"\")","v":""},{"$f":"IF(HF89<>\"\",INDEX($B$2:$B$502,HF89),\"\")","v":""},"",{"$f":"IF(AND($A34<=n,HJ$56<=flips),INT(501*RAND()+1),\"\")","v":""},{"$f":"IF(HI89<>\"\",INDEX($B$2:$B$502,HI89),\"\")","v":""},"",{"$f":"IF(AND($A34<=n,HM$56<=flips),INT(501*RAND()+1),\"\")","v":""},{"$f":"IF(HL89<>\"\",INDEX($B$2:$B$502,HL89),\"\")","v":""},"",{"$f":"IF(AND($A34<=n,HP$56<=flips),INT(501*RAND()+1),\"\")","v":""},{"$f":"IF(HO89<>\"\",INDEX($B$2:$B$502,HO89),\"\")","v":""},"",{"$f":"IF(AND($A34<=n,HS$56<=flips),INT(501*RAND()+1),\"\")","v":""},{"$f":"IF(HR89<>\"\",INDEX($B$2:$B$502,HR89),\"\")","v":""},"",{"$f":"IF(AND($A34<=n,HV$56<=flips),INT(501*RAND()+1),\"\")","v":""},{"$f":"IF(HU89<>\"\",INDEX($B$2:$B$502,HU89),\"\")","v":""},"",{"$f":"IF(AND($A34<=n,HY$56<=flips),INT(501*RAND()+1),\"\")","v":""},{"$f":"IF(HX89<>\"\",INDEX($B$2:$B$502,HX89),\"\")","v":""},"",{"$f":"IF(AND($A34<=n,IB$56<=flips),INT(501*RAND()+1),\"\")","v":""},{"$f":"IF(IA89<>\"\",INDEX($B$2:$B$502,IA89),\"\")","v":""},"",{"$f":"IF(AND($A34<=n,IE$56<=flips),INT(501*RAND()+1),\"\")","v":""},{"$f":"IF(ID89<>\"\",INDEX($B$2:$B$502,ID89),\"\")","v":""},"",{"$f":"IF(AND($A34<=n,IH$56<=flips),INT(501*RAND()+1),\"\")","v":""},{"$f":"IF(IG89<>\"\",INDEX($B$2:$B$502,IG89),\"\")","v":""},"",{"$f":"IF(AND($A34<=n,IK$56<=flips),INT(501*RAND()+1),\"\")","v":""},{"$f":"IF(IJ89<>\"\",INDEX($B$2:$B$502,IJ89),\"\")","v":""},"",{"$f":"IF(AND($A34<=n,IN$56<=flips),INT(501*RAND()+1),\"\")","v":""},{"$f":"IF(IM89<>\"\",INDEX($B$2:$B$502,IM89),\"\")","v":""},"",{"$f":"IF(AND($A34<=n,IQ$56<=flips),INT(501*RAND()+1),\"\")","v":""},{"$f":"IF(IP89<>\"\",INDEX($B$2:$B$502,IP89),\"\")","v":""},"",{"$f":"IF(AND($A34<=n,IT$56<=flips),INT(501*RAND()+1),\"\")","v":""},{"$f":"IF(IS89<>\"\",INDEX($B$2:$B$502,IS89),\"\")","v":""},"",{"$f":"N$109","v":0.85774145370856469}]
[89,2.3520277799999998,-0.517630912,"","","","","","","","","","","","","","","","","","","","","","","","","","","","","","","","","","","","","","","","","","","","","","","","","","","","","","","","","","","","","","","","","","","","","","","","","","","","","","","","","","","","","","","","","","","","","","","","","","","","","","","","","","","","","","","","","","","","","","","","","","","","","","","","","","","","","","","","","","","","","","","","","","","","","","","","","","","","","","","","","","","","","","","","","","","","","","","","","","","","","","","","","","","","","","","","","","","","","","","","","","","","","","","","","","","","","","","","","","","","","","","","","","","","","","","","","","","","","","","","","","","","","","","","","","","","",{"$f":"Q$109","v":0.9658998304193237}]
[90,6.6065631500000004,9.5195644500000007,"","","","","","","","","","","","","","","","","","","","","","","","","","","","","","","","","","","","","","","","","","","","","","","","","","","","","","","","","","","","","","","","","","","","","","","","","","","","","","","","","","","","","","","","","","","","","","","","","","","","","","","","","","","","","","","","","","","","","","","","","","","","","","","","","","","","","","","","","","","","","","","","","","","","","","","","","","","","","","","","","","","","","","","","","","","","","","","","","","","","","","","","","","","","","","","","","","","","","","","","","","","","","","","","","","","","","","","","","","","","","","","","","","","","","","","","","","","","","","","","","","","","","","","","","","","","",{"$f":"T$109","v":0.92745372227093714}]
[91,4.4224595999999998,7.0814903300000003,"","","","","","","","","","","","","","","","","","","","","","","","","","","","","","","","","","","","","","","","","","","","","","","","","","","","","","","","","","","","","","","","","","","","","","","","","","","","","","","","","","","","","","","","","","","","","","","","","","","","","","","","","","","","","","","","","","","","","","","","","","","","","","","","","","","","","","","","","","","","","","","","","","","","","","","","","","","","","","","","","","","","","","","","","","","","","","","","","","","","","","","","","","","","","","","","","","","","","","","","","","","","","","","","","","","","","","","","","","","","","","","","","","","","","","","","","","","","","","","","","","","","","","","","","","","","",{"$f":"W$109","v":0.93722273227470099}]
[92,8.0506673899999992,11.573889400000001,"","","","","","","","","","","","","","","","","","","","","","","","","","","","","","","","","","","","","","","","","","","","","","","","","","","","","","","","","","","","","","","","","","","","","","","","","","","","","","","","","","","","","","","","","","","","","","","","","","","","","","","","","","","","","","","","","","","","","","","","","","","","","","","","","","","","","","","","","","","","","","","","","","","","","","","","","","","","","","","","","","","","","","","","","","","","","","","","","","","","","","","","","","","","","","","","","","","","","","","","","","","","","","","","","","","","","","","","","","","","","","","","","","","","","","","","","","","","","","","","","","","","","","","","","","","","",{"$f":"Z$109","v":0.94795536522582102}]
[93,9.7713714700000001,11.31715752,"","","","","","","","","","","","","","","","","","","","","","","","","","","","","","","","","","","","","","","","","","","","","","","","","","","","","","","","","","","","","","","","","","","","","","","","","","","","","","","","","","","","","","","","","","","","","","","","","","","","","","","","","","","","","","","","","","","","","","","","","","","","","","","","","","","","","","","","","","","","","","","","","","","","","","","","","","","","","","","","","","","","","","","","","","","","","","","","","","","","","","","","","","","","","","","","","","","","","","","","","","","","","","","","","","","","","","","","","","","","","","","","","","","","","","","","","","","","","","","","","","","","","","","","","","","","",{"$f":"AC$109","v":0.90993417246076413}]
[94,6.2620883799999998,10.6125892,"","","","","","","","","","","","","","","","","","","","","","","","","","","","","","","","","","","","","","","","","","","","","","","","","","","","","","","","","","","","","","","","","","","","","","","","","","","","","","","","","","","","","","","","","","","","","","","","","","","","","","","","","","","","","","","","","","","","","","","","","","","","","","","","","","","","","","","","","","","","","","","","","","","","","","","","","","","","","","","","","","","","","","","","","","","","","","","","","","","","","","","","","","","","","","","","","","","","","","","","","","","","","","","","","","","","","","","","","","","","","","","","","","","","","","","","","","","","","","","","","","","","","","","","","","","","",{"$f":"AF$109","v":0.90865769328297663}]
[95,7.4445936899999996,10.165211899999999,"","","","","","","","","","","","","","","","","","","","","","","","","","","","","","","","","","","","","","","","","","","","","","","","","","","","","","","","","","","","","","","","","","","","","","","","","","","","","","","","","","","","","","","","","","","","","","","","","","","","","","","","","","","","","","","","","","","","","","","","","","","","","","","","","","","","","","","","","","","","","","","","","","","","","","","","","","","","","","","","","","","","","","","","","","","","","","","","","","","","","","","","","","","","","","","","","","","","","","","","","","","","","","","","","","","","","","","","","","","","","","","","","","","","","","","","","","","","","","","","","","","","","","","","","","","","",{"$f":"AI$109","v":0.96400962939455737}]
[96,4.8245429299999998,3.8588945699999999,"","","","","","","","","","","","","","","","","","","","","","","","","","","","","","","","","","","","","","","","","","","","","","","","","","","","","","","","","","","","","","","","","","","","","","","","","","","","","","","","","","","","","","","","","","","","","","","","","","","","","","","","","","","","","","","","","","","","","","","","","","","","","","","","","","","","","","","","","","","","","","","","","","","","","","","","","","","","","","","","","","","","","","","","","","","","","","","","","","","","","","","","","","","","","","","","","","","","","","","","","","","","","","","","","","","","","","","","","","","","","","","","","","","","","","","","","","","","","","","","","","","","","","","","","","","","",{"$f":"AL$109","v":0.96361853987975676}]
[97,5.5722248099999998,7.5462324299999999,"","","","","","","","","","","","","","","","","","","","","","","","","","","","","","","","","","","","","","","","","","","","","","","","","","","","","","","","","","","","","","","","","","","","","","","","","","","","","","","","","","","","","","","","","","","","","","","","","","","","","","","","","","","","","","","","","","","","","","","","","","","","","","","","","","","","","","","","","","","","","","","","","","","","","","","","","","","","","","","","","","","","","","","","","","","","","","","","","","","","","","","","","","","","","","","","","","","","","","","","","","","","","","","","","","","","","","","","","","","","","","","","","","","","","","","","","","","","","","","","","","","","","","","","","","","","",{"$f":"AO$109","v":0.90874173463113073}]
[98,4.4179373499999999,3.4445838200000001,"","","","","","","","","","","","","","","","","","","","","","","","","","","","","","","","","","","","","","","","","","","","","","","","","","","","","","","","","","","","","","","","","","","","","","","","","","","","","","","","","","","","","","","","","","","","","","","","","","","","","","","","","","","","","","","","","","","","","","","","","","","","","","","","","","","","","","","","","","","","","","","","","","","","","","","","","","","","","","","","","","","","","","","","","","","","","","","","","","","","","","","","","","","","","","","","","","","","","","","","","","","","","","","","","","","","","","","","","","","","","","","","","","","","","","","","","","","","","","","","","","","","","","","","","","","","",{"$f":"AR$109","v":0.90952519704009227}]
[99,8.4986549606923578,15.265962912187948,"","","","","","","","","","","","","","","","","","","","","","","","","","","","","","","","","","","","","","","","","","","","","","","","","","","","","","","","","","","","","","","","","","","","","","","","","","","","","","","","","","","","","","","","","","","","","","","","","","","","","","","","","","","","","","","","","","","","","","","","","","","","","","","","","","","","","","","","","","","","","","","","","","","","","","","","","","","","","","","","","","","","","","","","","","","","","","","","","","","","","","","","","","","","","","","","","","","","","","","","","","","","","","","","","","","","","","","","","","","","","","","","","","","","","","","","","","","","","","","","","","","","","","","","","","","","",{"$f":"AU$109","v":0.89599825305500469}]
[100,5.1634547445665042,8.3874278988680597,"","","","","","","","","","","","","","","","","","","","","","","","","","","","","","","","","","","","","","","","","","","","","","","","","","","","","","","","","","","","","","","","","","","","","","","","","","","","","","","","","","","","","","","","","","","","","","","","","","","","","","","","","","","","","","","","","","","","","","","","","","","","","","","","","","","","","","","","","","","","","","","","","","","","","","","","","","","","","","","","","","","","","","","","","","","","","","","","","","","","","","","","","","","","","","","","","","","","","","","","","","","","","","","","","","","","","","","","","","","","","","","","","","","","","","","","","","","","","","","","","","","","","","","","","","","","",{"$f":"AX$109","v":0.90327380991232686}]
[101,5.4458456762474583,6.6681100293613467,"","","","","","","","","","","","","","","","","","","","","","","","","","","","","","","","","","","","","","","","","","","","","","","","","","","","","","","","","","","","","","","","","","","","","","","","","","","","","","","","","","","","","","","","","","","","","","","","","","","","","","","","","","","","","","","","","","","","","","","","","","","","","","","","","","","","","","","","","","","","","","","","","","","","","","","","","","","","","","","","","","","","","","","","","","","","","","","","","","","","","","","","","","","","","","","","","","","","","","","","","","","","","","","","","","","","","","","","","","","","","","","","","","","","","","","","","","","","","","","","","","","","","","","","","","","","",{"$f":"BA$109","v":0.9407146646506116}]
[102,3.4094557169609363,3.6520829590804085,"","","","","","","","","","","","","","","","","","","","","","","","","","","","","","","","","","","","","","","","","","","","","","","","","","","","","","","","","","","","","","","","","","","","","","","","","","","","","","","","","","","","","","","","","","","","","","","","","","","","","","","","","","","","","","","","","","","","","","","","","","","","","","","","","","","","","","","","","","","","","","","","","","","","","","","","","","","","","","","","","","","","","","","","","","","","","","","","","","","","","","","","","","","","","","","","","","","","","","","","","","","","","","","","","","","","","","","","","","","","","","","","","","","","","","","","","","","","","","","","","","","","","","","","","","","","",{"$f":"BD$109","v":0.8862385001706321}]
[103,5.0898725373160936,7.3529825306937582,"","","","","","","","","","","","","","","","","","","","","","","","","","","","","","","","","","","","","","","","","","","","","","","","","","","","","","","","","","","","","","","","","","","","","","","","","","","","","","","","","","","","","","","","","","","","","","","","","","","","","","","","","","","","","","","","","","","","","","","","","","","","","","","","","","","","","","","","","","","","","","","","","","","","","","","","","","","","","","","","","","","","","","","","","","","","","","","","","","","","","","","","","","","","","","","","","","","","","","","","","","","","","","","","","","","","","","","","","","","","","","","","","","","","","","","","","","","","","","","","","","","","","","","","","","","","",{"$f":"BG$109","v":0.88865030595425964}]
[104,2.7962367993366222,3.8294492481387614,"","","","","","","","","","","","","","","","","","","","","","","","","","","","","","","","","","","","","","","","","","","","","","","","","","","","","","","","","","","","","","","","","","","","","","","","","","","","","","","","","","","","","","","","","","","","","","","","","","","","","","","","","","","","","","","","","","","","","","","","","","","","","","","","","","","","","","","","","","","","","","","","","","","","","","","","","","","","","","","","","","","","","","","","","","","","","","","","","","","","","","","","","","","","","","","","","","","","","","","","","","","","","","","","","","","","","","","","","","","","","","","","","","","","","","","","","","","","","","","","","","","","","","","","","","","","",{"$f":"BJ$109","v":0.87663538515369188}]
[105,3.3553365657520917,3.6434025574784514,"","","","","","","","","","","","","","","","","","","","","","","","","","","","","","","","","","","","","","","","","","","","","","","","","","","","","","","","","","","","","","","","","","","","","","","","","","","","","","","","","","","","","","","","","","","","","","","","","","","","","","","","","","","","","","","","","","","","","","","","","","","","","","","","","","","","","","","","","","","","","","","","","","","","","","","","","","","","","","","","","","","","","","","","","","","","","","","","","","","","","","","","","","","","","","","","","","","","","","","","","","","","","","","","","","","","","","","","","","","","","","","","","","","","","","","","","","","","","","","","","","","","","","","","","","","","",{"$f":"BM$109","v":0.95132870228150634}]
[106,5.5739660508097177,10.596846294807699,"","","",{"$f":"IF($A52<=n,INT(501*RAND()+1),\"\")","v":""},"",{"$f":"IF(G107<>\"\",INDEX($C$2:$C$502,G107),\"\")","v":""},{"$f":"IF($A52<=n,INT(501*RAND()+1),\"\")","v":""},"",{"$f":"IF(J107<>\"\",INDEX($C$2:$C$502,J107),\"\")","v":""},{"$f":"IF($A52<=n,INT(501*RAND()+1),\"\")","v":""},"",{"$f":"IF(M107<>\"\",INDEX($C$2:$C$502,M107),\"\")","v":""},{"$f":"IF($A52<=n,INT(501*RAND()+1),\"\")","v":""},"",{"$f":"IF(P107<>\"\",INDEX($C$2:$C$502,P107),\"\")","v":""},{"$f":"IF($A52<=n,INT(501*RAND()+1),\"\")","v":""},"",{"$f":"IF(S107<>\"\",INDEX($C$2:$C$502,S107),\"\")","v":""},{"$f":"IF($A52<=n,INT(501*RAND()+1),\"\")","v":""},"",{"$f":"IF(V107<>\"\",INDEX($C$2:$C$502,V107),\"\")","v":""},null,null,null,null,null,null,null,null,null,null,null,null,null,null,null,null,null,null,null,null,null,null,null,null,null,null,null,null,null,null,null,null,null,null,null,null,null,null,null,null,null,null,null,null,null,null,null,null,null,null,null,null,null,null,null,null,null,null,null,null,null,null,null,null,null,null,null,null,null,null,null,null,null,null,null,null,null,null,null,null,null,null,null,null,null,null,null,null,null,null,null,null,null,null,null,null,null,null,null,null,null,null,null,null,null,null,null,null,null,null,null,null,null,null,null,null,null,null,null,null,null,null,null,null,null,null,null,null,null,null,null,null,null,null,null,null,null,null,null,null,null,null,null,null,null,null,null,null,null,null,null,null,null,null,null,null,null,null,null,null,null,null,null,null,null,null,null,null,null,null,null,null,null,null,null,null,null,null,null,null,null,null,null,null,null,null,null,null,null,null,null,null,null,null,null,null,null,null,null,null,null,null,null,null,null,null,null,null,null,null,null,null,null,null,null,null,null,null,null,null,null,null,null,null,null,null,null,null,null,null,null,{"$f":"BP$109","v":0.8533568134157794}]
[107,1.1405256196458247,1.0120546091450575,{"$f":"IF($A108<=n,INT(501*RAND()+1),\"\")","v":""},"","",{"$f":"IF($A108<=n,INT(501*RAND()+1),\"\")","v":""},"",{"$f":"IF(G108<>\"\",INDEX($C$2:$C$502,G108),\"\")","v":""},{"$f":"IF($A108<=n,INT(501*RAND()+1),\"\")","v":""},"",{"$f":"IF(J108<>\"\",INDEX($C$2:$C$502,J108),\"\")","v":""},{"$f":"IF($A108<=n,INT(501*RAND()+1),\"\")","v":""},"",{"$f":"IF(M108<>\"\",INDEX($C$2:$C$502,M108),\"\")","v":""},{"$f":"IF($A108<=n,INT(501*RAND()+1),\"\")","v":""},"",{"$f":"IF(P108<>\"\",INDEX($C$2:$C$502,P108),\"\")","v":""},{"$f":"IF($A108<=n,INT(501*RAND()+1),\"\")","v":""},"",{"$f":"IF(S108<>\"\",INDEX($C$2:$C$502,S108),\"\")","v":""},{"$f":"IF($A108<=n,INT(501*RAND()+1),\"\")","v":""},"",{"$f":"IF(V108<>\"\",INDEX($C$2:$C$502,V108),\"\")","v":""},null,null,null,null,null,null,null,null,null,null,null,null,null,null,null,null,null,null,null,null,null,null,null,null,null,null,null,null,null,null,null,null,null,null,null,null,null,null,null,null,null,null,null,null,null,null,null,null,null,null,null,null,null,null,null,null,null,null,null,null,null,null,null,null,null,null,null,null,null,null,null,null,null,null,null,null,null,null,null,null,null,null,null,null,null,null,null,null,null,null,null,null,null,null,null,null,null,null,null,null,null,null,null,null,null,null,null,null,null,null,null,null,null,null,null,null,null,null,null,null,null,null,null,null,null,null,null,null,null,null,null,null,null,null,null,null,null,null,null,null,null,null,null,null,null,null,null,null,null,null,null,null,null,null,null,null,null,null,null,null,null,null,null,null,null,null,null,null,null,null,null,null,null,null,null,null,null,null,null,null,null,null,null,null,null,null,null,null,null,null,null,null,null,null,null,null,null,null,null,null,null,null,null,null,null,null,null,null,null,null,null,null,null,null,null,null,null,null,null,null,null,null,null,null,null,null,null,null,null,null,null,{"$f":"BS$109","v":0.97267730336433356}]
[108,6.0027236613643931,7.8726365751424154,"cc=",{"$f":"IF(D57=\"\",\"\",CORREL(E57:E107,F57:F107))","v":0.95786696275081518},null,"cc=",{"$f":"IF(G57=\"\",\"\",CORREL(H57:H107,I57:I107))","v":0.8338240886085394},null,"cc=",{"$f":"IF(J57=\"\",\"\",CORREL(K57:K107,L57:L107))","v":0.96481145689800241},null,"cc=",{"$f":"IF(M57=\"\",\"\",CORREL(N57:N107,O57:O107))","v":0.85774145370856469},null,"cc=",{"$f":"IF(P57=\"\",\"\",CORREL(Q57:Q107,R57:R107))","v":0.9658998304193237},null,"cc=",{"$f":"IF(S57=\"\",\"\",CORREL(T57:T107,U57:U107))","v":0.92745372227093714},null,"cc=",{"$f":"IF(V57=\"\",\"\",CORREL(W57:W107,X57:X107))","v":0.93722273227470099},null,"cc=",{"$f":"IF(Y57=\"\",\"\",CORREL(Z57:Z107,AA57:AA107))","v":0.94795536522582102},null,"cc=",{"$f":"IF(AB57=\"\",\"\",CORREL(AC57:AC107,AD57:AD107))","v":0.90993417246076413},null,"cc=",{"$f":"IF(AE57=\"\",\"\",CORREL(AF57:AF107,AG57:AG107))","v":0.90865769328297663},null,"cc=",{"$f":"IF(AH57=\"\",\"\",CORREL(AI57:AI107,AJ57:AJ107))","v":0.96400962939455737},null,"cc=",{"$f":"IF(AK57=\"\",\"\",CORREL(AL57:AL107,AM57:AM107))","v":0.96361853987975676},null,"cc=",{"$f":"IF(AN57=\"\",\"\",CORREL(AO57:AO107,AP57:AP107))","v":0.90874173463113073},null,"cc=",{"$f":"IF(AQ57=\"\",\"\",CORREL(AR57:AR107,AS57:AS107))","v":0.90952519704009227},null,"cc=",{"$f":"IF(AT57=\"\",\"\",CORREL(AU57:AU107,AV57:AV107))","v":0.89599825305500469},null,"cc=",{"$f":"IF(AW57=\"\",\"\",CORREL(AX57:AX107,AY57:AY107))","v":0.90327380991232686},null,"cc=",{"$f":"IF(AZ57=\"\",\"\",CORREL(BA57:BA107,BB57:BB107))","v":0.9407146646506116},null,"cc=",{"$f":"IF(BC57=\"\",\"\",CORREL(BD57:BD107,BE57:BE107))","v":0.8862385001706321},null,"cc=",{"$f":"IF(BF57=\"\",\"\",CORREL(BG57:BG107,BH57:BH107))","v":0.88865030595425964},null,"cc=",{"$f":"IF(BI57=\"\",\"\",CORREL(BJ57:BJ107,BK57:BK107))","v":0.87663538515369188},null,"cc=",{"$f":"IF(BL57=\"\",\"\",CORREL(BM57:BM107,BN57:BN107))","v":0.95132870228150634},null,"cc=",{"$f":"IF(BO57=\"\",\"\",CORREL(BP57:BP107,BQ57:BQ107))","v":0.8533568134157794},null,"cc=",{"$f":"IF(BR57=\"\",\"\",CORREL(BS57:BS107,BT57:BT107))","v":0.97267730336433356},null,"cc=",{"$f":"IF(BU57=\"\",\"\",CORREL(BV57:BV107,BW57:BW107))","v":0.88517038238851997},null,"cc=",{"$f":"IF(BX57=\"\",\"\",CORREL(BY57:BY107,BZ57:BZ107))","v":0.86434298241298857},null,"cc=",{"$f":"IF(CA57=\"\",\"\",CORREL(CB57:CB107,CC57:CC107))","v":0.89636161065628939},null,"cc=",{"$f":"IF(CD57=\"\",\"\",CORREL(CE57:CE107,CF57:CF107))","v":0.95440691639120967},null,"cc=",{"$f":"IF(CG57=\"\",\"\",CORREL(CH57:CH107,CI57:CI107))","v":0.96092375901387417},null,"cc=",{"$f":"IF(CJ57=\"\",\"\",CORREL(CK57:CK107,CL57:CL107))","v":0.93249097713912477},null,"cc=",{"$f":"IF(CM57=\"\",\"\",CORREL(CN57:CN107,CO57:CO107))","v":0.93683354753194747},null,"cc=",{"$f":"IF(CP57=\"\",\"\",CORREL(CQ57:CQ107,CR57:CR107))","v":0.91343389990591772},null,"cc=",{"$f":"IF(CS57=\"\",\"\",CORREL(CT57:CT107,CU57:CU107))","v":0.91516154361121249},null,"cc=",{"$f":"IF(CV57=\"\",\"\",CORREL(CW57:CW107,CX57:CX107))","v":0.94980999788996034},null,"cc=",{"$f":"IF(CY57=\"\",\"\",CORREL(CZ57:CZ107,DA57:DA107))","v":0.96156747514310859},null,"cc=",{"$f":"IF(DB57=\"\",\"\",CORREL(DC57:DC107,DD57:DD107))","v":0.9224142495286306},null,"cc=",{"$f":"IF(DE57=\"\",\"\",CORREL(DF57:DF107,DG57:DG107))","v":0.91114621623297865},null,"cc=",{"$f":"IF(DH57=\"\",\"\",CORREL(DI57:DI107,DJ57:DJ107))","v":0.93885381741145957},null,"cc=",{"$f":"IF(DK57=\"\",\"\",CORREL(DL57:DL107,DM57:DM107))","v":0.92474310281012784},null,"cc=",{"$f":"IF(DN57=\"\",\"\",CORREL(DO57:DO107,DP57:DP107))","v":0.94416503988940459},null,"cc=",{"$f":"IF(DQ57=\"\",\"\",CORREL(DR57:DR107,DS57:DS107))","v":0.93208322030717827},null,"cc=",{"$f":"IF(DT57=\"\",\"\",CORREL(DU57:DU107,DV57:DV107))","v":0.87824938869842528},null,"cc=",{"$f":"IF(DW57=\"\",\"\",CORREL(DX57:DX107,DY57:DY107))","v":0.92038568163176238},null,"cc=",{"$f":"IF(DZ57=\"\",\"\",CORREL(EA57:EA107,EB57:EB107))","v":0.92850200391026372},null,"cc=",{"$f":"IF(EC57=\"\",\"\",CORREL(ED57:ED107,EE57:EE107))","v":0.81318914625145677},null,"cc=",{"$f":"IF(EF57=\"\",\"\",CORREL(EG57:EG107,EH57:EH107))","v":0.87840013863733024},null,"cc=",{"$f":"IF(EI57=\"\",\"\",CORREL(EJ57:EJ107,EK57:EK107))","v":0.95511641638035616},null,"cc=",{"$f":"IF(EL57=\"\",\"\",CORREL(EM57:EM107,EN57:EN107))","v":0.96820844978331855},null,"cc=",{"$f":"IF(EO57=\"\",\"\",CORREL(EP57:EP107,EQ57:EQ107))","v":0.93380648667907884},null,"cc=",{"$f":"IF(ER57=\"\",\"\",CORREL(ES57:ES107,ET57:ET107))","v":0.95498454744321015},null,"cc=",{"$f":"IF(EU57=\"\",\"\",CORREL(EV57:EV107,EW57:EW107))","v":0.95862656406817448},null,"cc=",{"$f":"IF(EX57=\"\",\"\",CORREL(EY57:EY107,EZ57:EZ107))","v":0.90438367985689638},null,"cc=",{"$f":"IF(FA57=\"\",\"\",CORREL(FB57:FB107,FC57:FC107))","v":0.88127701955924276},null,"cc=",{"$f":"IF(FD57=\"\",\"\",CORREL(FE57:FE107,FF57:FF107))","v":""},null,"cc=",{"$f":"IF(FG57=\"\",\"\",CORREL(FH57:FH107,FI57:FI107))","v":""},null,"cc=",{"$f":"IF(FJ57=\"\",\"\",CORREL(FK57:FK107,FL57:FL107))","v":""},null,"cc=",{"$f":"IF(FM57=\"\",\"\",CORREL(FN57:FN107,FO57:FO107))","v":""},null,"cc=",{"$f":"IF(FP57=\"\",\"\",CORREL(FQ57:FQ107,FR57:FR107))","v":""},null,"cc=",{"$f":"IF(FS57=\"\",\"\",CORREL(FT57:FT107,FU57:FU107))","v":""},null,"cc=",{"$f":"IF(FV57=\"\",\"\",CORREL(FW57:FW107,FX57:FX107))","v":""},null,"cc=",{"$f":"IF(FY57=\"\",\"\",CORREL(FZ57:FZ107,GA57:GA107))","v":""},null,"cc=",{"$f":"IF(GB57=\"\",\"\",CORREL(GC57:GC107,GD57:GD107))","v":""},null,"cc=",{"$f":"IF(GE57=\"\",\"\",CORREL(GF57:GF107,GG57:GG107))","v":""},null,"cc=",{"$f":"IF(GH57=\"\",\"\",CORREL(GI57:GI107,GJ57:GJ107))","v":""},null,"cc=",{"$f":"IF(GK57=\"\",\"\",CORREL(GL57:GL107,GM57:GM107))","v":""},null,"cc=",{"$f":"IF(GN57=\"\",\"\",CORREL(GO57:GO107,GP57:GP107))","v":""},null,"cc=",{"$f":"IF(GQ57=\"\",\"\",CORREL(GR57:GR107,GS57:GS107))","v":""},null,"cc=",{"$f":"IF(GT57=\"\",\"\",CORREL(GU57:GU107,GV57:GV107))","v":""},null,"cc=",{"$f":"IF(GW57=\"\",\"\",CORREL(GX57:GX107,GY57:GY107))","v":""},null,"cc=",{"$f":"IF(GZ57=\"\",\"\",CORREL(HA57:HA107,HB57:HB107))","v":""},null,"cc=",{"$f":"IF(HC57=\"\",\"\",CORREL(HD57:HD107,HE57:HE107))","v":""},null,"cc=",{"$f":"IF(HF57=\"\",\"\",CORREL(HG57:HG107,HH57:HH107))","v":""},null,"cc=",{"$f":"IF(HI57=\"\",\"\",CORREL(HJ57:HJ107,HK57:HK107))","v":""},null,"cc=",{"$f":"IF(HL57=\"\",\"\",CORREL(HM57:HM107,HN57:HN107))","v":""},null,"cc=",{"$f":"IF(HO57=\"\",\"\",CORREL(HP57:HP107,HQ57:HQ107))","v":""},null,"cc=",{"$f":"IF(HR57=\"\",\"\",CORREL(HS57:HS107,HT57:HT107))","v":""},null,"cc=",{"$f":"IF(HU57=\"\",\"\",CORREL(HV57:HV107,HW57:HW107))","v":""},null,"cc=",{"$f":"IF(HX57=\"\",\"\",CORREL(HY57:HY107,HZ57:HZ107))","v":""},null,"cc=",{"$f":"IF(IA57=\"\",\"\",CORREL(IB57:IB107,IC57:IC107))","v":""},null,"cc=",{"$f":"IF(ID57=\"\",\"\",CORREL(IE57:IE107,IF57:IF107))","v":""},null,"cc=",{"$f":"IF(IG57=\"\",\"\",CORREL(IH57:IH107,II57:II107))","v":""},null,"cc=",{"$f":"IF(IJ57=\"\",\"\",CORREL(IK57:IK107,IL57:IL107))","v":""},null,"cc=",{"$f":"IF(IM57=\"\",\"\",CORREL(IN57:IN107,IO57:IO107))","v":""},null,"cc=",{"$f":"IF(IP57=\"\",\"\",CORREL(IQ57:IQ107,IR57:IR107))","v":""},null,"cc=",{"$f":"IF(IS57=\"\",\"\",CORREL(IT57:IT107,IU57:IU107))","v":""},null,{"$f":"BV$109","v":0.88517038238851997}]
[109,4.2473853747116674,5.5314138092696616,null,null,null,null,null,null,null,null,null,null,null,null,null,null,null,null,null,null,null,null,null,null,null,null,null,null,null,null,null,null,null,null,null,null,null,null,null,null,null,null,null,null,null,null,null,null,null,null,null,null,null,null,null,null,null,null,null,null,null,null,null,null,null,null,null,null,null,null,null,null,null,null,null,null,null,null,null,null,null,null,null,null,null,null,null,null,null,null,null,null,null,null,null,null,null,null,null,null,null,null,null,null,null,null,null,null,null,null,null,null,null,null,null,null,null,null,null,null,null,null,null,null,null,null,null,null,null,null,null,null,null,null,null,null,null,null,null,null,null,null,null,null,null,null,null,null,null,null,null,null,null,null,null,null,null,null,null,null,null,null,null,null,null,null,null,null,null,null,null,null,null,null,null,null,null,null,null,null,null,null,null,null,null,null,null,null,null,null,null,null,null,null,null,null,null,null,null,null,null,null,null,null,null,null,null,null,null,null,null,null,null,null,null,null,null,null,null,null,null,null,null,null,null,null,null,null,null,null,null,null,null,null,null,null,null,null,null,null,null,null,null,null,null,null,null,null,null,null,null,null,null,null,{"$f":"BY$109","v":0.86434298241298857}]
[110,2.5899652593558353,2.9413220452259869,"sample",169,null,"sample",{"$f":"E111+1","v":170},null,"sample",{"$f":"H111+1","v":171},null,"sample",{"$f":"K111+1","v":172},null,"sample",{"$f":"N111+1","v":173},null,"sample",{"$f":"Q111+1","v":174},null,"sample",{"$f":"T111+1","v":175},null,"sample",{"$f":"W111+1","v":176},null,"sample",{"$f":"Z111+1","v":177},null,"sample",{"$f":"AC111+1","v":178},null,"sample",{"$f":"AF111+1","v":179},null,"sample",{"$f":"AI111+1","v":180},null,"sample",{"$f":"AL111+1","v":181},null,"sample",{"$f":"AO111+1","v":182},null,"sample",{"$f":"AR111+1","v":183},null,"sample",{"$f":"AU111+1","v":184},null,"sample",{"$f":"AX111+1","v":185},null,"sample",{"$f":"BA111+1","v":186},null,"sample",{"$f":"BD111+1","v":187},null,"sample",{"$f":"BG111+1","v":188},null,"sample",{"$f":"BJ111+1","v":189},null,"sample",{"$f":"BM111+1","v":190},null,"sample",{"$f":"BP111+1","v":191},null,"sample",{"$f":"BS111+1","v":192},null,"sample",{"$f":"BV111+1","v":193},null,"sample",{"$f":"BY111+1","v":194},null,"sample",{"$f":"CB111+1","v":195},null,"sample",{"$f":"CE111+1","v":196},null,"sample",{"$f":"CH111+1","v":197},null,"sample",{"$f":"CK111+1","v":198},null,"sample",{"$f":"CN111+1","v":199},null,"sample",{"$f":"CQ111+1","v":200},null,"sample",{"$f":"CT111+1","v":201},null,"sample",{"$f":"CW111+1","v":202},null,"sample",{"$f":"CZ111+1","v":203},null,"sample",{"$f":"DC111+1","v":204},null,"sample",{"$f":"DF111+1","v":205},null,"sample",{"$f":"DI111+1","v":206},null,"sample",{"$f":"DL111+1","v":207},null,"sample",{"$f":"DO111+1","v":208},null,"sample",{"$f":"DR111+1","v":209},null,"sample",{"$f":"DU111+1","v":210},null,"sample",{"$f":"DX111+1","v":211},null,"sample",{"$f":"EA111+1","v":212},null,"sample",{"$f":"ED111+1","v":213},null,"sample",{"$f":"EG111+1","v":214},null,"sample",{"$f":"EJ111+1","v":215},null,"sample",{"$f":"EM111+1","v":216},null,"sample",{"$f":"EP111+1","v":217},null,"sample",{"$f":"ES111+1","v":218},null,"sample",{"$f":"EV111+1","v":219},null,"sample",{"$f":"EY111+1","v":220},null,"sample",{"$f":"FB111+1","v":221},null,"sample",{"$f":"FE111+1","v":222},null,"sample",{"$f":"FH111+1","v":223},null,"sample",{"$f":"FK111+1","v":224},null,"sample",{"$f":"FN111+1","v":225},null,"sample",{"$f":"FQ111+1","v":226},null,"sample",{"$f":"FT111+1","v":227},null,"sample",{"$f":"FW111+1","v":228},null,"sample",{"$f":"FZ111+1","v":229},null,"sample",{"$f":"GC111+1","v":230},null,"sample",{"$f":"GF111+1","v":231},null,"sample",{"$f":"GI111+1","v":232},null,"sample",{"$f":"GL111+1","v":233},null,"sample",{"$f":"GO111+1","v":234},null,"sample",{"$f":"GR111+1","v":235},null,"sample",{"$f":"GU111+1","v":236},null,"sample",{"$f":"GX111+1","v":237},null,"sample",{"$f":"HA111+1","v":238},null,"sample",{"$f":"HD111+1","v":239},null,"sample",{"$f":"HG111+1","v":240},null,"sample",{"$f":"HJ111+1","v":241},null,"sample",{"$f":"HM111+1","v":242},null,"sample",{"$f":"HP111+1","v":243},null,"sample",{"$f":"HS111+1","v":244},null,"sample",{"$f":"HV111+1","v":245},null,"sample",{"$f":"HY111+1","v":246},null,"sample",{"$f":"IB111+1","v":247},null,"sample",{"$f":"IE111+1","v":248},null,"sample",{"$f":"IH111+1","v":249},null,"sample",{"$f":"IK111+1","v":250},null,null,null,null,null,null,null,{"$f":"CB$109","v":0.89636161065628939}]
[111,3.8563894703487112,4.9257543803902486,{"$f":"IF(AND($A2<=n,E$111<=flips),INT(501*RAND()+1),\"\")","v":""},{"$f":"IF(D112<>\"\",INDEX($B$2:$B$502,D112),\"\")","v":""},{"$f":"IF(D112<>\"\",INDEX($C$2:$C$502,D112),\"\")","v":""},{"$f":"IF(AND($A2<=n,H$111<=flips),INT(501*RAND()+1),\"\")","v":""},{"$f":"IF(G112<>\"\",INDEX($B$2:$B$502,G112),\"\")","v":""},{"$f":"IF(G112<>\"\",INDEX($C$2:$C$502,G112),\"\")","v":""},{"$f":"IF(AND($A2<=n,K$111<=flips),INT(501*RAND()+1),\"\")","v":""},{"$f":"IF(J112<>\"\",INDEX($B$2:$B$502,J112),\"\")","v":""},{"$f":"IF(J112<>\"\",INDEX($C$2:$C$502,J112),\"\")","v":""},{"$f":"IF(AND($A2<=n,N$111<=flips),INT(501*RAND()+1),\"\")","v":""},{"$f":"IF(M112<>\"\",INDEX($B$2:$B$502,M112),\"\")","v":""},{"$f":"IF(M112<>\"\",INDEX($C$2:$C$502,M112),\"\")","v":""},{"$f":"IF(AND($A2<=n,Q$111<=flips),INT(501*RAND()+1),\"\")","v":""},{"$f":"IF(P112<>\"\",INDEX($B$2:$B$502,P112),\"\")","v":""},{"$f":"IF(P112<>\"\",INDEX($C$2:$C$502,P112),\"\")","v":""},{"$f":"IF(AND($A2<=n,T$111<=flips),INT(501*RAND()+1),\"\")","v":""},{"$f":"IF(S112<>\"\",INDEX($B$2:$B$502,S112),\"\")","v":""},{"$f":"IF(S112<>\"\",INDEX($C$2:$C$502,S112),\"\")","v":""},{"$f":"IF(AND($A2<=n,W$111<=flips),INT(501*RAND()+1),\"\")","v":""},{"$f":"IF(V112<>\"\",INDEX($B$2:$B$502,V112),\"\")","v":""},{"$f":"IF(V112<>\"\",INDEX($C$2:$C$502,V112),\"\")","v":""},{"$f":"IF(AND($A2<=n,Z$111<=flips),INT(501*RAND()+1),\"\")","v":""},{"$f":"IF(Y112<>\"\",INDEX($B$2:$B$502,Y112),\"\")","v":""},{"$f":"IF(Y112<>\"\",INDEX($C$2:$C$502,Y112),\"\")","v":""},{"$f":"IF(AND($A2<=n,AC$111<=flips),INT(501*RAND()+1),\"\")","v":""},{"$f":"IF(AB112<>\"\",INDEX($B$2:$B$502,AB112),\"\")","v":""},{"$f":"IF(AB112<>\"\",INDEX($C$2:$C$502,AB112),\"\")","v":""},{"$f":"IF(AND($A2<=n,AF$111<=flips),INT(501*RAND()+1),\"\")","v":""},{"$f":"IF(AE112<>\"\",INDEX($B$2:$B$502,AE112),\"\")","v":""},{"$f":"IF(AE112<>\"\",INDEX($C$2:$C$502,AE112),\"\")","v":""},{"$f":"IF(AND($A2<=n,AI$111<=flips),INT(501*RAND()+1),\"\")","v":""},{"$f":"IF(AH112<>\"\",INDEX($B$2:$B$502,AH112),\"\")","v":""},{"$f":"IF(AH112<>\"\",INDEX($C$2:$C$502,AH112),\"\")","v":""},{"$f":"IF(AND($A2<=n,AL$111<=flips),INT(501*RAND()+1),\"\")","v":""},{"$f":"IF(AK112<>\"\",INDEX($B$2:$B$502,AK112),\"\")","v":""},{"$f":"IF(AK112<>\"\",INDEX($C$2:$C$502,AK112),\"\")","v":""},{"$f":"IF(AND($A2<=n,AO$111<=flips),INT(501*RAND()+1),\"\")","v":""},{"$f":"IF(AN112<>\"\",INDEX($B$2:$B$502,AN112),\"\")","v":""},{"$f":"IF(AN112<>\"\",INDEX($C$2:$C$502,AN112),\"\")","v":""},{"$f":"IF(AND($A2<=n,AR$111<=flips),INT(501*RAND()+1),\"\")","v":""},{"$f":"IF(AQ112<>\"\",INDEX($B$2:$B$502,AQ112),\"\")","v":""},{"$f":"IF(AQ112<>\"\",INDEX($C$2:$C$502,AQ112),\"\")","v":""},{"$f":"IF(AND($A2<=n,AU$111<=flips),INT(501*RAND()+1),\"\")","v":""},{"$f":"IF(AT112<>\"\",INDEX($B$2:$B$502,AT112),\"\")","v":""},{"$f":"IF(AT112<>\"\",INDEX($C$2:$C$502,AT112),\"\")","v":""},{"$f":"IF(AND($A2<=n,AX$111<=flips),INT(501*RAND()+1),\"\")","v":""},{"$f":"IF(AW112<>\"\",INDEX($B$2:$B$502,AW112),\"\")","v":""},{"$f":"IF(AW112<>\"\",INDEX($C$2:$C$502,AW112),\"\")","v":""},{"$f":"IF(AND($A2<=n,BA$111<=flips),INT(501*RAND()+1),\"\")","v":""},{"$f":"IF(AZ112<>\"\",INDEX($B$2:$B$502,AZ112),\"\")","v":""},{"$f":"IF(AZ112<>\"\",INDEX($C$2:$C$502,AZ112),\"\")","v":""},{"$f":"IF(AND($A2<=n,BD$111<=flips),INT(501*RAND()+1),\"\")","v":""},{"$f":"IF(BC112<>\"\",INDEX($B$2:$B$502,BC112),\"\")","v":""},{"$f":"IF(BC112<>\"\",INDEX($C$2:$C$502,BC112),\"\")","v":""},{"$f":"IF(AND($A2<=n,BG$111<=flips),INT(501*RAND()+1),\"\")","v":""},{"$f":"IF(BF112<>\"\",INDEX($B$2:$B$502,BF112),\"\")","v":""},{"$f":"IF(BF112<>\"\",INDEX($C$2:$C$502,BF112),\"\")","v":""},{"$f":"IF(AND($A2<=n,BJ$111<=flips),INT(501*RAND()+1),\"\")","v":""},{"$f":"IF(BI112<>\"\",INDEX($B$2:$B$502,BI112),\"\")","v":""},{"$f":"IF(BI112<>\"\",INDEX($C$2:$C$502,BI112),\"\")","v":""},{"$f":"IF(AND($A2<=n,BM$111<=flips),INT(501*RAND()+1),\"\")","v":""},{"$f":"IF(BL112<>\"\",INDEX($B$2:$B$502,BL112),\"\")","v":""},{"$f":"IF(BL112<>\"\",INDEX($C$2:$C$502,BL112),\"\")","v":""},{"$f":"IF(AND($A2<=n,BP$111<=flips),INT(501*RAND()+1),\"\")","v":""},{"$f":"IF(BO112<>\"\",INDEX($B$2:$B$502,BO112),\"\")","v":""},{"$f":"IF(BO112<>\"\",INDEX($C$2:$C$502,BO112),\"\")","v":""},{"$f":"IF(AND($A2<=n,BS$111<=flips),INT(501*RAND()+1),\"\")","v":""},{"$f":"IF(BR112<>\"\",INDEX($B$2:$B$502,BR112),\"\")","v":""},{"$f":"IF(BR112<>\"\",INDEX($C$2:$C$502,BR112),\"\")","v":""},{"$f":"IF(AND($A2<=n,BV$111<=flips),INT(501*RAND()+1),\"\")","v":""},{"$f":"IF(BU112<>\"\",INDEX($B$2:$B$502,BU112),\"\")","v":""},{"$f":"IF(BU112<>\"\",INDEX($C$2:$C$502,BU112),\"\")","v":""},{"$f":"IF(AND($A2<=n,BY$111<=flips),INT(501*RAND()+1),\"\")","v":""},{"$f":"IF(BX112<>\"\",INDEX($B$2:$B$502,BX112),\"\")","v":""},{"$f":"IF(BX112<>\"\",INDEX($C$2:$C$502,BX112),\"\")","v":""},{"$f":"IF(AND($A2<=n,CB$111<=flips),INT(501*RAND()+1),\"\")","v":""},{"$f":"IF(CA112<>\"\",INDEX($B$2:$B$502,CA112),\"\")","v":""},{"$f":"IF(CA112<>\"\",INDEX($C$2:$C$502,CA112),\"\")","v":""},{"$f":"IF(AND($A2<=n,CE$111<=flips),INT(501*RAND()+1),\"\")","v":""},{"$f":"IF(CD112<>\"\",INDEX($B$2:$B$502,CD112),\"\")","v":""},{"$f":"IF(CD112<>\"\",INDEX($C$2:$C$502,CD112),\"\")","v":""},{"$f":"IF(AND($A2<=n,CH$111<=flips),INT(501*RAND()+1),\"\")","v":""},{"$f":"IF(CG112<>\"\",INDEX($B$2:$B$502,CG112),\"\")","v":""},{"$f":"IF(CG112<>\"\",INDEX($C$2:$C$502,CG112),\"\")","v":""},{"$f":"IF(AND($A2<=n,CK$111<=flips),INT(501*RAND()+1),\"\")","v":""},{"$f":"IF(CJ112<>\"\",INDEX($B$2:$B$502,CJ112),\"\")","v":""},{"$f":"IF(CJ112<>\"\",INDEX($C$2:$C$502,CJ112),\"\")","v":""},{"$f":"IF(AND($A2<=n,CN$111<=flips),INT(501*RAND()+1),\"\")","v":""},{"$f":"IF(CM112<>\"\",INDEX($B$2:$B$502,CM112),\"\")","v":""},{"$f":"IF(CM112<>\"\",INDEX($C$2:$C$502,CM112),\"\")","v":""},{"$f":"IF(AND($A2<=n,CQ$111<=flips),INT(501*RAND()+1),\"\")","v":""},{"$f":"IF(CP112<>\"\",INDEX($B$2:$B$502,CP112),\"\")","v":""},{"$f":"IF(CP112<>\"\",INDEX($C$2:$C$502,CP112),\"\")","v":""},{"$f":"IF(AND($A2<=n,CT$111<=flips),INT(501*RAND()+1),\"\")","v":""},{"$f":"IF(CS112<>\"\",INDEX($B$2:$B$502,CS112),\"\")","v":""},{"$f":"IF(CS112<>\"\",INDEX($C$2:$C$502,CS112),\"\")","v":""},{"$f":"IF(AND($A2<=n,CW$111<=flips),INT(501*RAND()+1),\"\")","v":""},{"$f":"IF(CV112<>\"\",INDEX($B$2:$B$502,CV112),\"\")","v":""},{"$f":"IF(CV112<>\"\",INDEX($C$2:$C$502,CV112),\"\")","v":""},{"$f":"IF(AND($A2<=n,CZ$111<=flips),INT(501*RAND()+1),\"\")","v":""},{"$f":"IF(CY112<>\"\",INDEX($B$2:$B$502,CY112),\"\")","v":""},{"$f":"IF(CY112<>\"\",INDEX($C$2:$C$502,CY112),\"\")","v":""},{"$f":"IF(AND($A2<=n,DC$111<=flips),INT(501*RAND()+1),\"\")","v":""},{"$f":"IF(DB112<>\"\",INDEX($B$2:$B$502,DB112),\"\")","v":""},{"$f":"IF(DB112<>\"\",INDEX($C$2:$C$502,DB112),\"\")","v":""},{"$f":"IF(AND($A2<=n,DF$111<=flips),INT(501*RAND()+1),\"\")","v":""},{"$f":"IF(DE112<>\"\",INDEX($B$2:$B$502,DE112),\"\")","v":""},{"$f":"IF(DE112<>\"\",INDEX($C$2:$C$502,DE112),\"\")","v":""},{"$f":"IF(AND($A2<=n,DI$111<=flips),INT(501*RAND()+1),\"\")","v":""},{"$f":"IF(DH112<>\"\",INDEX($B$2:$B$502,DH112),\"\")","v":""},{"$f":"IF(DH112<>\"\",INDEX($C$2:$C$502,DH112),\"\")","v":""},{"$f":"IF(AND($A2<=n,DL$111<=flips),INT(501*RAND()+1),\"\")","v":""},{"$f":"IF(DK112<>\"\",INDEX($B$2:$B$502,DK112),\"\")","v":""},{"$f":"IF(DK112<>\"\",INDEX($C$2:$C$502,DK112),\"\")","v":""},{"$f":"IF(AND($A2<=n,DO$111<=flips),INT(501*RAND()+1),\"\")","v":""},{"$f":"IF(DN112<>\"\",INDEX($B$2:$B$502,DN112),\"\")","v":""},{"$f":"IF(DN112<>\"\",INDEX($C$2:$C$502,DN112),\"\")","v":""},{"$f":"IF(AND($A2<=n,DR$111<=flips),INT(501*RAND()+1),\"\")","v":""},{"$f":"IF(DQ112<>\"\",INDEX($B$2:$B$502,DQ112),\"\")","v":""},{"$f":"IF(DQ112<>\"\",INDEX($C$2:$C$502,DQ112),\"\")","v":""},{"$f":"IF(AND($A2<=n,DU$111<=flips),INT(501*RAND()+1),\"\")","v":""},{"$f":"IF(DT112<>\"\",INDEX($B$2:$B$502,DT112),\"\")","v":""},{"$f":"IF(DT112<>\"\",INDEX($C$2:$C$502,DT112),\"\")","v":""},{"$f":"IF(AND($A2<=n,DX$111<=flips),INT(501*RAND()+1),\"\")","v":""},{"$f":"IF(DW112<>\"\",INDEX($B$2:$B$502,DW112),\"\")","v":""},{"$f":"IF(DW112<>\"\",INDEX($C$2:$C$502,DW112),\"\")","v":""},{"$f":"IF(AND($A2<=n,EA$111<=flips),INT(501*RAND()+1),\"\")","v":""},{"$f":"IF(DZ112<>\"\",INDEX($B$2:$B$502,DZ112),\"\")","v":""},{"$f":"IF(DZ112<>\"\",INDEX($C$2:$C$502,DZ112),\"\")","v":""},{"$f":"IF(AND($A2<=n,ED$111<=flips),INT(501*RAND()+1),\"\")","v":""},{"$f":"IF(EC112<>\"\",INDEX($B$2:$B$502,EC112),\"\")","v":""},{"$f":"IF(EC112<>\"\",INDEX($C$2:$C$502,EC112),\"\")","v":""},{"$f":"IF(AND($A2<=n,EG$111<=flips),INT(501*RAND()+1),\"\")","v":""},{"$f":"IF(EF112<>\"\",INDEX($B$2:$B$502,EF112),\"\")","v":""},{"$f":"IF(EF112<>\"\",INDEX($C$2:$C$502,EF112),\"\")","v":""},{"$f":"IF(AND($A2<=n,EJ$111<=flips),INT(501*RAND()+1),\"\")","v":""},{"$f":"IF(EI112<>\"\",INDEX($B$2:$B$502,EI112),\"\")","v":""},{"$f":"IF(EI112<>\"\",INDEX($C$2:$C$502,EI112),\"\")","v":""},{"$f":"IF(AND($A2<=n,EM$111<=flips),INT(501*RAND()+1),\"\")","v":""},{"$f":"IF(EL112<>\"\",INDEX($B$2:$B$502,EL112),\"\")","v":""},{"$f":"IF(EL112<>\"\",INDEX($C$2:$C$502,EL112),\"\")","v":""},{"$f":"IF(AND($A2<=n,EP$111<=flips),INT(501*RAND()+1),\"\")","v":""},{"$f":"IF(EO112<>\"\",INDEX($B$2:$B$502,EO112),\"\")","v":""},{"$f":"IF(EO112<>\"\",INDEX($C$2:$C$502,EO112),\"\")","v":""},{"$f":"IF(AND($A2<=n,ES$111<=flips),INT(501*RAND()+1),\"\")","v":""},{"$f":"IF(ER112<>\"\",INDEX($B$2:$B$502,ER112),\"\")","v":""},{"$f":"IF(ER112<>\"\",INDEX($C$2:$C$502,ER112),\"\")","v":""},{"$f":"IF(AND($A2<=n,EV$111<=flips),INT(501*RAND()+1),\"\")","v":""},{"$f":"IF(EU112<>\"\",INDEX($B$2:$B$502,EU112),\"\")","v":""},{"$f":"IF(EU112<>\"\",INDEX($C$2:$C$502,EU112),\"\")","v":""},{"$f":"IF(AND($A2<=n,EY$111<=flips),INT(501*RAND()+1),\"\")","v":""},{"$f":"IF(EX112<>\"\",INDEX($B$2:$B$502,EX112),\"\")","v":""},{"$f":"IF(EX112<>\"\",INDEX($C$2:$C$502,EX112),\"\")","v":""},{"$f":"IF(AND($A2<=n,FB$111<=flips),INT(501*RAND()+1),\"\")","v":""},{"$f":"IF(FA112<>\"\",INDEX($B$2:$B$502,FA112),\"\")","v":""},{"$f":"IF(FA112<>\"\",INDEX($C$2:$C$502,FA112),\"\")","v":""},{"$f":"IF(AND($A2<=n,FE$111<=flips),INT(501*RAND()+1),\"\")","v":""},{"$f":"IF(FD112<>\"\",INDEX($B$2:$B$502,FD112),\"\")","v":""},{"$f":"IF(FD112<>\"\",INDEX($C$2:$C$502,FD112),\"\")","v":""},{"$f":"IF(AND($A2<=n,FH$111<=flips),INT(501*RAND()+1),\"\")","v":""},{"$f":"IF(FG112<>\"\",INDEX($B$2:$B$502,FG112),\"\")","v":""},{"$f":"IF(FG112<>\"\",INDEX($C$2:$C$502,FG112),\"\")","v":""},{"$f":"IF(AND($A2<=n,FK$111<=flips),INT(501*RAND()+1),\"\")","v":""},{"$f":"IF(FJ112<>\"\",INDEX($B$2:$B$502,FJ112),\"\")","v":""},{"$f":"IF(FJ112<>\"\",INDEX($C$2:$C$502,FJ112),\"\")","v":""},{"$f":"IF(AND($A2<=n,FN$111<=flips),INT(501*RAND()+1),\"\")","v":""},{"$f":"IF(FM112<>\"\",INDEX($B$2:$B$502,FM112),\"\")","v":""},{"$f":"IF(FM112<>\"\",INDEX($C$2:$C$502,FM112),\"\")","v":""},{"$f":"IF(AND($A2<=n,FQ$111<=flips),INT(501*RAND()+1),\"\")","v":""},{"$f":"IF(FP112<>\"\",INDEX($B$2:$B$502,FP112),\"\")","v":""},{"$f":"IF(FP112<>\"\",INDEX($C$2:$C$502,FP112),\"\")","v":""},{"$f":"IF(AND($A2<=n,FT$111<=flips),INT(501*RAND()+1),\"\")","v":""},{"$f":"IF(FS112<>\"\",INDEX($B$2:$B$502,FS112),\"\")","v":""},{"$f":"IF(FS112<>\"\",INDEX($C$2:$C$502,FS112),\"\")","v":""},{"$f":"IF(AND($A2<=n,FW$111<=flips),INT(501*RAND()+1),\"\")","v":""},{"$f":"IF(FV112<>\"\",INDEX($B$2:$B$502,FV112),\"\")","v":""},{"$f":"IF(FV112<>\"\",INDEX($C$2:$C$502,FV112),\"\")","v":""},{"$f":"IF(AND($A2<=n,FZ$111<=flips),INT(501*RAND()+1),\"\")","v":""},{"$f":"IF(FY112<>\"\",INDEX($B$2:$B$502,FY112),\"\")","v":""},{"$f":"IF(FY112<>\"\",INDEX($C$2:$C$502,FY112),\"\")","v":""},{"$f":"IF(AND($A2<=n,GC$111<=flips),INT(501*RAND()+1),\"\")","v":""},{"$f":"IF(GB112<>\"\",INDEX($B$2:$B$502,GB112),\"\")","v":""},{"$f":"IF(GB112<>\"\",INDEX($C$2:$C$502,GB112),\"\")","v":""},{"$f":"IF(AND($A2<=n,GF$111<=flips),INT(501*RAND()+1),\"\")","v":""},{"$f":"IF(GE112<>\"\",INDEX($B$2:$B$502,GE112),\"\")","v":""},{"$f":"IF(GE112<>\"\",INDEX($C$2:$C$502,GE112),\"\")","v":""},{"$f":"IF(AND($A2<=n,GI$111<=flips),INT(501*RAND()+1),\"\")","v":""},{"$f":"IF(GH112<>\"\",INDEX($B$2:$B$502,GH112),\"\")","v":""},{"$f":"IF(GH112<>\"\",INDEX($C$2:$C$502,GH112),\"\")","v":""},{"$f":"IF(AND($A2<=n,GL$111<=flips),INT(501*RAND()+1),\"\")","v":""},{"$f":"IF(GK112<>\"\",INDEX($B$2:$B$502,GK112),\"\")","v":""},{"$f":"IF(GK112<>\"\",INDEX($C$2:$C$502,GK112),\"\")","v":""},{"$f":"IF(AND($A2<=n,GO$111<=flips),INT(501*RAND()+1),\"\")","v":""},{"$f":"IF(GN112<>\"\",INDEX($B$2:$B$502,GN112),\"\")","v":""},{"$f":"IF(GN112<>\"\",INDEX($C$2:$C$502,GN112),\"\")","v":""},{"$f":"IF(AND($A2<=n,GR$111<=flips),INT(501*RAND()+1),\"\")","v":""},{"$f":"IF(GQ112<>\"\",INDEX($B$2:$B$502,GQ112),\"\")","v":""},{"$f":"IF(GQ112<>\"\",INDEX($C$2:$C$502,GQ112),\"\")","v":""},{"$f":"IF(AND($A2<=n,GU$111<=flips),INT(501*RAND()+1),\"\")","v":""},{"$f":"IF(GT112<>\"\",INDEX($B$2:$B$502,GT112),\"\")","v":""},{"$f":"IF(GT112<>\"\",INDEX($C$2:$C$502,GT112),\"\")","v":""},{"$f":"IF(AND($A2<=n,GX$111<=flips),INT(501*RAND()+1),\"\")","v":""},{"$f":"IF(GW112<>\"\",INDEX($B$2:$B$502,GW112),\"\")","v":""},{"$f":"IF(GW112<>\"\",INDEX($C$2:$C$502,GW112),\"\")","v":""},{"$f":"IF(AND($A2<=n,HA$111<=flips),INT(501*RAND()+1),\"\")","v":""},{"$f":"IF(GZ112<>\"\",INDEX($B$2:$B$502,GZ112),\"\")","v":""},{"$f":"IF(GZ112<>\"\",INDEX($C$2:$C$502,GZ112),\"\")","v":""},{"$f":"IF(AND($A2<=n,HD$111<=flips),INT(501*RAND()+1),\"\")","v":""},{"$f":"IF(HC112<>\"\",INDEX($B$2:$B$502,HC112),\"\")","v":""},{"$f":"IF(HC112<>\"\",INDEX($C$2:$C$502,HC112),\"\")","v":""},{"$f":"IF(AND($A2<=n,HG$111<=flips),INT(501*RAND()+1),\"\")","v":""},{"$f":"IF(HF112<>\"\",INDEX($B$2:$B$502,HF112),\"\")","v":""},{"$f":"IF(HF112<>\"\",INDEX($C$2:$C$502,HF112),\"\")","v":""},{"$f":"IF(AND($A2<=n,HJ$111<=flips),INT(501*RAND()+1),\"\")","v":""},{"$f":"IF(HI112<>\"\",INDEX($B$2:$B$502,HI112),\"\")","v":""},{"$f":"IF(HI112<>\"\",INDEX($C$2:$C$502,HI112),\"\")","v":""},{"$f":"IF(AND($A2<=n,HM$111<=flips),INT(501*RAND()+1),\"\")","v":""},{"$f":"IF(HL112<>\"\",INDEX($B$2:$B$502,HL112),\"\")","v":""},{"$f":"IF(HL112<>\"\",INDEX($C$2:$C$502,HL112),\"\")","v":""},{"$f":"IF(AND($A2<=n,HP$111<=flips),INT(501*RAND()+1),\"\")","v":""},{"$f":"IF(HO112<>\"\",INDEX($B$2:$B$502,HO112),\"\")","v":""},{"$f":"IF(HO112<>\"\",INDEX($C$2:$C$502,HO112),\"\")","v":""},{"$f":"IF(AND($A2<=n,HS$111<=flips),INT(501*RAND()+1),\"\")","v":""},{"$f":"IF(HR112<>\"\",INDEX($B$2:$B$502,HR112),\"\")","v":""},{"$f":"IF(HR112<>\"\",INDEX($C$2:$C$502,HR112),\"\")","v":""},{"$f":"IF(AND($A2<=n,HV$111<=flips),INT(501*RAND()+1),\"\")","v":""},{"$f":"IF(HU112<>\"\",INDEX($B$2:$B$502,HU112),\"\")","v":""},{"$f":"IF(HU112<>\"\",INDEX($C$2:$C$502,HU112),\"\")","v":""},{"$f":"IF(AND($A2<=n,HY$111<=flips),INT(501*RAND()+1),\"\")","v":""},{"$f":"IF(HX112<>\"\",INDEX($B$2:$B$502,HX112),\"\")","v":""},{"$f":"IF(HX112<>\"\",INDEX($C$2:$C$502,HX112),\"\")","v":""},{"$f":"IF(AND($A2<=n,IB$111<=flips),INT(501*RAND()+1),\"\")","v":""},{"$f":"IF(IA112<>\"\",INDEX($B$2:$B$502,IA112),\"\")","v":""},{"$f":"IF(IA112<>\"\",INDEX($C$2:$C$502,IA112),\"\")","v":""},{"$f":"IF(AND($A2<=n,IE$111<=flips),INT(501*RAND()+1),\"\")","v":""},{"$f":"IF(ID112<>\"\",INDEX($B$2:$B$502,ID112),\"\")","v":""},{"$f":"IF(ID112<>\"\",INDEX($C$2:$C$502,ID112),\"\")","v":""},{"$f":"IF(AND($A2<=n,IH$111<=flips),INT(501*RAND()+1),\"\")","v":""},{"$f":"IF(IG112<>\"\",INDEX($B$2:$B$502,IG112),\"\")","v":""},{"$f":"IF(IG112<>\"\",INDEX($C$2:$C$502,IG112),\"\")","v":""},{"$f":"IF(AND($A2<=n,IK$111<=flips),INT(501*RAND()+1),\"\")","v":""},{"$f":"IF(IJ112<>\"\",INDEX($B$2:$B$502,IJ112),\"\")","v":""},{"$f":"IF(IJ112<>\"\",INDEX($C$2:$C$502,IJ112),\"\")","v":""},{"$f":"IF(AND($A2<=n,IN$111<=flips),INT(501*RAND()+1),\"\")","v":""},{"$f":"IF(IM112<>\"\",INDEX($B$2:$B$502,IM112),\"\")","v":""},{"$f":"IF(IM112<>\"\",INDEX($C$2:$C$502,IM112),\"\")","v":""},null,null,null,null,null,null,{"$f":"CE$109","v":0.95440691639120967}]
[112,4.3293947390416765,5.4820662630587123,"",{"$f":"IF(D113<>\"\",INDEX($B$2:$B$502,D113),\"\")","v":""},{"$f":"IF(D113<>\"\",INDEX($C$2:$C$502,D113),\"\")","v":""},"","","","","","","","","","","","","","","","","","","","","","","","","","","","","","","","","","","","","","","","","","","","","","","","","","","","","","","","","","","","","","","","","","","","","","","","","","","","","","","","","","","","","","","","","","","","","","","","","","","","","","","","","","","","","","","","","","","","","","","","","","","","","","","","","","","","","","","","","","","","","","","","","","","","","","","","","","","","","","","","","","","","","","","","","","","","","","","","","","","","","","","","","","","","","","","","","","","","","","","","","","","","","","","","","","","","","","","","","","","","","","","","","","","","","","","","","","","","","","","","","","","",null,null,null,null,null,null,{"$f":"CH$109","v":0.96092375901387417}]
[113,9.488624038798692,13.332107472922251,"","","","","","","","","","","","","","","","","","","","","","","","","","","","","","","","","","","","","","","","","","","","","","","","","","","","","","","","","","","","","","","","","","","","","","","","","","","","","","","","","","","","","","","","","","","","","","","","","","","","","","","","","","","","","","","","","","","","","","","","","","","","","","","","","","","","","","","","","","","","","","","","","","","","","","","","","","","","","","","","","","","","","","","","","","","","","","","","","","","","","","","","","","","","","","","","","","","","","","","","","","","","","","","","","","","","","","","","","","","","","","","","","","","","","","","","","","","","","","","","","","","","","","",null,null,null,null,null,null,{"$f":"CK$109","v":0.93249097713912477}]
[114,1.252853786427286,1.0100640028655623,"","","","","","","","","","","","","","","","","","","","","","","","","","","","","","","","","","","","","","","","","","","","","","","","","","","","","","","","","","","","","","","","","","","","","","","","","","","","","","","","","","","","","","","","","","","","","","","","","","","","","","","","","","","","","","","","","","","","","","","","","","","","","","","","","","","","","","","","","","","","","","","","","","","","","","","","","","","","","","","","","","","","","","","","","","","","","","","","","","","","","","","","","","","","","","","","","","","","","","","","","","","","","","","","","","","","","","","","","","","","","","","","","","","","","","","","","","","","","","","","","","","","","","",null,null,null,null,null,null,{"$f":"CN$109","v":0.93683354753194747}]
[115,5.7921047390135083,6.9372239234158073,"","","","","","","","","","","","","","","","","","","","","","","","","","","","","","","","","","","","","","","","","","","","","","","","","","","","","","","","","","","","","","","","","","","","","","","","","","","","","","","","","","","","","","","","","","","","","","","","","","","","","","","","","","","","","","","","","","","","","","","","","","","","","","","","","","","","","","","","","","","","","","","","","","","","","","","","","","","","","","","","","","","","","","","","","","","","","","","","","","","","","","","","","","","","","","","","","","","","","","","","","","","","","","","","","","","","","","","","","","","","","","","","","","","","","","","","","","","","","","","","","","","","","","",null,null,null,null,null,null,{"$f":"CQ$109","v":0.91343389990591772}]
[116,5.3250493749477474,11.2900628245365,"","","","","","","","","","","","","","","","","","","","","","","","","","","","","","","","","","","","","","","","","","","","","","","","","","","","","","","","","","","","","","","","","","","","","","","","","","","","","","","","","","","","","","","","","","","","","","","","","","","","","","","","","","","","","","","","","","","","","","","","","","","","","","","","","","","","","","","","","","","","","","","","","","","","","","","","","","","","","","","","","","","","","","","","","","","","","","","","","","","","","","","","","","","","","","","","","","","","","","","","","","","","","","","","","","","","","","","","","","","","","","","","","","","","","","","","","","","","","","","","","","","","","","",null,null,null,null,null,null,{"$f":"CT$109","v":0.91516154361121249}]
[117,1.6340339228916534,3.020722199310383,"","","","","","","","","","","","","","","","","","","","","","","","","","","","","","","","","","","","","","","","","","","","","","","","","","","","","","","","","","","","","","","","","","","","","","","","","","","","","","","","","","","","","","","","","","","","","","","","","","","","","","","","","","","","","","","","","","","","","","","","","","","","","","","","","","","","","","","","","","","","","","","","","","","","","","","","","","","","","","","","","","","","","","","","","","","","","","","","","","","","","","","","","","","","","","","","","","","","","","","","","","","","","","","","","","","","","","","","","","","","","","","","","","","","","","","","","","","","","","","","","","","","","","",null,null,null,null,null,null,{"$f":"CW$109","v":0.94980999788996034}]
[118,7.9459313192243197,12.866085688882031,"","","","","","","","","","","","","","","","","","","","","","","","","","","","","","","","","","","","","","","","","","","","","","","","","","","","","","","","","","","","","","","","","","","","","","","","","","","","","","","","","","","","","","","","","","","","","","","","","","","","","","","","","","","","","","","","","","","","","","","","","","","","","","","","","","","","","","","","","","","","","","","","","","","","","","","","","","","","","","","","","","","","","","","","","","","","","","","","","","","","","","","","","","","","","","","","","","","","","","","","","","","","","","","","","","","","","","","","","","","","","","","","","","","","","","","","","","","","","","","","","","","","","","",null,null,null,null,null,null,{"$f":"CZ$109","v":0.96156747514310859}]
[119,4.1661267499970478,7.4375455053121549,"","","","","","","","","","","","","","","","","","","","","","","","","","","","","","","","","","","","","","","","","","","","","","","","","","","","","","","","","","","","","","","","","","","","","","","","","","","","","","","","","","","","","","","","","","","","","","","","","","","","","","","","","","","","","","","","","","","","","","","","","","","","","","","","","","","","","","","","","","","","","","","","","","","","","","","","","","","","","","","","","","","","","","","","","","","","","","","","","","","","","","","","","","","","","","","","","","","","","","","","","","","","","","","","","","","","","","","","","","","","","","","","","","","","","","","","","","","","","","","","","","","","","","",null,null,null,null,null,null,{"$f":"DC$109","v":0.9224142495286306}]
[120,0.35354353741588795,-1.0731643416126662,"","","","","","","","","","","","","","","","","","","","","","","","","","","","","","","","","","","","","","","","","","","","","","","","","","","","","","","","","","","","","","","","","","","","","","","","","","","","","","","","","","","","","","","","","","","","","","","","","","","","","","","","","","","","","","","","","","","","","","","","","","","","","","","","","","","","","","","","","","","","","","","","","","","","","","","","","","","","","","","","","","","","","","","","","","","","","","","","","","","","","","","","","","","","","","","","","","","","","","","","","","","","","","","","","","","","","","","","","","","","","","","","","","","","","","","","","","","","","","","","","","","","","","",null,null,null,null,null,null,{"$f":"DF$109","v":0.91114621623297865}]
[121,4.2728411131601867,5.2206182647121677,"","","","","","","","","","","","","","","","","","","","","","","","","","","","","","","","","","","","","","","","","","","","","","","","","","","","","","","","","","","","","","","","","","","","","","","","","","","","","","","","","","","","","","","","","","","","","","","","","","","","","","","","","","","","","","","","","","","","","","","","","","","","","","","","","","","","","","","","","","","","","","","","","","","","","","","","","","","","","","","","","","","","","","","","","","","","","","","","","","","","","","","","","","","","","","","","","","","","","","","","","","","","","","","","","","","","","","","","","","","","","","","","","","","","","","","","","","","","","","","","","","","","","","",null,null,null,null,null,null,{"$f":"DI$109","v":0.93885381741145957}]
[122,7.182313270619229,9.864613996322797,"","","","","","","","","","","","","","","","","","","","","","","","","","","","","","","","","","","","","","","","","","","","","","","","","","","","","","","","","","","","","","","","","","","","","","","","","","","","","","","","","","","","","","","","","","","","","","","","","","","","","","","","","","","","","","","","","","","","","","","","","","","","","","","","","","","","","","","","","","","","","","","","","","","","","","","","","","","","","","","","","","","","","","","","","","","","","","","","","","","","","","","","","","","","","","","","","","","","","","","","","","","","","","","","","","","","","","","","","","","","","","","","","","","","","","","","","","","","","","","","","","","","","","",null,null,null,null,null,null,{"$f":"DL$109","v":0.92474310281012784}]
[123,8.3553786900085214,12.244021405653474,"","","","","","","","","","","","","","","","","","","","","","","","","","","","","","","","","","","","","","","","","","","","","","","","","","","","","","","","","","","","","","","","","","","","","","","","","","","","","","","","","","","","","","","","","","","","","","","","","","","","","","","","","","","","","","","","","","","","","","","","","","","","","","","","","","","","","","","","","","","","","","","","","","","","","","","","","","","","","","","","","","","","","","","","","","","","","","","","","","","","","","","","","","","","","","","","","","","","","","","","","","","","","","","","","","","","","","","","","","","","","","","","","","","","","","","","","","","","","","","","","","","","","","",null,null,null,null,null,null,{"$f":"DO$109","v":0.94416503988940459}]
[124,9.5943776524206328,14.973745581355651,"","","","","","","","","","","","","","","","","","","","","","","","","","","","","","","","","","","","","","","","","","","","","","","","","","","","","","","","","","","","","","","","","","","","","","","","","","","","","","","","","","","","","","","","","","","","","","","","","","","","","","","","","","","","","","","","","","","","","","","","","","","","","","","","","","","","","","","","","","","","","","","","","","","","","","","","","","","","","","","","","","","","","","","","","","","","","","","","","","","","","","","","","","","","","","","","","","","","","","","","","","","","","","","","","","","","","","","","","","","","","","","","","","","","","","","","","","","","","","","","","","","","","","",null,null,null,null,null,null,{"$f":"DR$109","v":0.93208322030717827}]
[125,2.4221504716819453,2.1387712771999832,"","","","","","","","","","","","","","","","","","","","","","","","","","","","","","","","","","","","","","","","","","","","","","","","","","","","","","","","","","","","","","","","","","","","","","","","","","","","","","","","","","","","","","","","","","","","","","","","","","","","","","","","","","","","","","","","","","","","","","","","","","","","","","","","","","","","","","","","","","","","","","","","","","","","","","","","","","","","","","","","","","","","","","","","","","","","","","","","","","","","","","","","","","","","","","","","","","","","","","","","","","","","","","","","","","","","","","","","","","","","","","","","","","","","","","","","","","","","","","","","","","","","","","",null,null,null,null,null,null,{"$f":"DU$109","v":0.87824938869842528}]
[126,8.8349732676527726,11.917701081681987,"","","","","","","","","","","","","","","","","","","","","","","","","","","","","","","","","","","","","","","","","","","","","","","","","","","","","","","","","","","","","","","","","","","","","","","","","","","","","","","","","","","","","","","","","","","","","","","","","","","","","","","","","","","","","","","","","","","","","","","","","","","","","","","","","","","","","","","","","","","","","","","","","","","","","","","","","","","","","","","","","","","","","","","","","","","","","","","","","","","","","","","","","","","","","","","","","","","","","","","","","","","","","","","","","","","","","","","","","","","","","","","","","","","","","","","","","","","","","","","","","","","","","","",null,null,null,null,null,null,{"$f":"DX$109","v":0.92038568163176238}]
[127,6.3462433024678511,11.0887658263538,"","","","","",{"$f":"IF(G128<>\"\",INDEX($C$2:$C$502,G128),\"\")","v":""},"","",{"$f":"IF(J128<>\"\",INDEX($C$2:$C$502,J128),\"\")","v":""},"","",{"$f":"IF(M128<>\"\",INDEX($C$2:$C$502,M128),\"\")","v":""},"","",{"$f":"IF(P128<>\"\",INDEX($C$2:$C$502,P128),\"\")","v":""},"","",{"$f":"IF(S128<>\"\",INDEX($C$2:$C$502,S128),\"\")","v":""},"","",{"$f":"IF(V128<>\"\",INDEX($C$2:$C$502,V128),\"\")","v":""},"","",{"$f":"IF(Y128<>\"\",INDEX($C$2:$C$502,Y128),\"\")","v":""},"","",{"$f":"IF(AB128<>\"\",INDEX($C$2:$C$502,AB128),\"\")","v":""},"","",{"$f":"IF(AE128<>\"\",INDEX($C$2:$C$502,AE128),\"\")","v":""},"","",{"$f":"IF(AH128<>\"\",INDEX($C$2:$C$502,AH128),\"\")","v":""},"","",{"$f":"IF(AK128<>\"\",INDEX($C$2:$C$502,AK128),\"\")","v":""},"","",{"$f":"IF(AN128<>\"\",INDEX($C$2:$C$502,AN128),\"\")","v":""},"","",{"$f":"IF(AQ128<>\"\",INDEX($C$2:$C$502,AQ128),\"\")","v":""},"","",{"$f":"IF(AT128<>\"\",INDEX($C$2:$C$502,AT128),\"\")","v":""},"","",{"$f":"IF(AW128<>\"\",INDEX($C$2:$C$502,AW128),\"\")","v":""},"","",{"$f":"IF(AZ128<>\"\",INDEX($C$2:$C$502,AZ128),\"\")","v":""},"","",{"$f":"IF(BC128<>\"\",INDEX($C$2:$C$502,BC128),\"\")","v":""},"","",{"$f":"IF(BF128<>\"\",INDEX($C$2:$C$502,BF128),\"\")","v":""},"","",{"$f":"IF(BI128<>\"\",INDEX($C$2:$C$502,BI128),\"\")","v":""},"","",{"$f":"IF(BL128<>\"\",INDEX($C$2:$C$502,BL128),\"\")","v":""},"","",{"$f":"IF(BO128<>\"\",INDEX($C$2:$C$502,BO128),\"\")","v":""},"","",{"$f":"IF(BR128<>\"\",INDEX($C$2:$C$502,BR128),\"\")","v":""},"","",{"$f":"IF(BU128<>\"\",INDEX($C$2:$C$502,BU128),\"\")","v":""},"","",{"$f":"IF(BX128<>\"\",INDEX($C$2:$C$502,BX128),\"\")","v":""},"","",{"$f":"IF(CA128<>\"\",INDEX($C$2:$C$502,CA128),\"\")","v":""},"","",{"$f":"IF(CD128<>\"\",INDEX($C$2:$C$502,CD128),\"\")","v":""},"","",{"$f":"IF(CG128<>\"\",INDEX($C$2:$C$502,CG128),\"\")","v":""},"","",{"$f":"IF(CJ128<>\"\",INDEX($C$2:$C$502,CJ128),\"\")","v":""},"","",{"$f":"IF(CM128<>\"\",INDEX($C$2:$C$502,CM128),\"\")","v":""},"","",{"$f":"IF(CP128<>\"\",INDEX($C$2:$C$502,CP128),\"\")","v":""},"","",{"$f":"IF(CS128<>\"\",INDEX($C$2:$C$502,CS128),\"\")","v":""},"","",{"$f":"IF(CV128<>\"\",INDEX($C$2:$C$502,CV128),\"\")","v":""},"","",{"$f":"IF(CY128<>\"\",INDEX($C$2:$C$502,CY128),\"\")","v":""},"","",{"$f":"IF(DB128<>\"\",INDEX($C$2:$C$502,DB128),\"\")","v":""},"","",{"$f":"IF(DE128<>\"\",INDEX($C$2:$C$502,DE128),\"\")","v":""},"","",{"$f":"IF(DH128<>\"\",INDEX($C$2:$C$502,DH128),\"\")","v":""},"","",{"$f":"IF(DK128<>\"\",INDEX($C$2:$C$502,DK128),\"\")","v":""},"","",{"$f":"IF(DN128<>\"\",INDEX($C$2:$C$502,DN128),\"\")","v":""},"","",{"$f":"IF(DQ128<>\"\",INDEX($C$2:$C$502,DQ128),\"\")","v":""},"","",{"$f":"IF(DT128<>\"\",INDEX($C$2:$C$502,DT128),\"\")","v":""},"","",{"$f":"IF(DW128<>\"\",INDEX($C$2:$C$502,DW128),\"\")","v":""},"","",{"$f":"IF(DZ128<>\"\",INDEX($C$2:$C$502,DZ128),\"\")","v":""},"","",{"$f":"IF(EC128<>\"\",INDEX($C$2:$C$502,EC128),\"\")","v":""},"","",{"$f":"IF(EF128<>\"\",INDEX($C$2:$C$502,EF128),\"\")","v":""},"","",{"$f":"IF(EI128<>\"\",INDEX($C$2:$C$502,EI128),\"\")","v":""},"","",{"$f":"IF(EL128<>\"\",INDEX($C$2:$C$502,EL128),\"\")","v":""},"","",{"$f":"IF(EO128<>\"\",INDEX($C$2:$C$502,EO128),\"\")","v":""},"","",{"$f":"IF(ER128<>\"\",INDEX($C$2:$C$502,ER128),\"\")","v":""},"","",{"$f":"IF(EU128<>\"\",INDEX($C$2:$C$502,EU128),\"\")","v":""},"","",{"$f":"IF(EX128<>\"\",INDEX($C$2:$C$502,EX128),\"\")","v":""},"","",{"$f":"IF(FA128<>\"\",INDEX($C$2:$C$502,FA128),\"\")","v":""},"","",{"$f":"IF(FD128<>\"\",INDEX($C$2:$C$502,FD128),\"\")","v":""},"","",{"$f":"IF(FG128<>\"\",INDEX($C$2:$C$502,FG128),\"\")","v":""},"","",{"$f":"IF(FJ128<>\"\",INDEX($C$2:$C$502,FJ128),\"\")","v":""},"","",{"$f":"IF(FM128<>\"\",INDEX($C$2:$C$502,FM128),\"\")","v":""},"","",{"$f":"IF(FP128<>\"\",INDEX($C$2:$C$502,FP128),\"\")","v":""},"","",{"$f":"IF(FS128<>\"\",INDEX($C$2:$C$502,FS128),\"\")","v":""},"","",{"$f":"IF(FV128<>\"\",INDEX($C$2:$C$502,FV128),\"\")","v":""},"","",{"$f":"IF(FY128<>\"\",INDEX($C$2:$C$502,FY128),\"\")","v":""},"","",{"$f":"IF(GB128<>\"\",INDEX($C$2:$C$502,GB128),\"\")","v":""},"","",{"$f":"IF(GE128<>\"\",INDEX($C$2:$C$502,GE128),\"\")","v":""},"","",{"$f":"IF(GH128<>\"\",INDEX($C$2:$C$502,GH128),\"\")","v":""},"","",{"$f":"IF(GK128<>\"\",INDEX($C$2:$C$502,GK128),\"\")","v":""},"","",{"$f":"IF(GN128<>\"\",INDEX($C$2:$C$502,GN128),\"\")","v":""},"","",{"$f":"IF(GQ128<>\"\",INDEX($C$2:$C$502,GQ128),\"\")","v":""},"","",{"$f":"IF(GT128<>\"\",INDEX($C$2:$C$502,GT128),\"\")","v":""},"","",{"$f":"IF(GW128<>\"\",INDEX($C$2:$C$502,GW128),\"\")","v":""},"","",{"$f":"IF(GZ128<>\"\",INDEX($C$2:$C$502,GZ128),\"\")","v":""},"","",{"$f":"IF(HC128<>\"\",INDEX($C$2:$C$502,HC128),\"\")","v":""},"","",{"$f":"IF(HF128<>\"\",INDEX($C$2:$C$502,HF128),\"\")","v":""},"","",{"$f":"IF(HI128<>\"\",INDEX($C$2:$C$502,HI128),\"\")","v":""},"","",{"$f":"IF(HL128<>\"\",INDEX($C$2:$C$502,HL128),\"\")","v":""},"","",{"$f":"IF(HO128<>\"\",INDEX($C$2:$C$502,HO128),\"\")","v":""},"","",{"$f":"IF(HR128<>\"\",INDEX($C$2:$C$502,HR128),\"\")","v":""},"","",{"$f":"IF(HU128<>\"\",INDEX($C$2:$C$502,HU128),\"\")","v":""},"","",{"$f":"IF(HX128<>\"\",INDEX($C$2:$C$502,HX128),\"\")","v":""},"","",{"$f":"IF(IA128<>\"\",INDEX($C$2:$C$502,IA128),\"\")","v":""},"","",{"$f":"IF(ID128<>\"\",INDEX($C$2:$C$502,ID128),\"\")","v":""},"","",{"$f":"IF(IG128<>\"\",INDEX($C$2:$C$502,IG128),\"\")","v":""},"","",{"$f":"IF(IJ128<>\"\",INDEX($C$2:$C$502,IJ128),\"\")","v":""},"","",{"$f":"IF(IM128<>\"\",INDEX($C$2:$C$502,IM128),\"\")","v":""},null,null,null,null,null,null,{"$f":"EA$109","v":0.92850200391026372}]
[128,9.1177701257784616,11.889390364798979,"","","","","","","","","","","","","","","","","","","","","","","","","","","","","","","","","","","","","","","","","","","","","","","","","","","","","","","","","","","","","","","","","","","","","","","","","","","","","","","","","","","","","","","","","","","","","","","","","","","","","","","","","","","","","","","","","","","","","","","","","","","","","","","","","","","","","","","","","","","","","","","","","","","","","","","","","","","","","","","","","","","","","","","","","","","","","","","","","","","","","","","","","","","","","","","","","","","","","","","","","","","","","","","","","","","","","","","","","","","","","","","","","","","","","","","","","","","","","","","","","","","","","","",null,null,null,null,null,null,{"$f":"ED$109","v":0.81318914625145677}]
[129,3.4021490602585969,7.3291441406926339,"","","","","","","","","","","","","","","","","","","","","","","","","","","","","","","","","","","","","","","","","","","","","","","","","","","","","","","","","","","","","","","","","","","","","","","","","","","","","","","","","","","","","","","","","","","","","","","","","","","","","","","","","","","","","","","","","","","","","","","","","","","","","","","","","","","","","","","","","","","","","","","","","","","","","","","","","","","","","","","","","","","","","","","","","","","","","","","","","","","","","","","","","","","","","","","","","","","","","","","","","","","","","","","","","","","","","","","","","","","","","","","","","","","","","","","","","","","","","","","","","","","","","","",null,null,null,null,null,null,{"$f":"EG$109","v":0.87840013863733024}]
[130,5.0060367960099228,5.9533080785299743,"","","","","","","","","","","","","","","","","","","","","","","","","","","","","","","","","","","","","","","","","","","","","","","","","","","","","","","","","","","","","","","","","","","","","","","","","","","","","","","","","","","","","","","","","","","","","","","","","","","","","","","","","","","","","","","","","","","","","","","","","","","","","","","","","","","","","","","","","","","","","","","","","","","","","","","","","","","","","","","","","","","","","","","","","","","","","","","","","","","","","","","","","","","","","","","","","","","","","","","","","","","","","","","","","","","","","","","","","","","","","","","","","","","","","","","","","","","","","","","","","","","","","","",null,null,null,null,null,null,{"$f":"EJ$109","v":0.95511641638035616}]
[131,6.8864912989983518,9.410603282295412,"","","","","","","","","","","","","","","","","","","","","","","","","","","","","","","","","","","","","","","","","","","","","","","","","","","","","","","","","","","","","","","","","","","","","","","","","","","","","","","","","","","","","","","","","","","","","","","","","","","","","","","","","","","","","","","","","","","","","","","","","","","","","","","","","","","","","","","","","","","","","","","","","","","","","","","","","","","","","","","","","","","","","","","","","","","","","","","","","","","","","","","","","","","","","","","","","","","","","","","","","","","","","","","","","","","","","","","","","","","","","","","","","","","","","","","","","","","","","","","","","","","","","","",null,null,null,null,null,null,{"$f":"EM$109","v":0.96820844978331855}]
[132,2.3657539173435982,1.9008836040513479,"","","","","","","","","","","","","","","","","","","","","","","","","","","","","","","","","","","","","","","","","","","","","","","","","","","","","","","","","","","","","","","","","","","","","","","","","","","","","","","","","","","","","","","","","","","","","","","","","","","","","","","","","","","","","","","","","","","","","","","","","","","","","","","","","","","","","","","","","","","","","","","","","","","","","","","","","","","","","","","","","","","","","","","","","","","","","","","","","","","","","","","","","","","","","","","","","","","","","","","","","","","","","","","","","","","","","","","","","","","","","","","","","","","","","","","","","","","","","","","","","","","","","","",null,null,null,null,null,null,{"$f":"EP$109","v":0.93380648667907884}]
[133,2.6830196025925201,3.0389984183887524,"","","","","","","","","","","","","","","","","","","","","","","","","","","","","","","","","","","","","","","","","","","","","","","","","","","","","","","","","","","","","","","","","","","","","","","","","","","","","","","","","","","","","","","","","","","","","","","","","","","","","","","","","","","","","","","","","","","","","","","","","","","","","","","","","","","","","","","","","","","","","","","","","","","","","","","","","","","","","","","","","","","","","","","","","","","","","","","","","","","","","","","","","","","","","","","","","","","","","","","","","","","","","","","","","","","","","","","","","","","","","","","","","","","","","","","","","","","","","","","","","","","","","","",null,null,null,null,null,null,{"$f":"ES$109","v":0.95498454744321015}]
[134,9.1500914337672956,14.553313377781,"","","","","","","","","","","","","","","","","","","","","","","","","","","","","","","","","","","","","","","","","","","","","","","","","","","","","","","","","","","","","","","","","","","","","","","","","","","","","","","","","","","","","","","","","","","","","","","","","","","","","","","","","","","","","","","","","","","","","","","","","","","","","","","","","","","","","","","","","","","","","","","","","","","","","","","","","","","","","","","","","","","","","","","","","","","","","","","","","","","","","","","","","","","","","","","","","","","","","","","","","","","","","","","","","","","","","","","","","","","","","","","","","","","","","","","","","","","","","","","","","","","","","","",null,null,null,null,null,null,{"$f":"EV$109","v":0.95862656406817448}]
[135,1.1446641872815011,3.1697184174253565,"","","","","","","","","","","","","","","","","","","","","","","","","","","","","","","","","","","","","","","","","","","","","","","","","","","","","","","","","","","","","","","","","","","","","","","","","","","","","","","","","","","","","","","","","","","","","","","","","","","","","","","","","","","","","","","","","","","","","","","","","","","","","","","","","","","","","","","","","","","","","","","","","","","","","","","","","","","","","","","","","","","","","","","","","","","","","","","","","","","","","","","","","","","","","","","","","","","","","","","","","","","","","","","","","","","","","","","","","","","","","","","","","","","","","","","","","","","","","","","","","","","","","","",null,null,null,null,null,null,{"$f":"EY$109","v":0.90438367985689638}]
[136,1.8514183165426168,2.2694190174681865,"","","","","","","","","","","","","","","","","","","","","","","","","","","","","","","","","","","","","","","","","","","","","","","","","","","","","","","","","","","","","","","","","","","","","","","","","","","","","","","","","","","","","","","","","","","","","","","","","","","","","","","","","","","","","","","","","","","","","","","","","","","","","","","","","","","","","","","","","","","","","","","","","","","","","","","","","","","","","","","","","","","","","","","","","","","","","","","","","","","","","","","","","","","","","","","","","","","","","","","","","","","","","","","","","","","","","","","","","","","","","","","","","","","","","","","","","","","","","","","","","","","","","","",null,null,null,null,null,null,{"$f":"FB$109","v":0.88127701955924276}]
[137,8.8662054094358478,15.395163428346962,"","","","","","","","","","","","","","","","","","","","","","","","","","","","","","","","","","","","","","","","","","","","","","","","","","","","","","","","","","","","","","","","","","","","","","","","","","","","","","","","","","","","","","","","","","","","","","","","","","","","","","","","","","","","","","","","","","","","","","","","","","","","","","","","","","","","","","","","","","","","","","","","","","","","","","","","","","","","","","","","","","","","","","","","","","","","","","","","","","","","","","","","","","","","","","","","","","","","","","","","","","","","","","","","","","","","","","","","","","","","","","","","","","","","","","","","","","","","","","","","","","","","","","",null,null,null,null,null,null,{"$f":"FE$109","v":""}]
[138,7.2415678080261969,9.5755070649732623,"","","","","","","","","","","","","","","","","","","","","","","","","","","","","","","","","","","","","","","","","","","","","","","","","","","","","","","","","","","","","","","","","","","","","","","","","","","","","","","","","","","","","","","","","","","","","","","","","","","","","","","","","","","","","","","","","","","","","","","","","","","","","","","","","","","","","","","","","","","","","","","","","","","","","","","","","","","","","","","","","","","","","","","","","","","","","","","","","","","","","","","","","","","","","","","","","","","","","","","","","","","","","","","","","","","","","","","","","","","","","","","","","","","","","","","","","","","","","","","","","","","","","","",null,null,null,null,null,null,{"$f":"FH$109","v":""}]
[139,3.5467090203525475,8.8908244024619005,"","","","","","","","","","","","","","","","","","","","","","","","","","","","","","","","","","","","","","","","","","","","","","","","","","","","","","","","","","","","","","","","","","","","","","","","","","","","","","","","","","","","","","","","","","","","","","","","","","","","","","","","","","","","","","","","","","","","","","","","","","","","","","","","","","","","","","","","","","","","","","","","","","","","","","","","","","","","","","","","","","","","","","","","","","","","","","","","","","","","","","","","","","","","","","","","","","","","","","","","","","","","","","","","","","","","","","","","","","","","","","","","","","","","","","","","","","","","","","","","","","","","","","",null,null,null,null,null,null,{"$f":"FK$109","v":""}]
[140,0.76271523417664078,0.2338329209201615,"","","","","","","","","","","","","","","","","","","","","","","","","","","","","","","","","","","","","","","","","","","","","","","","","","","","","","","","","","","","","","","","","","","","","","","","","","","","","","","","","","","","","","","","","","","","","","","","","","","","","","","","","","","","","","","","","","","","","","","","","","","","","","","","","","","","","","","","","","","","","","","","","","","","","","","","","","","","","","","","","","","","","","","","","","","","","","","","","","","","","","","","","","","","","","","","","","","","","","","","","","","","","","","","","","","","","","","","","","","","","","","","","","","","","","","","","","","","","","","","","","","","","","",null,null,null,null,null,null,{"$f":"FN$109","v":""}]
[141,4.8005063115632574,5.6106886371162874,"","","","","","","","","","","","","","","","","","","","","","","","","","","","","","","","","","","","","","","","","","","","","","","","","","","","","","","","","","","","","","","","","","","","","","","","","","","","","","","","","","","","","","","","","","","","","","","","","","","","","","","","","","","","","","","","","","","","","","","","","","","","","","","","","","","","","","","","","","","","","","","","","","","","","","","","","","","","","","","","","","","","","","","","","","","","","","","","","","","","","","","","","","","","","","","","","","","","","","","","","","","","","","","","","","","","","","","","","","","","","","","","","","","","","","","","","","","","","","","","","","","","","","",null,null,null,null,null,null,{"$f":"FQ$109","v":""}]
[142,9.9112222145109907,14.010701314914378,"","","","","","","","","","","","","","","","","","","","","","","","","","","","","","","","","","","","","","","","","","","","","","","","","","","","","","","","","","","","","","","","","","","","","","","","","","","","","","","","","","","","","","","","","","","","","","","","","","","","","","","","","","","","","","","","","","","","","","","","","","","","","","","","","","","","","","","","","","","","","","","","","","","","","","","","","","","","","","","","","","","","","","","","","","","","","","","","","","","","","","","","","","","","","","","","","","","","","","","","","","","","","","","","","","","","","","","","","","","","","","","","","","","","","","","","","","","","","","","","","","","","","","",null,null,null,null,null,null,{"$f":"FT$109","v":""}]
[143,3.1298162215125824,4.0678245265709227,{"$f":"IF(AND($A34<=n,E$111<=flips),INT(501*RAND()+1),\"\")","v":""},"","",{"$f":"IF(AND($A34<=n,H$111<=flips),INT(501*RAND()+1),\"\")","v":""},{"$f":"IF(G144<>\"\",INDEX($B$2:$B$502,G144),\"\")","v":""},"",{"$f":"IF(AND($A34<=n,K$111<=flips),INT(501*RAND()+1),\"\")","v":""},{"$f":"IF(J144<>\"\",INDEX($B$2:$B$502,J144),\"\")","v":""},"",{"$f":"IF(AND($A34<=n,N$111<=flips),INT(501*RAND()+1),\"\")","v":""},{"$f":"IF(M144<>\"\",INDEX($B$2:$B$502,M144),\"\")","v":""},"",{"$f":"IF(AND($A34<=n,Q$111<=flips),INT(501*RAND()+1),\"\")","v":""},{"$f":"IF(P144<>\"\",INDEX($B$2:$B$502,P144),\"\")","v":""},"",{"$f":"IF(AND($A34<=n,T$111<=flips),INT(501*RAND()+1),\"\")","v":""},{"$f":"IF(S144<>\"\",INDEX($B$2:$B$502,S144),\"\")","v":""},"",{"$f":"IF(AND($A34<=n,W$111<=flips),INT(501*RAND()+1),\"\")","v":""},{"$f":"IF(V144<>\"\",INDEX($B$2:$B$502,V144),\"\")","v":""},"",{"$f":"IF(AND($A34<=n,Z$111<=flips),INT(501*RAND()+1),\"\")","v":""},{"$f":"IF(Y144<>\"\",INDEX($B$2:$B$502,Y144),\"\")","v":""},"",{"$f":"IF(AND($A34<=n,AC$111<=flips),INT(501*RAND()+1),\"\")","v":""},{"$f":"IF(AB144<>\"\",INDEX($B$2:$B$502,AB144),\"\")","v":""},"",{"$f":"IF(AND($A34<=n,AF$111<=flips),INT(501*RAND()+1),\"\")","v":""},{"$f":"IF(AE144<>\"\",INDEX($B$2:$B$502,AE144),\"\")","v":""},"",{"$f":"IF(AND($A34<=n,AI$111<=flips),INT(501*RAND()+1),\"\")","v":""},{"$f":"IF(AH144<>\"\",INDEX($B$2:$B$502,AH144),\"\")","v":""},"",{"$f":"IF(AND($A34<=n,AL$111<=flips),INT(501*RAND()+1),\"\")","v":""},{"$f":"IF(AK144<>\"\",INDEX($B$2:$B$502,AK144),\"\")","v":""},"",{"$f":"IF(AND($A34<=n,AO$111<=flips),INT(501*RAND()+1),\"\")","v":""},{"$f":"IF(AN144<>\"\",INDEX($B$2:$B$502,AN144),\"\")","v":""},"",{"$f":"IF(AND($A34<=n,AR$111<=flips),INT(501*RAND()+1),\"\")","v":""},{"$f":"IF(AQ144<>\"\",INDEX($B$2:$B$502,AQ144),\"\")","v":""},"",{"$f":"IF(AND($A34<=n,AU$111<=flips),INT(501*RAND()+1),\"\")","v":""},{"$f":"IF(AT144<>\"\",INDEX($B$2:$B$502,AT144),\"\")","v":""},"",{"$f":"IF(AND($A34<=n,AX$111<=flips),INT(501*RAND()+1),\"\")","v":""},{"$f":"IF(AW144<>\"\",INDEX($B$2:$B$502,AW144),\"\")","v":""},"",{"$f":"IF(AND($A34<=n,BA$111<=flips),INT(501*RAND()+1),\"\")","v":""},{"$f":"IF(AZ144<>\"\",INDEX($B$2:$B$502,AZ144),\"\")","v":""},"",{"$f":"IF(AND($A34<=n,BD$111<=flips),INT(501*RAND()+1),\"\")","v":""},{"$f":"IF(BC144<>\"\",INDEX($B$2:$B$502,BC144),\"\")","v":""},"",{"$f":"IF(AND($A34<=n,BG$111<=flips),INT(501*RAND()+1),\"\")","v":""},{"$f":"IF(BF144<>\"\",INDEX($B$2:$B$502,BF144),\"\")","v":""},"",{"$f":"IF(AND($A34<=n,BJ$111<=flips),INT(501*RAND()+1),\"\")","v":""},{"$f":"IF(BI144<>\"\",INDEX($B$2:$B$502,BI144),\"\")","v":""},"",{"$f":"IF(AND($A34<=n,BM$111<=flips),INT(501*RAND()+1),\"\")","v":""},{"$f":"IF(BL144<>\"\",INDEX($B$2:$B$502,BL144),\"\")","v":""},"",{"$f":"IF(AND($A34<=n,BP$111<=flips),INT(501*RAND()+1),\"\")","v":""},{"$f":"IF(BO144<>\"\",INDEX($B$2:$B$502,BO144),\"\")","v":""},"",{"$f":"IF(AND($A34<=n,BS$111<=flips),INT(501*RAND()+1),\"\")","v":""},{"$f":"IF(BR144<>\"\",INDEX($B$2:$B$502,BR144),\"\")","v":""},"",{"$f":"IF(AND($A34<=n,BV$111<=flips),INT(501*RAND()+1),\"\")","v":""},{"$f":"IF(BU144<>\"\",INDEX($B$2:$B$502,BU144),\"\")","v":""},"",{"$f":"IF(AND($A34<=n,BY$111<=flips),INT(501*RAND()+1),\"\")","v":""},{"$f":"IF(BX144<>\"\",INDEX($B$2:$B$502,BX144),\"\")","v":""},"",{"$f":"IF(AND($A34<=n,CB$111<=flips),INT(501*RAND()+1),\"\")","v":""},{"$f":"IF(CA144<>\"\",INDEX($B$2:$B$502,CA144),\"\")","v":""},"",{"$f":"IF(AND($A34<=n,CE$111<=flips),INT(501*RAND()+1),\"\")","v":""},{"$f":"IF(CD144<>\"\",INDEX($B$2:$B$502,CD144),\"\")","v":""},"",{"$f":"IF(AND($A34<=n,CH$111<=flips),INT(501*RAND()+1),\"\")","v":""},{"$f":"IF(CG144<>\"\",INDEX($B$2:$B$502,CG144),\"\")","v":""},"",{"$f":"IF(AND($A34<=n,CK$111<=flips),INT(501*RAND()+1),\"\")","v":""},{"$f":"IF(CJ144<>\"\",INDEX($B$2:$B$502,CJ144),\"\")","v":""},"",{"$f":"IF(AND($A34<=n,CN$111<=flips),INT(501*RAND()+1),\"\")","v":""},{"$f":"IF(CM144<>\"\",INDEX($B$2:$B$502,CM144),\"\")","v":""},"",{"$f":"IF(AND($A34<=n,CQ$111<=flips),INT(501*RAND()+1),\"\")","v":""},{"$f":"IF(CP144<>\"\",INDEX($B$2:$B$502,CP144),\"\")","v":""},"",{"$f":"IF(AND($A34<=n,CT$111<=flips),INT(501*RAND()+1),\"\")","v":""},{"$f":"IF(CS144<>\"\",INDEX($B$2:$B$502,CS144),\"\")","v":""},"",{"$f":"IF(AND($A34<=n,CW$111<=flips),INT(501*RAND()+1),\"\")","v":""},{"$f":"IF(CV144<>\"\",INDEX($B$2:$B$502,CV144),\"\")","v":""},"",{"$f":"IF(AND($A34<=n,CZ$111<=flips),INT(501*RAND()+1),\"\")","v":""},{"$f":"IF(CY144<>\"\",INDEX($B$2:$B$502,CY144),\"\")","v":""},"",{"$f":"IF(AND($A34<=n,DC$111<=flips),INT(501*RAND()+1),\"\")","v":""},{"$f":"IF(DB144<>\"\",INDEX($B$2:$B$502,DB144),\"\")","v":""},"",{"$f":"IF(AND($A34<=n,DF$111<=flips),INT(501*RAND()+1),\"\")","v":""},{"$f":"IF(DE144<>\"\",INDEX($B$2:$B$502,DE144),\"\")","v":""},"",{"$f":"IF(AND($A34<=n,DI$111<=flips),INT(501*RAND()+1),\"\")","v":""},{"$f":"IF(DH144<>\"\",INDEX($B$2:$B$502,DH144),\"\")","v":""},"",{"$f":"IF(AND($A34<=n,DL$111<=flips),INT(501*RAND()+1),\"\")","v":""},{"$f":"IF(DK144<>\"\",INDEX($B$2:$B$502,DK144),\"\")","v":""},"",{"$f":"IF(AND($A34<=n,DO$111<=flips),INT(501*RAND()+1),\"\")","v":""},{"$f":"IF(DN144<>\"\",INDEX($B$2:$B$502,DN144),\"\")","v":""},"",{"$f":"IF(AND($A34<=n,DR$111<=flips),INT(501*RAND()+1),\"\")","v":""},{"$f":"IF(DQ144<>\"\",INDEX($B$2:$B$502,DQ144),\"\")","v":""},"",{"$f":"IF(AND($A34<=n,DU$111<=flips),INT(501*RAND()+1),\"\")","v":""},{"$f":"IF(DT144<>\"\",INDEX($B$2:$B$502,DT144),\"\")","v":""},"",{"$f":"IF(AND($A34<=n,DX$111<=flips),INT(501*RAND()+1),\"\")","v":""},{"$f":"IF(DW144<>\"\",INDEX($B$2:$B$502,DW144),\"\")","v":""},"",{"$f":"IF(AND($A34<=n,EA$111<=flips),INT(501*RAND()+1),\"\")","v":""},{"$f":"IF(DZ144<>\"\",INDEX($B$2:$B$502,DZ144),\"\")","v":""},"",{"$f":"IF(AND($A34<=n,ED$111<=flips),INT(501*RAND()+1),\"\")","v":""},{"$f":"IF(EC144<>\"\",INDEX($B$2:$B$502,EC144),\"\")","v":""},"",{"$f":"IF(AND($A34<=n,EG$111<=flips),INT(501*RAND()+1),\"\")","v":""},{"$f":"IF(EF144<>\"\",INDEX($B$2:$B$502,EF144),\"\")","v":""},"",{"$f":"IF(AND($A34<=n,EJ$111<=flips),INT(501*RAND()+1),\"\")","v":""},{"$f":"IF(EI144<>\"\",INDEX($B$2:$B$502,EI144),\"\")","v":""},"",{"$f":"IF(AND($A34<=n,EM$111<=flips),INT(501*RAND()+1),\"\")","v":""},{"$f":"IF(EL144<>\"\",INDEX($B$2:$B$502,EL144),\"\")","v":""},"",{"$f":"IF(AND($A34<=n,EP$111<=flips),INT(501*RAND()+1),\"\")","v":""},{"$f":"IF(EO144<>\"\",INDEX($B$2:$B$502,EO144),\"\")","v":""},"",{"$f":"IF(AND($A34<=n,ES$111<=flips),INT(501*RAND()+1),\"\")","v":""},{"$f":"IF(ER144<>\"\",INDEX($B$2:$B$502,ER144),\"\")","v":""},"",{"$f":"IF(AND($A34<=n,EV$111<=flips),INT(501*RAND()+1),\"\")","v":""},{"$f":"IF(EU144<>\"\",INDEX($B$2:$B$502,EU144),\"\")","v":""},"",{"$f":"IF(AND($A34<=n,EY$111<=flips),INT(501*RAND()+1),\"\")","v":""},{"$f":"IF(EX144<>\"\",INDEX($B$2:$B$502,EX144),\"\")","v":""},"",{"$f":"IF(AND($A34<=n,FB$111<=flips),INT(501*RAND()+1),\"\")","v":""},{"$f":"IF(FA144<>\"\",INDEX($B$2:$B$502,FA144),\"\")","v":""},"",{"$f":"IF(AND($A34<=n,FE$111<=flips),INT(501*RAND()+1),\"\")","v":""},{"$f":"IF(FD144<>\"\",INDEX($B$2:$B$502,FD144),\"\")","v":""},"",{"$f":"IF(AND($A34<=n,FH$111<=flips),INT(501*RAND()+1),\"\")","v":""},{"$f":"IF(FG144<>\"\",INDEX($B$2:$B$502,FG144),\"\")","v":""},"",{"$f":"IF(AND($A34<=n,FK$111<=flips),INT(501*RAND()+1),\"\")","v":""},{"$f":"IF(FJ144<>\"\",INDEX($B$2:$B$502,FJ144),\"\")","v":""},"",{"$f":"IF(AND($A34<=n,FN$111<=flips),INT(501*RAND()+1),\"\")","v":""},{"$f":"IF(FM144<>\"\",INDEX($B$2:$B$502,FM144),\"\")","v":""},"",{"$f":"IF(AND($A34<=n,FQ$111<=flips),INT(501*RAND()+1),\"\")","v":""},{"$f":"IF(FP144<>\"\",INDEX($B$2:$B$502,FP144),\"\")","v":""},"",{"$f":"IF(AND($A34<=n,FT$111<=flips),INT(501*RAND()+1),\"\")","v":""},{"$f":"IF(FS144<>\"\",INDEX($B$2:$B$502,FS144),\"\")","v":""},"",{"$f":"IF(AND($A34<=n,FW$111<=flips),INT(501*RAND()+1),\"\")","v":""},{"$f":"IF(FV144<>\"\",INDEX($B$2:$B$502,FV144),\"\")","v":""},"",{"$f":"IF(AND($A34<=n,FZ$111<=flips),INT(501*RAND()+1),\"\")","v":""},{"$f":"IF(FY144<>\"\",INDEX($B$2:$B$502,FY144),\"\")","v":""},"",{"$f":"IF(AND($A34<=n,GC$111<=flips),INT(501*RAND()+1),\"\")","v":""},{"$f":"IF(GB144<>\"\",INDEX($B$2:$B$502,GB144),\"\")","v":""},"",{"$f":"IF(AND($A34<=n,GF$111<=flips),INT(501*RAND()+1),\"\")","v":""},{"$f":"IF(GE144<>\"\",INDEX($B$2:$B$502,GE144),\"\")","v":""},"",{"$f":"IF(AND($A34<=n,GI$111<=flips),INT(501*RAND()+1),\"\")","v":""},{"$f":"IF(GH144<>\"\",INDEX($B$2:$B$502,GH144),\"\")","v":""},"",{"$f":"IF(AND($A34<=n,GL$111<=flips),INT(501*RAND()+1),\"\")","v":""},{"$f":"IF(GK144<>\"\",INDEX($B$2:$B$502,GK144),\"\")","v":""},"",{"$f":"IF(AND($A34<=n,GO$111<=flips),INT(501*RAND()+1),\"\")","v":""},{"$f":"IF(GN144<>\"\",INDEX($B$2:$B$502,GN144),\"\")","v":""},"",{"$f":"IF(AND($A34<=n,GR$111<=flips),INT(501*RAND()+1),\"\")","v":""},{"$f":"IF(GQ144<>\"\",INDEX($B$2:$B$502,GQ144),\"\")","v":""},"",{"$f":"IF(AND($A34<=n,GU$111<=flips),INT(501*RAND()+1),\"\")","v":""},{"$f":"IF(GT144<>\"\",INDEX($B$2:$B$502,GT144),\"\")","v":""},"",{"$f":"IF(AND($A34<=n,GX$111<=flips),INT(501*RAND()+1),\"\")","v":""},{"$f":"IF(GW144<>\"\",INDEX($B$2:$B$502,GW144),\"\")","v":""},"",{"$f":"IF(AND($A34<=n,HA$111<=flips),INT(501*RAND()+1),\"\")","v":""},{"$f":"IF(GZ144<>\"\",INDEX($B$2:$B$502,GZ144),\"\")","v":""},"",{"$f":"IF(AND($A34<=n,HD$111<=flips),INT(501*RAND()+1),\"\")","v":""},{"$f":"IF(HC144<>\"\",INDEX($B$2:$B$502,HC144),\"\")","v":""},"",{"$f":"IF(AND($A34<=n,HG$111<=flips),INT(501*RAND()+1),\"\")","v":""},{"$f":"IF(HF144<>\"\",INDEX($B$2:$B$502,HF144),\"\")","v":""},"",{"$f":"IF(AND($A34<=n,HJ$111<=flips),INT(501*RAND()+1),\"\")","v":""},{"$f":"IF(HI144<>\"\",INDEX($B$2:$B$502,HI144),\"\")","v":""},"",{"$f":"IF(AND($A34<=n,HM$111<=flips),INT(501*RAND()+1),\"\")","v":""},{"$f":"IF(HL144<>\"\",INDEX($B$2:$B$502,HL144),\"\")","v":""},"",{"$f":"IF(AND($A34<=n,HP$111<=flips),INT(501*RAND()+1),\"\")","v":""},{"$f":"IF(HO144<>\"\",INDEX($B$2:$B$502,HO144),\"\")","v":""},"",{"$f":"IF(AND($A34<=n,HS$111<=flips),INT(501*RAND()+1),\"\")","v":""},{"$f":"IF(HR144<>\"\",INDEX($B$2:$B$502,HR144),\"\")","v":""},"",{"$f":"IF(AND($A34<=n,HV$111<=flips),INT(501*RAND()+1),\"\")","v":""},{"$f":"IF(HU144<>\"\",INDEX($B$2:$B$502,HU144),\"\")","v":""},"",{"$f":"IF(AND($A34<=n,HY$111<=flips),INT(501*RAND()+1),\"\")","v":""},{"$f":"IF(HX144<>\"\",INDEX($B$2:$B$502,HX144),\"\")","v":""},"",{"$f":"IF(AND($A34<=n,IB$111<=flips),INT(501*RAND()+1),\"\")","v":""},{"$f":"IF(IA144<>\"\",INDEX($B$2:$B$502,IA144),\"\")","v":""},"",{"$f":"IF(AND($A34<=n,IE$111<=flips),INT(501*RAND()+1),\"\")","v":""},{"$f":"IF(ID144<>\"\",INDEX($B$2:$B$502,ID144),\"\")","v":""},"",{"$f":"IF(AND($A34<=n,IH$111<=flips),INT(501*RAND()+1),\"\")","v":""},{"$f":"IF(IG144<>\"\",INDEX($B$2:$B$502,IG144),\"\")","v":""},"",{"$f":"IF(AND($A34<=n,IK$111<=flips),INT(501*RAND()+1),\"\")","v":""},{"$f":"IF(IJ144<>\"\",INDEX($B$2:$B$502,IJ144),\"\")","v":""},"",{"$f":"IF(AND($A34<=n,IN$111<=flips),INT(501*RAND()+1),\"\")","v":""},{"$f":"IF(IM144<>\"\",INDEX($B$2:$B$502,IM144),\"\")","v":""},"",null,null,null,null,null,null,{"$f":"FW$109","v":""}]
[144,6.6182337976023771,10.934469818299988,"","","","","","","","","","","","","","","","","","","","","","","","","","","","","","","","","","","","","","","","","","","","","","","","","","","","","","","","","","","","","","","","","","","","","","","","","","","","","","","","","","","","","","","","","","","","","","","","","","","","","","","","","","","","","","","","","","","","","","","","","","","","","","","","","","","","","","","","","","","","","","","","","","","","","","","","","","","","","","","","","","","","","","","","","","","","","","","","","","","","","","","","","","","","","","","","","","","","","","","","","","","","","","","","","","","","","","","","","","","","","","","","","","","","","","","","","","","","","","","","","","","","","","",null,null,null,null,null,null,{"$f":"FZ$109","v":""}]
[145,0.8525446832435013,2.9996479371763423,"","","","","","","","","","","","","","","","","","","","","","","","","","","","","","","","","","","","","","","","","","","","","","","","","","","","","","","","","","","","","","","","","","","","","","","","","","","","","","","","","","","","","","","","","","","","","","","","","","","","","","","","","","","","","","","","","","","","","","","","","","","","","","","","","","","","","","","","","","","","","","","","","","","","","","","","","","","","","","","","","","","","","","","","","","","","","","","","","","","","","","","","","","","","","","","","","","","","","","","","","","","","","","","","","","","","","","","","","","","","","","","","","","","","","","","","","","","","","","","","","","","","","","",null,null,null,null,null,null,{"$f":"GC$109","v":""}]
[146,8.0919079664045395,12.022468542541647,"","","","","","","","","","","","","","","","","","","","","","","","","","","","","","","","","","","","","","","","","","","","","","","","","","","","","","","","","","","","","","","","","","","","","","","","","","","","","","","","","","","","","","","","","","","","","","","","","","","","","","","","","","","","","","","","","","","","","","","","","","","","","","","","","","","","","","","","","","","","","","","","","","","","","","","","","","","","","","","","","","","","","","","","","","","","","","","","","","","","","","","","","","","","","","","","","","","","","","","","","","","","","","","","","","","","","","","","","","","","","","","","","","","","","","","","","","","","","","","","","","","","","","",null,null,null,null,null,null,{"$f":"GF$109","v":""}]
[147,5.4461115917511389,7.1403852577179636,"","","","","","","","","","","","","","","","","","","","","","","","","","","","","","","","","","","","","","","","","","","","","","","","","","","","","","","","","","","","","","","","","","","","","","","","","","","","","","","","","","","","","","","","","","","","","","","","","","","","","","","","","","","","","","","","","","","","","","","","","","","","","","","","","","","","","","","","","","","","","","","","","","","","","","","","","","","","","","","","","","","","","","","","","","","","","","","","","","","","","","","","","","","","","","","","","","","","","","","","","","","","","","","","","","","","","","","","","","","","","","","","","","","","","","","","","","","","","","","","","","","","","","",null,null,null,null,null,null,{"$f":"GI$109","v":""}]
[148,1.1377542072032565,4.1653095983966999,"","","","","","","","","","","","","","","","","","","","","","","","","","","","","","","","","","","","","","","","","","","","","","","","","","","","","","","","","","","","","","","","","","","","","","","","","","","","","","","","","","","","","","","","","","","","","","","","","","","","","","","","","","","","","","","","","","","","","","","","","","","","","","","","","","","","","","","","","","","","","","","","","","","","","","","","","","","","","","","","","","","","","","","","","","","","","","","","","","","","","","","","","","","","","","","","","","","","","","","","","","","","","","","","","","","","","","","","","","","","","","","","","","","","","","","","","","","","","","","","","","","","","","",null,null,null,null,null,null,{"$f":"GL$109","v":""}]
[149,8.0900216626433252,10.603349573558262,"","","","","","","","","","","","","","","","","","","","","","","","","","","","","","","","","","","","","","","","","","","","","","","","","","","","","","","","","","","","","","","","","","","","","","","","","","","","","","","","","","","","","","","","","","","","","","","","","","","","","","","","","","","","","","","","","","","","","","","","","","","","","","","","","","","","","","","","","","","","","","","","","","","","","","","","","","","","","","","","","","","","","","","","","","","","","","","","","","","","","","","","","","","","","","","","","","","","","","","","","","","","","","","","","","","","","","","","","","","","","","","","","","","","","","","","","","","","","","","","","","","","","","",null,null,null,null,null,null,{"$f":"GO$109","v":""}]
[150,6.8236248933967891,12.354040682638001,"","","","","","","","","","","","","","","","","","","","","","","","","","","","","","","","","","","","","","","","","","","","","","","","","","","","","","","","","","","","","","","","","","","","","","","","","","","","","","","","","","","","","","","","","","","","","","","","","","","","","","","","","","","","","","","","","","","","","","","","","","","","","","","","","","","","","","","","","","","","","","","","","","","","","","","","","","","","","","","","","","","","","","","","","","","","","","","","","","","","","","","","","","","","","","","","","","","","","","","","","","","","","","","","","","","","","","","","","","","","","","","","","","","","","","","","","","","","","","","","","","","","","","",null,null,null,null,null,null,{"$f":"GR$109","v":""}]
[151,5.3397351752720468,7.1779337361530198,"","","","","","","","","","","","","","","","","","","","","","","","","","","","","","","","","","","","","","","","","","","","","","","","","","","","","","","","","","","","","","","","","","","","","","","","","","","","","","","","","","","","","","","","","","","","","","","","","","","","","","","","","","","","","","","","","","","","","","","","","","","","","","","","","","","","","","","","","","","","","","","","","","","","","","","","","","","","","","","","","","","","","","","","","","","","","","","","","","","","","","","","","","","","","","","","","","","","","","","","","","","","","","","","","","","","","","","","","","","","","","","","","","","","","","","","","","","","","","","","","","","","","","",null,null,null,null,null,null,{"$f":"GU$109","v":""}]
[152,6.9202326293888312,8.9745040915337775,"","","","","","","","","","","","","","","","","","","","","","","","","","","","","","","","","","","","","","","","","","","","","","","","","","","","","","","","","","","","","","","","","","","","","","","","","","","","","","","","","","","","","","","","","","","","","","","","","","","","","","","","","","","","","","","","","","","","","","","","","","","","","","","","","","","","","","","","","","","","","","","","","","","","","","","","","","","","","","","","","","","","","","","","","","","","","","","","","","","","","","","","","","","","","","","","","","","","","","","","","","","","","","","","","","","","","","","","","","","","","","","","","","","","","","","","","","","","","","","","","","","","","","",null,null,null,null,null,null,{"$f":"GX$109","v":""}]
[153,3.2384547362536154,4.3544413035996898,"","","","","","","","","","","","","","","","","","","","","","","","","","","","","","","","","","","","","","","","","","","","","","","","","","","","","","","","","","","","","","","","","","","","","","","","","","","","","","","","","","","","","","","","","","","","","","","","","","","","","","","","","","","","","","","","","","","","","","","","","","","","","","","","","","","","","","","","","","","","","","","","","","","","","","","","","","","","","","","","","","","","","","","","","","","","","","","","","","","","","","","","","","","","","","","","","","","","","","","","","","","","","","","","","","","","","","","","","","","","","","","","","","","","","","","","","","","","","","","","","","","","","","",null,null,null,null,null,null,{"$f":"HA$109","v":""}]
[154,9.8373755329406993,15.801176329166585,"","","","","","","","","","","","","","","","","","","","","","","","","","","","","","","","","","","","","","","","","","","","","","","","","","","","","","","","","","","","","","","","","","","","","","","","","","","","","","","","","","","","","","","","","","","","","","","","","","","","","","","","","","","","","","","","","","","","","","","","","","","","","","","","","","","","","","","","","","","","","","","","","","","","","","","","","","","","","","","","","","","","","","","","","","","","","","","","","","","","","","","","","","","","","","","","","","","","","","","","","","","","","","","","","","","","","","","","","","","","","","","","","","","","","","","","","","","","","","","","","","","","","","",null,null,null,null,null,null,{"$f":"HD$109","v":""}]
[155,4.8256411591609805,6.1600312882596793,"","","","","","","","","","","","","","","","","","","","","","","","","","","","","","","","","","","","","","","","","","","","","","","","","","","","","","","","","","","","","","","","","","","","","","","","","","","","","","","","","","","","","","","","","","","","","","","","","","","","","","","","","","","","","","","","","","","","","","","","","","","","","","","","","","","","","","","","","","","","","","","","","","","","","","","","","","","","","","","","","","","","","","","","","","","","","","","","","","","","","","","","","","","","","","","","","","","","","","","","","","","","","","","","","","","","","","","","","","","","","","","","","","","","","","","","","","","","","","","","","","","","","","",null,null,null,null,null,null,{"$f":"HG$109","v":""}]
[156,7.5222741385832492,10.398178080808218,"","","","","","","","","","","","","","","","","","","","","","","","","","","","","","","","","","","","","","","","","","","","","","","","","","","","","","","","","","","","","","","","","","","","","","","","","","","","","","","","","","","","","","","","","","","","","","","","","","","","","","","","","","","","","","","","","","","","","","","","","","","","","","","","","","","","","","","","","","","","","","","","","","","","","","","","","","","","","","","","","","","","","","","","","","","","","","","","","","","","","","","","","","","","","","","","","","","","","","","","","","","","","","","","","","","","","","","","","","","","","","","","","","","","","","","","","","","","","","","","","","","","","","",null,null,null,null,null,null,{"$f":"HJ$109","v":""}]
[157,7.2810892925524584,9.7350388718327459,"","","","","","","","","","","","","","","","","","","","","","","","","","","","","","","","","","","","","","","","","","","","","","","","","","","","","","","","","","","","","","","","","","","","","","","","","","","","","","","","","","","","","","","","","","","","","","","","","","","","","","","","","","","","","","","","","","","","","","","","","","","","","","","","","","","","","","","","","","","","","","","","","","","","","","","","","","","","","","","","","","","","","","","","","","","","","","","","","","","","","","","","","","","","","","","","","","","","","","","","","","","","","","","","","","","","","","","","","","","","","","","","","","","","","","","","","","","","","","","","","","","","","","",null,null,null,null,null,null,{"$f":"HM$109","v":""}]
[158,6.5764931629664947,13.218822693597421,"","","","","","","","","","","","","","","","","","","","","","","","","","","","","","","","","","","","","","","","","","","","","","","","","","","","","","","","","","","","","","","","","","","","","","","","","","","","","","","","","","","","","","","","","","","","","","","","","","","","","","","","","","","","","","","","","","","","","","","","","","","","","","","","","","","","","","","","","","","","","","","","","","","","","","","","","","","","","","","","","","","","","","","","","","","","","","","","","","","","","","","","","","","","","","","","","","","","","","","","","","","","","","","","","","","","","","","","","","","","","","","","","","","","","","","","","","","","","","","","","","","","","","",null,null,null,null,null,null,{"$f":"HP$109","v":""}]
[159,7.1432618799211589,9.2497141559072418,"","","","","","","","","","","","","","","","","","","","","","","","","","","","","","","","","","","","","","","","","","","","","","","","","","","","","","","","","","","","","","","","","","","","","","","","","","","","","","","","","","","","","","","","","","","","","","","","","","","","","","","","","","","","","","","","","","","","","","","","","","","","","","","","","","","","","","","","","","","","","","","","","","","","","","","","","","","","","","","","","","","","","","","","","","","","","","","","","","","","","","","","","","","","","","","","","","","","","","","","","","","","","","","","","","","","","","","","","","","","","","","","","","","","","","","","","","","","","","","","","","","","","","",null,null,null,null,null,null,{"$f":"HS$109","v":""}]
[160,2.3790581557966028,5.6357215776136949,"","","","","","","","","","","","","","","","","","","","","","","","","","","","","","","","","","","","","","","","","","","","","","","","","","","","","","","","","","","","","","","","","","","","","","","","","","","","","","","","","","","","","","","","","","","","","","","","","","","","","","","","","","","","","","","","","","","","","","","","","","","","","","","","","","","","","","","","","","","","","","","","","","","","","","","","","","","","","","","","","","","","","","","","","","","","","","","","","","","","","","","","","","","","","","","","","","","","","","","","","","","","","","","","","","","","","","","","","","","","","","","","","","","","","","","","","","","","","","","","","","","","","","",null,null,null,null,null,null,{"$f":"HV$109","v":""}]
[161,4.3820515385193133,4.9365147229767743,"","","","","","","","","","","","","","","","","","","","","","","","","","","","","","","","","","","","","","","","","","","","","","","","","","","","","","","","","","","","","","","","","","","","","","","","","","","","","","","","","","","","","","","","","","","","","","","","","","","","","","","","","","","","","","","","","","","","","","","","","","","","","","","","","","","","","","","","","","","","","","","","","","","","","","","","","","","","","","","","","","","","","","","","","","","","","","","","","","","","","","","","","","","","","","","","","","","","","","","","","","","","","","","","","","","","","","","","","","","","","","","","","","","","","","","","","","","","","","","","","","","","","","",null,null,null,null,null,null,{"$f":"HY$109","v":""}]
[162,1.7286565252373598,1.4654855864438978,{"$f":"IF($A163<=n,INT(501*RAND()+1),\"\")","v":""},"","",{"$f":"IF($A163<=n,INT(501*RAND()+1),\"\")","v":""},"","",{"$f":"IF($A163<=n,INT(501*RAND()+1),\"\")","v":""},"","",{"$f":"IF($A163<=n,INT(501*RAND()+1),\"\")","v":""},"","",{"$f":"IF($A163<=n,INT(501*RAND()+1),\"\")","v":""},"","",{"$f":"IF($A163<=n,INT(501*RAND()+1),\"\")","v":""},"","",{"$f":"IF($A163<=n,INT(501*RAND()+1),\"\")","v":""},"","",{"$f":"IF($A163<=n,INT(501*RAND()+1),\"\")","v":""},"","",{"$f":"IF($A163<=n,INT(501*RAND()+1),\"\")","v":""},"","",{"$f":"IF($A163<=n,INT(501*RAND()+1),\"\")","v":""},"","",{"$f":"IF($A163<=n,INT(501*RAND()+1),\"\")","v":""},"","",{"$f":"IF($A163<=n,INT(501*RAND()+1),\"\")","v":""},"","",{"$f":"IF($A163<=n,INT(501*RAND()+1),\"\")","v":""},"","",{"$f":"IF($A163<=n,INT(501*RAND()+1),\"\")","v":""},"","",{"$f":"IF($A163<=n,INT(501*RAND()+1),\"\")","v":""},"","",{"$f":"IF($A163<=n,INT(501*RAND()+1),\"\")","v":""},"","",{"$f":"IF($A163<=n,INT(501*RAND()+1),\"\")","v":""},"","",{"$f":"IF($A163<=n,INT(501*RAND()+1),\"\")","v":""},"","",{"$f":"IF($A163<=n,INT(501*RAND()+1),\"\")","v":""},"","",{"$f":"IF($A163<=n,INT(501*RAND()+1),\"\")","v":""},"","",{"$f":"IF($A163<=n,INT(501*RAND()+1),\"\")","v":""},"","",{"$f":"IF($A163<=n,INT(501*RAND()+1),\"\")","v":""},"","",{"$f":"IF($A163<=n,INT(501*RAND()+1),\"\")","v":""},"","",{"$f":"IF($A163<=n,INT(501*RAND()+1),\"\")","v":""},"","",{"$f":"IF($A163<=n,INT(501*RAND()+1),\"\")","v":""},"","",{"$f":"IF($A163<=n,INT(501*RAND()+1),\"\")","v":""},"","",{"$f":"IF($A163<=n,INT(501*RAND()+1),\"\")","v":""},"","",{"$f":"IF($A163<=n,INT(501*RAND()+1),\"\")","v":""},"","",{"$f":"IF($A163<=n,INT(501*RAND()+1),\"\")","v":""},"","",{"$f":"IF($A163<=n,INT(501*RAND()+1),\"\")","v":""},"","",{"$f":"IF($A163<=n,INT(501*RAND()+1),\"\")","v":""},"","",{"$f":"IF($A163<=n,INT(501*RAND()+1),\"\")","v":""},"","",{"$f":"IF($A163<=n,INT(501*RAND()+1),\"\")","v":""},"","",{"$f":"IF($A163<=n,INT(501*RAND()+1),\"\")","v":""},"","",{"$f":"IF($A163<=n,INT(501*RAND()+1),\"\")","v":""},"","",{"$f":"IF($A163<=n,INT(501*RAND()+1),\"\")","v":""},"","",{"$f":"IF($A163<=n,INT(501*RAND()+1),\"\")","v":""},"","",{"$f":"IF($A163<=n,INT(501*RAND()+1),\"\")","v":""},"","",{"$f":"IF($A163<=n,INT(501*RAND()+1),\"\")","v":""},"","",{"$f":"IF($A163<=n,INT(501*RAND()+1),\"\")","v":""},"","",{"$f":"IF($A163<=n,INT(501*RAND()+1),\"\")","v":""},"","",{"$f":"IF($A163<=n,INT(501*RAND()+1),\"\")","v":""},"","",{"$f":"IF($A163<=n,INT(501*RAND()+1),\"\")","v":""},"","",{"$f":"IF($A163<=n,INT(501*RAND()+1),\"\")","v":""},"","",{"$f":"IF($A163<=n,INT(501*RAND()+1),\"\")","v":""},"","",{"$f":"IF($A163<=n,INT(501*RAND()+1),\"\")","v":""},"","",{"$f":"IF($A163<=n,INT(501*RAND()+1),\"\")","v":""},"","",{"$f":"IF($A163<=n,INT(501*RAND()+1),\"\")","v":""},"","",{"$f":"IF($A163<=n,INT(501*RAND()+1),\"\")","v":""},"","",{"$f":"IF($A163<=n,INT(501*RAND()+1),\"\")","v":""},"","",{"$f":"IF($A163<=n,INT(501*RAND()+1),\"\")","v":""},"","",{"$f":"IF($A163<=n,INT(501*RAND()+1),\"\")","v":""},"","",{"$f":"IF($A163<=n,INT(501*RAND()+1),\"\")","v":""},"","",{"$f":"IF($A163<=n,INT(501*RAND()+1),\"\")","v":""},"","",{"$f":"IF($A163<=n,INT(501*RAND()+1),\"\")","v":""},"","",{"$f":"IF($A163<=n,INT(501*RAND()+1),\"\")","v":""},"","",{"$f":"IF($A163<=n,INT(501*RAND()+1),\"\")","v":""},"","",{"$f":"IF($A163<=n,INT(501*RAND()+1),\"\")","v":""},"","",{"$f":"IF($A163<=n,INT(501*RAND()+1),\"\")","v":""},"","",{"$f":"IF($A163<=n,INT(501*RAND()+1),\"\")","v":""},"","",{"$f":"IF($A163<=n,INT(501*RAND()+1),\"\")","v":""},"","",{"$f":"IF($A163<=n,INT(501*RAND()+1),\"\")","v":""},"","",{"$f":"IF($A163<=n,INT(501*RAND()+1),\"\")","v":""},"","",{"$f":"IF($A163<=n,INT(501*RAND()+1),\"\")","v":""},"","",{"$f":"IF($A163<=n,INT(501*RAND()+1),\"\")","v":""},"","",{"$f":"IF($A163<=n,INT(501*RAND()+1),\"\")","v":""},"","",{"$f":"IF($A163<=n,INT(501*RAND()+1),\"\")","v":""},"","",{"$f":"IF($A163<=n,INT(501*RAND()+1),\"\")","v":""},"","",{"$f":"IF($A163<=n,INT(501*RAND()+1),\"\")","v":""},"","",{"$f":"IF($A163<=n,INT(501*RAND()+1),\"\")","v":""},"","",{"$f":"IF($A163<=n,INT(501*RAND()+1),\"\")","v":""},"","",{"$f":"IF($A163<=n,INT(501*RAND()+1),\"\")","v":""},"","",{"$f":"IF($A163<=n,INT(501*RAND()+1),\"\")","v":""},"","",{"$f":"IF($A163<=n,INT(501*RAND()+1),\"\")","v":""},"","",{"$f":"IF($A163<=n,INT(501*RAND()+1),\"\")","v":""},"","",{"$f":"IF($A163<=n,INT(501*RAND()+1),\"\")","v":""},"","",{"$f":"IF($A163<=n,INT(501*RAND()+1),\"\")","v":""},"","",{"$f":"IF($A163<=n,INT(501*RAND()+1),\"\")","v":""},"","",{"$f":"IF($A163<=n,INT(501*RAND()+1),\"\")","v":""},"","",{"$f":"IF($A163<=n,INT(501*RAND()+1),\"\")","v":""},"","",{"$f":"IF($A163<=n,INT(501*RAND()+1),\"\")","v":""},"","",{"$f":"IF($A163<=n,INT(501*RAND()+1),\"\")","v":""},"","",null,null,null,null,null,null,{"$f":"IB$109","v":""}]
[163,5.4932355305844798,8.8656207961652012,"cc=",{"$f":"IF(D112=\"\",\"\",CORREL(E112:E162,F112:F162))","v":""},null,"cc=",{"$f":"IF(G112=\"\",\"\",CORREL(H112:H162,I112:I162))","v":""},null,"cc=",{"$f":"IF(J112=\"\",\"\",CORREL(K112:K162,L112:L162))","v":""},null,"cc=",{"$f":"IF(M112=\"\",\"\",CORREL(N112:N162,O112:O162))","v":""},null,"cc=",{"$f":"IF(P112=\"\",\"\",CORREL(Q112:Q162,R112:R162))","v":""},null,"cc=",{"$f":"IF(S112=\"\",\"\",CORREL(T112:T162,U112:U162))","v":""},null,"cc=",{"$f":"IF(V112=\"\",\"\",CORREL(W112:W162,X112:X162))","v":""},null,"cc=",{"$f":"IF(Y112=\"\",\"\",CORREL(Z112:Z162,AA112:AA162))","v":""},null,"cc=",{"$f":"IF(AB112=\"\",\"\",CORREL(AC112:AC162,AD112:AD162))","v":""},null,"cc=",{"$f":"IF(AE112=\"\",\"\",CORREL(AF112:AF162,AG112:AG162))","v":""},null,"cc=",{"$f":"IF(AH112=\"\",\"\",CORREL(AI112:AI162,AJ112:AJ162))","v":""},null,"cc=",{"$f":"IF(AK112=\"\",\"\",CORREL(AL112:AL162,AM112:AM162))","v":""},null,"cc=",{"$f":"IF(AN112=\"\",\"\",CORREL(AO112:AO162,AP112:AP162))","v":""},null,"cc=",{"$f":"IF(AQ112=\"\",\"\",CORREL(AR112:AR162,AS112:AS162))","v":""},null,"cc=",{"$f":"IF(AT112=\"\",\"\",CORREL(AU112:AU162,AV112:AV162))","v":""},null,"cc=",{"$f":"IF(AW112=\"\",\"\",CORREL(AX112:AX162,AY112:AY162))","v":""},null,"cc=",{"$f":"IF(AZ112=\"\",\"\",CORREL(BA112:BA162,BB112:BB162))","v":""},null,"cc=",{"$f":"IF(BC112=\"\",\"\",CORREL(BD112:BD162,BE112:BE162))","v":""},null,"cc=",{"$f":"IF(BF112=\"\",\"\",CORREL(BG112:BG162,BH112:BH162))","v":""},null,"cc=",{"$f":"IF(BI112=\"\",\"\",CORREL(BJ112:BJ162,BK112:BK162))","v":""},null,"cc=",{"$f":"IF(BL112=\"\",\"\",CORREL(BM112:BM162,BN112:BN162))","v":""},null,"cc=",{"$f":"IF(BO112=\"\",\"\",CORREL(BP112:BP162,BQ112:BQ162))","v":""},null,"cc=",{"$f":"IF(BR112=\"\",\"\",CORREL(BS112:BS162,BT112:BT162))","v":""},null,"cc=",{"$f":"IF(BU112=\"\",\"\",CORREL(BV112:BV162,BW112:BW162))","v":""},null,"cc=",{"$f":"IF(BX112=\"\",\"\",CORREL(BY112:BY162,BZ112:BZ162))","v":""},null,"cc=",{"$f":"IF(CA112=\"\",\"\",CORREL(CB112:CB162,CC112:CC162))","v":""},null,"cc=",{"$f":"IF(CD112=\"\",\"\",CORREL(CE112:CE162,CF112:CF162))","v":""},null,"cc=",{"$f":"IF(CG112=\"\",\"\",CORREL(CH112:CH162,CI112:CI162))","v":""},null,"cc=",{"$f":"IF(CJ112=\"\",\"\",CORREL(CK112:CK162,CL112:CL162))","v":""},null,"cc=",{"$f":"IF(CM112=\"\",\"\",CORREL(CN112:CN162,CO112:CO162))","v":""},null,"cc=",{"$f":"IF(CP112=\"\",\"\",CORREL(CQ112:CQ162,CR112:CR162))","v":""},null,"cc=",{"$f":"IF(CS112=\"\",\"\",CORREL(CT112:CT162,CU112:CU162))","v":""},null,"cc=",{"$f":"IF(CV112=\"\",\"\",CORREL(CW112:CW162,CX112:CX162))","v":""},null,"cc=",{"$f":"IF(CY112=\"\",\"\",CORREL(CZ112:CZ162,DA112:DA162))","v":""},null,"cc=",{"$f":"IF(DB112=\"\",\"\",CORREL(DC112:DC162,DD112:DD162))","v":""},null,"cc=",{"$f":"IF(DE112=\"\",\"\",CORREL(DF112:DF162,DG112:DG162))","v":""},null,"cc=",{"$f":"IF(DH112=\"\",\"\",CORREL(DI112:DI162,DJ112:DJ162))","v":""},null,"cc=",{"$f":"IF(DK112=\"\",\"\",CORREL(DL112:DL162,DM112:DM162))","v":""},null,"cc=",{"$f":"IF(DN112=\"\",\"\",CORREL(DO112:DO162,DP112:DP162))","v":""},null,"cc=",{"$f":"IF(DQ112=\"\",\"\",CORREL(DR112:DR162,DS112:DS162))","v":""},null,"cc=",{"$f":"IF(DT112=\"\",\"\",CORREL(DU112:DU162,DV112:DV162))","v":""},null,"cc=",{"$f":"IF(DW112=\"\",\"\",CORREL(DX112:DX162,DY112:DY162))","v":""},null,"cc=",{"$f":"IF(DZ112=\"\",\"\",CORREL(EA112:EA162,EB112:EB162))","v":""},null,"cc=",{"$f":"IF(EC112=\"\",\"\",CORREL(ED112:ED162,EE112:EE162))","v":""},null,"cc=",{"$f":"IF(EF112=\"\",\"\",CORREL(EG112:EG162,EH112:EH162))","v":""},null,"cc=",{"$f":"IF(EI112=\"\",\"\",CORREL(EJ112:EJ162,EK112:EK162))","v":""},null,"cc=",{"$f":"IF(EL112=\"\",\"\",CORREL(EM112:EM162,EN112:EN162))","v":""},null,"cc=",{"$f":"IF(EO112=\"\",\"\",CORREL(EP112:EP162,EQ112:EQ162))","v":""},null,"cc=",{"$f":"IF(ER112=\"\",\"\",CORREL(ES112:ES162,ET112:ET162))","v":""},null,"cc=",{"$f":"IF(EU112=\"\",\"\",CORREL(EV112:EV162,EW112:EW162))","v":""},null,"cc=",{"$f":"IF(EX112=\"\",\"\",CORREL(EY112:EY162,EZ112:EZ162))","v":""},null,"cc=",{"$f":"IF(FA112=\"\",\"\",CORREL(FB112:FB162,FC112:FC162))","v":""},null,"cc=",{"$f":"IF(FD112=\"\",\"\",CORREL(FE112:FE162,FF112:FF162))","v":""},null,"cc=",{"$f":"IF(FG112=\"\",\"\",CORREL(FH112:FH162,FI112:FI162))","v":""},null,"cc=",{"$f":"IF(FJ112=\"\",\"\",CORREL(FK112:FK162,FL112:FL162))","v":""},null,"cc=",{"$f":"IF(FM112=\"\",\"\",CORREL(FN112:FN162,FO112:FO162))","v":""},null,"cc=",{"$f":"IF(FP112=\"\",\"\",CORREL(FQ112:FQ162,FR112:FR162))","v":""},null,"cc=",{"$f":"IF(FS112=\"\",\"\",CORREL(FT112:FT162,FU112:FU162))","v":""},null,"cc=",{"$f":"IF(FV112=\"\",\"\",CORREL(FW112:FW162,FX112:FX162))","v":""},null,"cc=",{"$f":"IF(FY112=\"\",\"\",CORREL(FZ112:FZ162,GA112:GA162))","v":""},null,"cc=",{"$f":"IF(GB112=\"\",\"\",CORREL(GC112:GC162,GD112:GD162))","v":""},null,"cc=",{"$f":"IF(GE112=\"\",\"\",CORREL(GF112:GF162,GG112:GG162))","v":""},null,"cc=",{"$f":"IF(GH112=\"\",\"\",CORREL(GI112:GI162,GJ112:GJ162))","v":""},null,"cc=",{"$f":"IF(GK112=\"\",\"\",CORREL(GL112:GL162,GM112:GM162))","v":""},null,"cc=",{"$f":"IF(GN112=\"\",\"\",CORREL(GO112:GO162,GP112:GP162))","v":""},null,"cc=",{"$f":"IF(GQ112=\"\",\"\",CORREL(GR112:GR162,GS112:GS162))","v":""},null,"cc=",{"$f":"IF(GT112=\"\",\"\",CORREL(GU112:GU162,GV112:GV162))","v":""},null,"cc=",{"$f":"IF(GW112=\"\",\"\",CORREL(GX112:GX162,GY112:GY162))","v":""},null,"cc=",{"$f":"IF(GZ112=\"\",\"\",CORREL(HA112:HA162,HB112:HB162))","v":""},null,"cc=",{"$f":"IF(HC112=\"\",\"\",CORREL(HD112:HD162,HE112:HE162))","v":""},null,"cc=",{"$f":"IF(HF112=\"\",\"\",CORREL(HG112:HG162,HH112:HH162))","v":""},null,"cc=",{"$f":"IF(HI112=\"\",\"\",CORREL(HJ112:HJ162,HK112:HK162))","v":""},null,"cc=",{"$f":"IF(HL112=\"\",\"\",CORREL(HM112:HM162,HN112:HN162))","v":""},null,"cc=",{"$f":"IF(HO112=\"\",\"\",CORREL(HP112:HP162,HQ112:HQ162))","v":""},null,"cc=",{"$f":"IF(HR112=\"\",\"\",CORREL(HS112:HS162,HT112:HT162))","v":""},null,"cc=",{"$f":"IF(HU112=\"\",\"\",CORREL(HV112:HV162,HW112:HW162))","v":""},null,"cc=",{"$f":"IF(HX112=\"\",\"\",CORREL(HY112:HY162,HZ112:HZ162))","v":""},null,"cc=",{"$f":"IF(IA112=\"\",\"\",CORREL(IB112:IB162,IC112:IC162))","v":""},null,"cc=",{"$f":"IF(ID112=\"\",\"\",CORREL(IE112:IE162,IF112:IF162))","v":""},null,"cc=",{"$f":"IF(IG112=\"\",\"\",CORREL(IH112:IH162,II112:II162))","v":""},null,"cc=",{"$f":"IF(IJ112=\"\",\"\",CORREL(IK112:IK162,IL112:IL162))","v":""},null,"cc=",{"$f":"IF(IM112=\"\",\"\",CORREL(IN112:IN162,IO112:IO162))","v":""},null,null,null,null,null,null,null,{"$f":"IE$109","v":""}]
[164,9.9656062706024162,13.997749013626128,null,null,null,null,null,null,null,null,null,null,null,null,null,null,null,null,null,null,null,null,null,null,null,null,null,null,null,null,null,null,null,null,null,null,null,null,null,null,null,null,null,null,null,null,null,null,null,null,null,null,null,null,null,null,null,null,null,null,null,null,null,null,null,null,null,null,null,null,null,null,null,null,null,null,null,null,null,null,null,null,null,null,null,null,null,null,null,null,null,null,null,null,null,null,null,null,null,null,null,null,null,null,null,null,null,null,null,null,null,null,null,null,null,null,null,null,null,null,null,null,null,null,null,null,null,null,null,null,null,null,null,null,null,null,null,null,null,null,null,null,null,null,null,null,null,null,null,null,null,null,null,null,null,null,null,null,null,null,null,null,null,null,null,null,null,null,null,null,null,null,null,null,null,null,null,null,null,null,null,null,null,null,null,null,null,null,null,null,null,null,null,null,null,null,null,null,null,null,null,null,null,null,null,null,null,null,null,null,null,null,null,null,null,null,null,null,null,null,null,null,null,null,null,null,null,null,null,null,null,null,null,null,null,null,null,null,null,null,null,null,null,null,null,null,null,null,null,null,null,null,null,null,{"$f":"IH$109","v":""}]
[165,3.0401163617295479,3.5833705441942101,null,null,null,null,null,null,null,null,null,null,null,null,null,null,null,null,null,null,null,null,null,null,null,null,null,null,null,null,null,null,null,null,null,null,null,null,null,null,null,null,null,null,null,null,null,null,null,null,null,null,null,null,null,null,null,null,null,null,null,null,null,null,null,null,null,null,null,null,null,null,null,null,null,null,null,null,null,null,null,null,null,null,null,null,null,null,null,null,null,null,null,null,null,null,null,null,null,null,null,null,null,null,null,null,null,null,null,null,null,null,null,null,null,null,null,null,null,null,null,null,null,null,null,null,null,null,null,null,null,null,null,null,null,null,null,null,null,null,null,null,null,null,null,null,null,null,null,null,null,null,null,null,null,null,null,null,null,null,null,null,null,null,null,null,null,null,null,null,null,null,null,null,null,null,null,null,null,null,null,null,null,null,null,null,null,null,null,null,null,null,null,null,null,null,null,null,null,null,null,null,null,null,null,null,null,null,null,null,null,null,null,null,null,null,null,null,null,null,null,null,null,null,null,null,null,null,null,null,null,null,null,null,null,null,null,null,null,null,null,null,null,null,null,null,null,null,null,null,null,null,null,null,{"$f":"IK$109","v":""}]
[166,8.6908914981058629,15.603789463461201,null,null,null,null,null,null,null,null,null,null,null,null,null,null,null,null,null,null,null,null,null,null,null,null,null,null,null,null,null,null,null,null,null,null,null,null,null,null,null,null,null,null,null,null,null,null,null,null,null,null,null,null,null,null,null,null,null,null,null,null,null,null,null,null,null,null,null,null,null,null,null,null,null,null,null,null,null,null,null,null,null,null,null,null,null,null,null,null,null,null,null,null,null,null,null,null,null,null,null,null,null,null,null,null,null,null,null,null,null,null,null,null,null,null,null,null,null,null,null,null,null,null,null,null,null,null,null,null,null,null,null,null,null,null,null,null,null,null,null,null,null,null,null,null,null,null,null,null,null,null,null,null,null,null,null,null,null,null,null,null,null,null,null,null,null,null,null,null,null,null,null,null,null,null,null,null,null,null,null,null,null,null,null,null,null,null,null,null,null,null,null,null,null,null,null,null,null,null,null,null,null,null,null,null,null,null,null,null,null,null,null,null,null,null,null,null,null,null,null,null,null,null,null,null,null,null,null,null,null,null,null,null,null,null,null,null,null,null,null,null,null,null,null,null,null,null,null,null,null,null,null,null,{"$f":"IN$109","v":""}]
[167,5.6949934178282025,7.5872591807906486,null,null,null,null,null,null,null,null,null,null,null,null,null,null,null,null,null,null,null,null,null,null,null,null,null,null,null,null,null,null,null,null,null,null,null,null,null,null,null,null,null,null,null,null,null,null,null,null,null,null,null,null,null,null,null,null,null,null,null,null,null,null,null,null,null,null,null,null,null,null,null,null,null,null,null,null,null,null,null,null,null,null,null,null,null,null,null,null,null,null,null,null,null,null,null,null,null,null,null,null,null,null,null,null,null,null,null,null,null,null,null,null,null,null,null,null,null,null,null,null,null,null,null,null,null,null,null,null,null,null,null,null,null,null,null,null,null,null,null,null,null,null,null,null,null,null,null,null,null,null,null,null,null,null,null,null,null,null,null,null,null,null,null,null,null,null,null,null,null,null,null,null,null,null,null,null,null,null,null,null,null,null,null,null,null,null,null,null,null,null,null,null,null,null,null,null,null,null,null,null,null,null,null,null,null,null,null,null,null,null,null,null,null,null,null,null,null,null,null,null,null,null,null,null,null,null,null,null,null,null,null,null,null,null,null,null,null,null,null,null,null,null,null,null,null,null,null,null,null,null,null,null,{"$f":"IQ$109","v":""}]
[168,5.7103770203424009,7.2397772694645726,null,null,null,null,null,null,null,null,null,null,null,null,null,null,null,null,null,null,null,null,null,null,null,null,null,null,null,null,null,null,null,null,null,null,null,null,null,null,null,null,null,null,null,null,null,null,null,null,null,null,null,null,null,null,null,null,null,null,null,null,null,null,null,null,null,null,null,null,null,null,null,null,null,null,null,null,null,null,null,null,null,null,null,null,null,null,null,null,null,null,null,null,null,null,null,null,null,null,null,null,null,null,null,null,null,null,null,null,null,null,null,null,null,null,null,null,null,null,null,null,null,null,null,null,null,null,null,null,null,null,null,null,null,null,null,null,null,null,null,null,null,null,null,null,null,null,null,null,null,null,null,null,null,null,null,null,null,null,null,null,null,null,null,null,null,null,null,null,null,null,null,null,null,null,null,null,null,null,null,null,null,null,null,null,null,null,null,null,null,null,null,null,null,null,null,null,null,null,null,null,null,null,null,null,null,null,null,null,null,null,null,null,null,null,null,null,null,null,null,null,null,null,null,null,null,null,null,null,null,null,null,null,null,null,null,null,null,null,null,null,null,null,null,null,null,null,null,null,null,null,null,null,{"$f":"IT$109","v":""}]
[169,7.8580010287960045,12.828081007665793,null,null,null,null,null,null,null,null,null,null,null,null,null,null,null,null,null,null,null,null,null,null,null,null,null,null,null,null,null,null,null,null,null,null,null,null,null,null,null,null,null,null,null,null,null,null,null,null,null,null,null,null,null,null,null,null,null,null,null,null,null,null,null,null,null,null,null,null,null,null,null,null,null,null,null,null,null,null,null,null,null,null,null,null,null,null,null,null,null,null,null,null,null,null,null,null,null,null,null,null,null,null,null,null,null,null,null,null,null,null,null,null,null,null,null,null,null,null,null,null,null,null,null,null,null,null,null,null,null,null,null,null,null,null,null,null,null,null,null,null,null,null,null,null,null,null,null,null,null,null,null,null,null,null,null,null,null,null,null,null,null,null,null,null,null,null,null,null,null,null,null,null,null,null,null,null,null,null,null,null,null,null,null,null,null,null,null,null,null,null,null,null,null,null,null,null,null,null,null,null,null,null,null,null,null,null,null,null,null,null,null,null,null,null,null,null,null,null,null,null,null,null,null,null,null,null,null,null,null,null,null,null,null,null,null,null,null,null,null,null,null,null,null,null,null,null,null,null,null,null,null,null,{"$f":"E164","v":""}]
[170,3.7446948913362732,4.4641817735593659,null,null,null,null,null,null,null,null,null,null,null,null,null,null,null,null,null,null,null,null,null,null,null,null,null,null,null,null,null,null,null,null,null,null,null,null,null,null,null,null,null,null,null,null,null,null,null,null,null,null,null,null,null,null,null,null,null,null,null,null,null,null,null,null,null,null,null,null,null,null,null,null,null,null,null,null,null,null,null,null,null,null,null,null,null,null,null,null,null,null,null,null,null,null,null,null,null,null,null,null,null,null,null,null,null,null,null,null,null,null,null,null,null,null,null,null,null,null,null,null,null,null,null,null,null,null,null,null,null,null,null,null,null,null,null,null,null,null,null,null,null,null,null,null,null,null,null,null,null,null,null,null,null,null,null,null,null,null,null,null,null,null,null,null,null,null,null,null,null,null,null,null,null,null,null,null,null,null,null,null,null,null,null,null,null,null,null,null,null,null,null,null,null,null,null,null,null,null,null,null,null,null,null,null,null,null,null,null,null,null,null,null,null,null,null,null,null,null,null,null,null,null,null,null,null,null,null,null,null,null,null,null,null,null,null,null,null,null,null,null,null,null,null,null,null,null,null,null,null,null,null,null,{"$f":"H164","v":""}]
[171,8.7780746245692143,13.506420648081406,null,null,null,null,null,null,null,null,null,null,null,null,null,null,null,null,null,null,null,null,null,null,null,null,null,null,null,null,null,null,null,null,null,null,null,null,null,null,null,null,null,null,null,null,null,null,null,null,null,null,null,null,null,null,null,null,null,null,null,null,null,null,null,null,null,null,null,null,null,null,null,null,null,null,null,null,null,null,null,null,null,null,null,null,null,null,null,null,null,null,null,null,null,null,null,null,null,null,null,null,null,null,null,null,null,null,null,null,null,null,null,null,null,null,null,null,null,null,null,null,null,null,null,null,null,null,null,null,null,null,null,null,null,null,null,null,null,null,null,null,null,null,null,null,null,null,null,null,null,null,null,null,null,null,null,null,null,null,null,null,null,null,null,null,null,null,null,null,null,null,null,null,null,null,null,null,null,null,null,null,null,null,null,null,null,null,null,null,null,null,null,null,null,null,null,null,null,null,null,null,null,null,null,null,null,null,null,null,null,null,null,null,null,null,null,null,null,null,null,null,null,null,null,null,null,null,null,null,null,null,null,null,null,null,null,null,null,null,null,null,null,null,null,null,null,null,null,null,null,null,null,null,{"$f":"K$164","v":""}]
[172,7.3103128496753573,10.56882331609917,null,null,null,null,null,null,null,null,null,null,null,null,null,null,null,null,null,null,null,null,null,null,null,null,null,null,null,null,null,null,null,null,null,null,null,null,null,null,null,null,null,null,null,null,null,null,null,null,null,null,null,null,null,null,null,null,null,null,null,null,null,null,null,null,null,null,null,null,null,null,null,null,null,null,null,null,null,null,null,null,null,null,null,null,null,null,null,null,null,null,null,null,null,null,null,null,null,null,null,null,null,null,null,null,null,null,null,null,null,null,null,null,null,null,null,null,null,null,null,null,null,null,null,null,null,null,null,null,null,null,null,null,null,null,null,null,null,null,null,null,null,null,null,null,null,null,null,null,null,null,null,null,null,null,null,null,null,null,null,null,null,null,null,null,null,null,null,null,null,null,null,null,null,null,null,null,null,null,null,null,null,null,null,null,null,null,null,null,null,null,null,null,null,null,null,null,null,null,null,null,null,null,null,null,null,null,null,null,null,null,null,null,null,null,null,null,null,null,null,null,null,null,null,null,null,null,null,null,null,null,null,null,null,null,null,null,null,null,null,null,null,null,null,null,null,null,null,null,null,null,null,null,{"$f":"N$164","v":""}]
[173,4.2856205396178044,5.7101114324544113,null,null,null,null,null,null,null,null,null,null,null,null,null,null,null,null,null,null,null,null,null,null,null,null,null,null,null,null,null,null,null,null,null,null,null,null,null,null,null,null,null,null,null,null,null,null,null,null,null,null,null,null,null,null,null,null,null,null,null,null,null,null,null,null,null,null,null,null,null,null,null,null,null,null,null,null,null,null,null,null,null,null,null,null,null,null,null,null,null,null,null,null,null,null,null,null,null,null,null,null,null,null,null,null,null,null,null,null,null,null,null,null,null,null,null,null,null,null,null,null,null,null,null,null,null,null,null,null,null,null,null,null,null,null,null,null,null,null,null,null,null,null,null,null,null,null,null,null,null,null,null,null,null,null,null,null,null,null,null,null,null,null,null,null,null,null,null,null,null,null,null,null,null,null,null,null,null,null,null,null,null,null,null,null,null,null,null,null,null,null,null,null,null,null,null,null,null,null,null,null,null,null,null,null,null,null,null,null,null,null,null,null,null,null,null,null,null,null,null,null,null,null,null,null,null,null,null,null,null,null,null,null,null,null,null,null,null,null,null,null,null,null,null,null,null,null,null,null,null,null,null,null,{"$f":"Q$164","v":""}]
[174,6.3223547334367414,8.2132773358906981,null,null,null,null,null,null,null,null,null,null,null,null,null,null,null,null,null,null,null,null,null,null,null,null,null,null,null,null,null,null,null,null,null,null,null,null,null,null,null,null,null,null,null,null,null,null,null,null,null,null,null,null,null,null,null,null,null,null,null,null,null,null,null,null,null,null,null,null,null,null,null,null,null,null,null,null,null,null,null,null,null,null,null,null,null,null,null,null,null,null,null,null,null,null,null,null,null,null,null,null,null,null,null,null,null,null,null,null,null,null,null,null,null,null,null,null,null,null,null,null,null,null,null,null,null,null,null,null,null,null,null,null,null,null,null,null,null,null,null,null,null,null,null,null,null,null,null,null,null,null,null,null,null,null,null,null,null,null,null,null,null,null,null,null,null,null,null,null,null,null,null,null,null,null,null,null,null,null,null,null,null,null,null,null,null,null,null,null,null,null,null,null,null,null,null,null,null,null,null,null,null,null,null,null,null,null,null,null,null,null,null,null,null,null,null,null,null,null,null,null,null,null,null,null,null,null,null,null,null,null,null,null,null,null,null,null,null,null,null,null,null,null,null,null,null,null,null,null,null,null,null,null,{"$f":"T$164","v":""}]
[175,2.2315282967237082,2.4042547655017708,null,null,null,null,null,null,null,null,null,null,null,null,null,null,null,null,null,null,null,null,null,null,null,null,null,null,null,null,null,null,null,null,null,null,null,null,null,null,null,null,null,null,null,null,null,null,null,null,null,null,null,null,null,null,null,null,null,null,null,null,null,null,null,null,null,null,null,null,null,null,null,null,null,null,null,null,null,null,null,null,null,null,null,null,null,null,null,null,null,null,null,null,null,null,null,null,null,null,null,null,null,null,null,null,null,null,null,null,null,null,null,null,null,null,null,null,null,null,null,null,null,null,null,null,null,null,null,null,null,null,null,null,null,null,null,null,null,null,null,null,null,null,null,null,null,null,null,null,null,null,null,null,null,null,null,null,null,null,null,null,null,null,null,null,null,null,null,null,null,null,null,null,null,null,null,null,null,null,null,null,null,null,null,null,null,null,null,null,null,null,null,null,null,null,null,null,null,null,null,null,null,null,null,null,null,null,null,null,null,null,null,null,null,null,null,null,null,null,null,null,null,null,null,null,null,null,null,null,null,null,null,null,null,null,null,null,null,null,null,null,null,null,null,null,null,null,null,null,null,null,null,null,{"$f":"W$164","v":""}]
[176,3.50680669059515,4.9167801990209981,null,null,null,null,null,null,null,null,null,null,null,null,null,null,null,null,null,null,null,null,null,null,null,null,null,null,null,null,null,null,null,null,null,null,null,null,null,null,null,null,null,null,null,null,null,null,null,null,null,null,null,null,null,null,null,null,null,null,null,null,null,null,null,null,null,null,null,null,null,null,null,null,null,null,null,null,null,null,null,null,null,null,null,null,null,null,null,null,null,null,null,null,null,null,null,null,null,null,null,null,null,null,null,null,null,null,null,null,null,null,null,null,null,null,null,null,null,null,null,null,null,null,null,null,null,null,null,null,null,null,null,null,null,null,null,null,null,null,null,null,null,null,null,null,null,null,null,null,null,null,null,null,null,null,null,null,null,null,null,null,null,null,null,null,null,null,null,null,null,null,null,null,null,null,null,null,null,null,null,null,null,null,null,null,null,null,null,null,null,null,null,null,null,null,null,null,null,null,null,null,null,null,null,null,null,null,null,null,null,null,null,null,null,null,null,null,null,null,null,null,null,null,null,null,null,null,null,null,null,null,null,null,null,null,null,null,null,null,null,null,null,null,null,null,null,null,null,null,null,null,null,null,{"$f":"Z$164","v":""}]
[177,5.3679291962647957,6.5109667962489217,null,null,null,null,null,null,null,null,null,null,null,null,null,null,null,null,null,null,null,null,null,null,null,null,null,null,null,null,null,null,null,null,null,null,null,null,null,null,null,null,null,null,null,null,null,null,null,null,null,null,null,null,null,null,null,null,null,null,null,null,null,null,null,null,null,null,null,null,null,null,null,null,null,null,null,null,null,null,null,null,null,null,null,null,null,null,null,null,null,null,null,null,null,null,null,null,null,null,null,null,null,null,null,null,null,null,null,null,null,null,null,null,null,null,null,null,null,null,null,null,null,null,null,null,null,null,null,null,null,null,null,null,null,null,null,null,null,null,null,null,null,null,null,null,null,null,null,null,null,null,null,null,null,null,null,null,null,null,null,null,null,null,null,null,null,null,null,null,null,null,null,null,null,null,null,null,null,null,null,null,null,null,null,null,null,null,null,null,null,null,null,null,null,null,null,null,null,null,null,null,null,null,null,null,null,null,null,null,null,null,null,null,null,null,null,null,null,null,null,null,null,null,null,null,null,null,null,null,null,null,null,null,null,null,null,null,null,null,null,null,null,null,null,null,null,null,null,null,null,null,null,null,{"$f":"AC$164","v":""}]
[178,7.2518105835745672,11.875647018657912,null,null,null,null,null,null,null,null,null,null,null,null,null,null,null,null,null,null,null,null,null,null,null,null,null,null,null,null,null,null,null,null,null,null,null,null,null,null,null,null,null,null,null,null,null,null,null,null,null,null,null,null,null,null,null,null,null,null,null,null,null,null,null,null,null,null,null,null,null,null,null,null,null,null,null,null,null,null,null,null,null,null,null,null,null,null,null,null,null,null,null,null,null,null,null,null,null,null,null,null,null,null,null,null,null,null,null,null,null,null,null,null,null,null,null,null,null,null,null,null,null,null,null,null,null,null,null,null,null,null,null,null,null,null,null,null,null,null,null,null,null,null,null,null,null,null,null,null,null,null,null,null,null,null,null,null,null,null,null,null,null,null,null,null,null,null,null,null,null,null,null,null,null,null,null,null,null,null,null,null,null,null,null,null,null,null,null,null,null,null,null,null,null,null,null,null,null,null,null,null,null,null,null,null,null,null,null,null,null,null,null,null,null,null,null,null,null,null,null,null,null,null,null,null,null,null,null,null,null,null,null,null,null,null,null,null,null,null,null,null,null,null,null,null,null,null,null,null,null,null,null,null,{"$f":"AF$164","v":""}]
[179,3.2648962740822185E-2,0.14112108804542001,null,null,null,null,null,null,null,null,null,null,null,null,null,null,null,null,null,null,null,null,null,null,null,null,null,null,null,null,null,null,null,null,null,null,null,null,null,null,null,null,null,null,null,null,null,null,null,null,null,null,null,null,null,null,null,null,null,null,null,null,null,null,null,null,null,null,null,null,null,null,null,null,null,null,null,null,null,null,null,null,null,null,null,null,null,null,null,null,null,null,null,null,null,null,null,null,null,null,null,null,null,null,null,null,null,null,null,null,null,null,null,null,null,null,null,null,null,null,null,null,null,null,null,null,null,null,null,null,null,null,null,null,null,null,null,null,null,null,null,null,null,null,null,null,null,null,null,null,null,null,null,null,null,null,null,null,null,null,null,null,null,null,null,null,null,null,null,null,null,null,null,null,null,null,null,null,null,null,null,null,null,null,null,null,null,null,null,null,null,null,null,null,null,null,null,null,null,null,null,null,null,null,null,null,null,null,null,null,null,null,null,null,null,null,null,null,null,null,null,null,null,null,null,null,null,null,null,null,null,null,null,null,null,null,null,null,null,null,null,null,null,null,null,null,null,null,null,null,null,null,null,null,{"$f":"AI$164","v":""}]
[180,3.1214132439063502,3.8316182739838296,null,null,null,null,null,null,null,null,null,null,null,null,null,null,null,null,null,null,null,null,null,null,null,null,null,null,null,null,null,null,null,null,null,null,null,null,null,null,null,null,null,null,null,null,null,null,null,null,null,null,null,null,null,null,null,null,null,null,null,null,null,null,null,null,null,null,null,null,null,null,null,null,null,null,null,null,null,null,null,null,null,null,null,null,null,null,null,null,null,null,null,null,null,null,null,null,null,null,null,null,null,null,null,null,null,null,null,null,null,null,null,null,null,null,null,null,null,null,null,null,null,null,null,null,null,null,null,null,null,null,null,null,null,null,null,null,null,null,null,null,null,null,null,null,null,null,null,null,null,null,null,null,null,null,null,null,null,null,null,null,null,null,null,null,null,null,null,null,null,null,null,null,null,null,null,null,null,null,null,null,null,null,null,null,null,null,null,null,null,null,null,null,null,null,null,null,null,null,null,null,null,null,null,null,null,null,null,null,null,null,null,null,null,null,null,null,null,null,null,null,null,null,null,null,null,null,null,null,null,null,null,null,null,null,null,null,null,null,null,null,null,null,null,null,null,null,null,null,null,null,null,null,{"$f":"AL$164","v":""}]
[181,6.2890043826908126,12.751292336237183,null,null,null,null,null,null,null,null,null,null,null,null,null,null,null,null,null,null,null,null,null,null,null,null,null,null,null,null,null,null,null,null,null,null,null,null,null,null,null,null,null,null,null,null,null,null,null,null,null,null,null,null,null,null,null,null,null,null,null,null,null,null,null,null,null,null,null,null,null,null,null,null,null,null,null,null,null,null,null,null,null,null,null,null,null,null,null,null,null,null,null,null,null,null,null,null,null,null,null,null,null,null,null,null,null,null,null,null,null,null,null,null,null,null,null,null,null,null,null,null,null,null,null,null,null,null,null,null,null,null,null,null,null,null,null,null,null,null,null,null,null,null,null,null,null,null,null,null,null,null,null,null,null,null,null,null,null,null,null,null,null,null,null,null,null,null,null,null,null,null,null,null,null,null,null,null,null,null,null,null,null,null,null,null,null,null,null,null,null,null,null,null,null,null,null,null,null,null,null,null,null,null,null,null,null,null,null,null,null,null,null,null,null,null,null,null,null,null,null,null,null,null,null,null,null,null,null,null,null,null,null,null,null,null,null,null,null,null,null,null,null,null,null,null,null,null,null,null,null,null,null,null,{"$f":"AO$164","v":""}]
[182,1.3086412443964068,3.6081103627702,null,null,null,null,null,null,null,null,null,null,null,null,null,null,null,null,null,null,null,null,null,null,null,null,null,null,null,null,null,null,null,null,null,null,null,null,null,null,null,null,null,null,null,null,null,null,null,null,null,null,null,null,null,null,null,null,null,null,null,null,null,null,null,null,null,null,null,null,null,null,null,null,null,null,null,null,null,null,null,null,null,null,null,null,null,null,null,null,null,null,null,null,null,null,null,null,null,null,null,null,null,null,null,null,null,null,null,null,null,null,null,null,null,null,null,null,null,null,null,null,null,null,null,null,null,null,null,null,null,null,null,null,null,null,null,null,null,null,null,null,null,null,null,null,null,null,null,null,null,null,null,null,null,null,null,null,null,null,null,null,null,null,null,null,null,null,null,null,null,null,null,null,null,null,null,null,null,null,null,null,null,null,null,null,null,null,null,null,null,null,null,null,null,null,null,null,null,null,null,null,null,null,null,null,null,null,null,null,null,null,null,null,null,null,null,null,null,null,null,null,null,null,null,null,null,null,null,null,null,null,null,null,null,null,null,null,null,null,null,null,null,null,null,null,null,null,null,null,null,null,null,null,{"$f":"AR$164","v":""}]
[183,2.3217560734071774,2.9248271345654651,null,null,null,null,null,null,null,null,null,null,null,null,null,null,null,null,null,null,null,null,null,null,null,null,null,null,null,null,null,null,null,null,null,null,null,null,null,null,null,null,null,null,null,null,null,null,null,null,null,null,null,null,null,null,null,null,null,null,null,null,null,null,null,null,null,null,null,null,null,null,null,null,null,null,null,null,null,null,null,null,null,null,null,null,null,null,null,null,null,null,null,null,null,null,null,null,null,null,null,null,null,null,null,null,null,null,null,null,null,null,null,null,null,null,null,null,null,null,null,null,null,null,null,null,null,null,null,null,null,null,null,null,null,null,null,null,null,null,null,null,null,null,null,null,null,null,null,null,null,null,null,null,null,null,null,null,null,null,null,null,null,null,null,null,null,null,null,null,null,null,null,null,null,null,null,null,null,null,null,null,null,null,null,null,null,null,null,null,null,null,null,null,null,null,null,null,null,null,null,null,null,null,null,null,null,null,null,null,null,null,null,null,null,null,null,null,null,null,null,null,null,null,null,null,null,null,null,null,null,null,null,null,null,null,null,null,null,null,null,null,null,null,null,null,null,null,null,null,null,null,null,null,{"$f":"AU$164","v":""}]
[184,0.14145823444282613,-0.83671946230057703,null,null,null,null,null,null,null,null,null,null,null,null,null,null,null,null,null,null,null,null,null,null,null,null,null,null,null,null,null,null,null,null,null,null,null,null,null,null,null,null,null,null,null,null,null,null,null,null,null,null,null,null,null,null,null,null,null,null,null,null,null,null,null,null,null,null,null,null,null,null,null,null,null,null,null,null,null,null,null,null,null,null,null,null,null,null,null,null,null,null,null,null,null,null,null,null,null,null,null,null,null,null,null,null,null,null,null,null,null,null,null,null,null,null,null,null,null,null,null,null,null,null,null,null,null,null,null,null,null,null,null,null,null,null,null,null,null,null,null,null,null,null,null,null,null,null,null,null,null,null,null,null,null,null,null,null,null,null,null,null,null,null,null,null,null,null,null,null,null,null,null,null,null,null,null,null,null,null,null,null,null,null,null,null,null,null,null,null,null,null,null,null,null,null,null,null,null,null,null,null,null,null,null,null,null,null,null,null,null,null,null,null,null,null,null,null,null,null,null,null,null,null,null,null,null,null,null,null,null,null,null,null,null,null,null,null,null,null,null,null,null,null,null,null,null,null,null,null,null,null,null,null,{"$f":"AX$164","v":""}]
[185,8.1699973206037448,11.341782431199082,null,null,null,null,null,null,null,null,null,null,null,null,null,null,null,null,null,null,null,null,null,null,null,null,null,null,null,null,null,null,null,null,null,null,null,null,null,null,null,null,null,null,null,null,null,null,null,null,null,null,null,null,null,null,null,null,null,null,null,null,null,null,null,null,null,null,null,null,null,null,null,null,null,null,null,null,null,null,null,null,null,null,null,null,null,null,null,null,null,null,null,null,null,null,null,null,null,null,null,null,null,null,null,null,null,null,null,null,null,null,null,null,null,null,null,null,null,null,null,null,null,null,null,null,null,null,null,null,null,null,null,null,null,null,null,null,null,null,null,null,null,null,null,null,null,null,null,null,null,null,null,null,null,null,null,null,null,null,null,null,null,null,null,null,null,null,null,null,null,null,null,null,null,null,null,null,null,null,null,null,null,null,null,null,null,null,null,null,null,null,null,null,null,null,null,null,null,null,null,null,null,null,null,null,null,null,null,null,null,null,null,null,null,null,null,null,null,null,null,null,null,null,null,null,null,null,null,null,null,null,null,null,null,null,null,null,null,null,null,null,null,null,null,null,null,null,null,null,null,null,null,null,{"$f":"BA$164","v":""}]
[186,8.0057885833686253,10.376369834430827,null,null,null,null,null,null,null,null,null,null,null,null,null,null,null,null,null,null,null,null,null,null,null,null,null,null,null,null,null,null,null,null,null,null,null,null,null,null,null,null,null,null,null,null,null,null,null,null,null,null,null,null,null,null,null,null,null,null,null,null,null,null,null,null,null,null,null,null,null,null,null,null,null,null,null,null,null,null,null,null,null,null,null,null,null,null,null,null,null,null,null,null,null,null,null,null,null,null,null,null,null,null,null,null,null,null,null,null,null,null,null,null,null,null,null,null,null,null,null,null,null,null,null,null,null,null,null,null,null,null,null,null,null,null,null,null,null,null,null,null,null,null,null,null,null,null,null,null,null,null,null,null,null,null,null,null,null,null,null,null,null,null,null,null,null,null,null,null,null,null,null,null,null,null,null,null,null,null,null,null,null,null,null,null,null,null,null,null,null,null,null,null,null,null,null,null,null,null,null,null,null,null,null,null,null,null,null,null,null,null,null,null,null,null,null,null,null,null,null,null,null,null,null,null,null,null,null,null,null,null,null,null,null,null,null,null,null,null,null,null,null,null,null,null,null,null,null,null,null,null,null,null,{"$f":"BD$164","v":""}]
[187,6.519533521942888,9.254708349873745,null,null,null,null,null,null,null,null,null,null,null,null,null,null,null,null,null,null,null,null,null,null,null,null,null,null,null,null,null,null,null,null,null,null,null,null,null,null,null,null,null,null,null,null,null,null,null,null,null,null,null,null,null,null,null,null,null,null,null,null,null,null,null,null,null,null,null,null,null,null,null,null,null,null,null,null,null,null,null,null,null,null,null,null,null,null,null,null,null,null,null,null,null,null,null,null,null,null,null,null,null,null,null,null,null,null,null,null,null,null,null,null,null,null,null,null,null,null,null,null,null,null,null,null,null,null,null,null,null,null,null,null,null,null,null,null,null,null,null,null,null,null,null,null,null,null,null,null,null,null,null,null,null,null,null,null,null,null,null,null,null,null,null,null,null,null,null,null,null,null,null,null,null,null,null,null,null,null,null,null,null,null,null,null,null,null,null,null,null,null,null,null,null,null,null,null,null,null,null,null,null,null,null,null,null,null,null,null,null,null,null,null,null,null,null,null,null,null,null,null,null,null,null,null,null,null,null,null,null,null,null,null,null,null,null,null,null,null,null,null,null,null,null,null,null,null,null,null,null,null,null,null,{"$f":"BG$164","v":""}]
[188,9.1345655578800589E-2,-1.4671504185821658,null,null,null,null,null,null,null,null,null,null,null,null,null,null,null,null,null,null,null,null,null,null,null,null,null,null,null,null,null,null,null,null,null,null,null,null,null,null,null,null,null,null,null,null,null,null,null,null,null,null,null,null,null,null,null,null,null,null,null,null,null,null,null,null,null,null,null,null,null,null,null,null,null,null,null,null,null,null,null,null,null,null,null,null,null,null,null,null,null,null,null,null,null,null,null,null,null,null,null,null,null,null,null,null,null,null,null,null,null,null,null,null,null,null,null,null,null,null,null,null,null,null,null,null,null,null,null,null,null,null,null,null,null,null,null,null,null,null,null,null,null,null,null,null,null,null,null,null,null,null,null,null,null,null,null,null,null,null,null,null,null,null,null,null,null,null,null,null,null,null,null,null,null,null,null,null,null,null,null,null,null,null,null,null,null,null,null,null,null,null,null,null,null,null,null,null,null,null,null,null,null,null,null,null,null,null,null,null,null,null,null,null,null,null,null,null,null,null,null,null,null,null,null,null,null,null,null,null,null,null,null,null,null,null,null,null,null,null,null,null,null,null,null,null,null,null,null,null,null,null,null,null,{"$f":"BJ$164","v":""}]
[189,1.101807709501168,0.46254609360549703,null,null,null,null,null,null,null,null,null,null,null,null,null,null,null,null,null,null,null,null,null,null,null,null,null,null,null,null,null,null,null,null,null,null,null,null,null,null,null,null,null,null,null,null,null,null,null,null,null,null,null,null,null,null,null,null,null,null,null,null,null,null,null,null,null,null,null,null,null,null,null,null,null,null,null,null,null,null,null,null,null,null,null,null,null,null,null,null,null,null,null,null,null,null,null,null,null,null,null,null,null,null,null,null,null,null,null,null,null,null,null,null,null,null,null,null,null,null,null,null,null,null,null,null,null,null,null,null,null,null,null,null,null,null,null,null,null,null,null,null,null,null,null,null,null,null,null,null,null,null,null,null,null,null,null,null,null,null,null,null,null,null,null,null,null,null,null,null,null,null,null,null,null,null,null,null,null,null,null,null,null,null,null,null,null,null,null,null,null,null,null,null,null,null,null,null,null,null,null,null,null,null,null,null,null,null,null,null,null,null,null,null,null,null,null,null,null,null,null,null,null,null,null,null,null,null,null,null,null,null,null,null,null,null,null,null,null,null,null,null,null,null,null,null,null,null,null,null,null,null,null,null,{"$f":"BM$164","v":""}]
[190,3.6099991361880601,5.9099133664434191,null,null,null,null,null,null,null,null,null,null,null,null,null,null,null,null,null,null,null,null,null,null,null,null,null,null,null,null,null,null,null,null,null,null,null,null,null,null,null,null,null,null,null,null,null,null,null,null,null,null,null,null,null,null,null,null,null,null,null,null,null,null,null,null,null,null,null,null,null,null,null,null,null,null,null,null,null,null,null,null,null,null,null,null,null,null,null,null,null,null,null,null,null,null,null,null,null,null,null,null,null,null,null,null,null,null,null,null,null,null,null,null,null,null,null,null,null,null,null,null,null,null,null,null,null,null,null,null,null,null,null,null,null,null,null,null,null,null,null,null,null,null,null,null,null,null,null,null,null,null,null,null,null,null,null,null,null,null,null,null,null,null,null,null,null,null,null,null,null,null,null,null,null,null,null,null,null,null,null,null,null,null,null,null,null,null,null,null,null,null,null,null,null,null,null,null,null,null,null,null,null,null,null,null,null,null,null,null,null,null,null,null,null,null,null,null,null,null,null,null,null,null,null,null,null,null,null,null,null,null,null,null,null,null,null,null,null,null,null,null,null,null,null,null,null,null,null,null,null,null,null,null,{"$f":"BP$164","v":""}]
[191,8.862057695934995,12.368626358792984,null,null,null,null,null,null,null,null,null,null,null,null,null,null,null,null,null,null,null,null,null,null,null,null,null,null,null,null,null,null,null,null,null,null,null,null,null,null,null,null,null,null,null,null,null,null,null,null,null,null,null,null,null,null,null,null,null,null,null,null,null,null,null,null,null,null,null,null,null,null,null,null,null,null,null,null,null,null,null,null,null,null,null,null,null,null,null,null,null,null,null,null,null,null,null,null,null,null,null,null,null,null,null,null,null,null,null,null,null,null,null,null,null,null,null,null,null,null,null,null,null,null,null,null,null,null,null,null,null,null,null,null,null,null,null,null,null,null,null,null,null,null,null,null,null,null,null,null,null,null,null,null,null,null,null,null,null,null,null,null,null,null,null,null,null,null,null,null,null,null,null,null,null,null,null,null,null,null,null,null,null,null,null,null,null,null,null,null,null,null,null,null,null,null,null,null,null,null,null,null,null,null,null,null,null,null,null,null,null,null,null,null,null,null,null,null,null,null,null,null,null,null,null,null,null,null,null,null,null,null,null,null,null,null,null,null,null,null,null,null,null,null,null,null,null,null,null,null,null,null,null,null,{"$f":"BS$164","v":""}]
[192,6.6372141472336654,9.0381054897906381,null,null,null,null,null,null,null,null,null,null,null,null,null,null,null,null,null,null,null,null,null,null,null,null,null,null,null,null,null,null,null,null,null,null,null,null,null,null,null,null,null,null,null,null,null,null,null,null,null,null,null,null,null,null,null,null,null,null,null,null,null,null,null,null,null,null,null,null,null,null,null,null,null,null,null,null,null,null,null,null,null,null,null,null,null,null,null,null,null,null,null,null,null,null,null,null,null,null,null,null,null,null,null,null,null,null,null,null,null,null,null,null,null,null,null,null,null,null,null,null,null,null,null,null,null,null,null,null,null,null,null,null,null,null,null,null,null,null,null,null,null,null,null,null,null,null,null,null,null,null,null,null,null,null,null,null,null,null,null,null,null,null,null,null,null,null,null,null,null,null,null,null,null,null,null,null,null,null,null,null,null,null,null,null,null,null,null,null,null,null,null,null,null,null,null,null,null,null,null,null,null,null,null,null,null,null,null,null,null,null,null,null,null,null,null,null,null,null,null,null,null,null,null,null,null,null,null,null,null,null,null,null,null,null,null,null,null,null,null,null,null,null,null,null,null,null,null,null,null,null,null,null,{"$f":"BV$164","v":""}]
[193,7.3238383677391106,9.8486686017351293,null,null,null,null,null,null,null,null,null,null,null,null,null,null,null,null,null,null,null,null,null,null,null,null,null,null,null,null,null,null,null,null,null,null,null,null,null,null,null,null,null,null,null,null,null,null,null,null,null,null,null,null,null,null,null,null,null,null,null,null,null,null,null,null,null,null,null,null,null,null,null,null,null,null,null,null,null,null,null,null,null,null,null,null,null,null,null,null,null,null,null,null,null,null,null,null,null,null,null,null,null,null,null,null,null,null,null,null,null,null,null,null,null,null,null,null,null,null,null,null,null,null,null,null,null,null,null,null,null,null,null,null,null,null,null,null,null,null,null,null,null,null,null,null,null,null,null,null,null,null,null,null,null,null,null,null,null,null,null,null,null,null,null,null,null,null,null,null,null,null,null,null,null,null,null,null,null,null,null,null,null,null,null,null,null,null,null,null,null,null,null,null,null,null,null,null,null,null,null,null,null,null,null,null,null,null,null,null,null,null,null,null,null,null,null,null,null,null,null,null,null,null,null,null,null,null,null,null,null,null,null,null,null,null,null,null,null,null,null,null,null,null,null,null,null,null,null,null,null,null,null,null,{"$f":"BY$164","v":""}]
[194,3.6183896033488883,4.3987562597794678,null,null,null,null,null,null,null,null,null,null,null,null,null,null,null,null,null,null,null,null,null,null,null,null,null,null,null,null,null,null,null,null,null,null,null,null,null,null,null,null,null,null,null,null,null,null,null,null,null,null,null,null,null,null,null,null,null,null,null,null,null,null,null,null,null,null,null,null,null,null,null,null,null,null,null,null,null,null,null,null,null,null,null,null,null,null,null,null,null,null,null,null,null,null,null,null,null,null,null,null,null,null,null,null,null,null,null,null,null,null,null,null,null,null,null,null,null,null,null,null,null,null,null,null,null,null,null,null,null,null,null,null,null,null,null,null,null,null,null,null,null,null,null,null,null,null,null,null,null,null,null,null,null,null,null,null,null,null,null,null,null,null,null,null,null,null,null,null,null,null,null,null,null,null,null,null,null,null,null,null,null,null,null,null,null,null,null,null,null,null,null,null,null,null,null,null,null,null,null,null,null,null,null,null,null,null,null,null,null,null,null,null,null,null,null,null,null,null,null,null,null,null,null,null,null,null,null,null,null,null,null,null,null,null,null,null,null,null,null,null,null,null,null,null,null,null,null,null,null,null,null,null,{"$f":"CB$164","v":""}]
[195,7.8962395661564555,10.467689897148318,null,null,null,null,null,null,null,null,null,null,null,null,null,null,null,null,null,null,null,null,null,null,null,null,null,null,null,null,null,null,null,null,null,null,null,null,null,null,null,null,null,null,null,null,null,null,null,null,null,null,null,null,null,null,null,null,null,null,null,null,null,null,null,null,null,null,null,null,null,null,null,null,null,null,null,null,null,null,null,null,null,null,null,null,null,null,null,null,null,null,null,null,null,null,null,null,null,null,null,null,null,null,null,null,null,null,null,null,null,null,null,null,null,null,null,null,null,null,null,null,null,null,null,null,null,null,null,null,null,null,null,null,null,null,null,null,null,null,null,null,null,null,null,null,null,null,null,null,null,null,null,null,null,null,null,null,null,null,null,null,null,null,null,null,null,null,null,null,null,null,null,null,null,null,null,null,null,null,null,null,null,null,null,null,null,null,null,null,null,null,null,null,null,null,null,null,null,null,null,null,null,null,null,null,null,null,null,null,null,null,null,null,null,null,null,null,null,null,null,null,null,null,null,null,null,null,null,null,null,null,null,null,null,null,null,null,null,null,null,null,null,null,null,null,null,null,null,null,null,null,null,null,{"$f":"CE$164","v":""}]
[196,0.76803770988060238,-0.17529515458519196,null,null,null,null,null,null,null,null,null,null,null,null,null,null,null,null,null,null,null,null,null,null,null,null,null,null,null,null,null,null,null,null,null,null,null,null,null,null,null,null,null,null,null,null,null,null,null,null,null,null,null,null,null,null,null,null,null,null,null,null,null,null,null,null,null,null,null,null,null,null,null,null,null,null,null,null,null,null,null,null,null,null,null,null,null,null,null,null,null,null,null,null,null,null,null,null,null,null,null,null,null,null,null,null,null,null,null,null,null,null,null,null,null,null,null,null,null,null,null,null,null,null,null,null,null,null,null,null,null,null,null,null,null,null,null,null,null,null,null,null,null,null,null,null,null,null,null,null,null,null,null,null,null,null,null,null,null,null,null,null,null,null,null,null,null,null,null,null,null,null,null,null,null,null,null,null,null,null,null,null,null,null,null,null,null,null,null,null,null,null,null,null,null,null,null,null,null,null,null,null,null,null,null,null,null,null,null,null,null,null,null,null,null,null,null,null,null,null,null,null,null,null,null,null,null,null,null,null,null,null,null,null,null,null,null,null,null,null,null,null,null,null,null,null,null,null,null,null,null,null,null,null,{"$f":"CH$164","v":""}]
[197,3.0020486930644386,4.4511516805145366,null,null,null,null,null,null,null,null,null,null,null,null,null,null,null,null,null,null,null,null,null,null,null,null,null,null,null,null,null,null,null,null,null,null,null,null,null,null,null,null,null,null,null,null,null,null,null,null,null,null,null,null,null,null,null,null,null,null,null,null,null,null,null,null,null,null,null,null,null,null,null,null,null,null,null,null,null,null,null,null,null,null,null,null,null,null,null,null,null,null,null,null,null,null,null,null,null,null,null,null,null,null,null,null,null,null,null,null,null,null,null,null,null,null,null,null,null,null,null,null,null,null,null,null,null,null,null,null,null,null,null,null,null,null,null,null,null,null,null,null,null,null,null,null,null,null,null,null,null,null,null,null,null,null,null,null,null,null,null,null,null,null,null,null,null,null,null,null,null,null,null,null,null,null,null,null,null,null,null,null,null,null,null,null,null,null,null,null,null,null,null,null,null,null,null,null,null,null,null,null,null,null,null,null,null,null,null,null,null,null,null,null,null,null,null,null,null,null,null,null,null,null,null,null,null,null,null,null,null,null,null,null,null,null,null,null,null,null,null,null,null,null,null,null,null,null,null,null,null,null,null,null,{"$f":"CK$164","v":""}]
[198,6.0178781402330994,7.3870964732148332,null,null,null,null,null,null,null,null,null,null,null,null,null,null,null,null,null,null,null,null,null,null,null,null,null,null,null,null,null,null,null,null,null,null,null,null,null,null,null,null,null,null,null,null,null,null,null,null,null,null,null,null,null,null,null,null,null,null,null,null,null,null,null,null,null,null,null,null,null,null,null,null,null,null,null,null,null,null,null,null,null,null,null,null,null,null,null,null,null,null,null,null,null,null,null,null,null,null,null,null,null,null,null,null,null,null,null,null,null,null,null,null,null,null,null,null,null,null,null,null,null,null,null,null,null,null,null,null,null,null,null,null,null,null,null,null,null,null,null,null,null,null,null,null,null,null,null,null,null,null,null,null,null,null,null,null,null,null,null,null,null,null,null,null,null,null,null,null,null,null,null,null,null,null,null,null,null,null,null,null,null,null,null,null,null,null,null,null,null,null,null,null,null,null,null,null,null,null,null,null,null,null,null,null,null,null,null,null,null,null,null,null,null,null,null,null,null,null,null,null,null,null,null,null,null,null,null,null,null,null,null,null,null,null,null,null,null,null,null,null,null,null,null,null,null,null,null,null,null,null,null,null,{"$f":"CN$164","v":""}]
[199,1.6954447009960338,1.7662608069999726,null,null,null,null,null,null,null,null,null,null,null,null,null,null,null,null,null,null,null,null,null,null,null,null,null,null,null,null,null,null,null,null,null,null,null,null,null,null,null,null,null,null,null,null,null,null,null,null,null,null,null,null,null,null,null,null,null,null,null,null,null,null,null,null,null,null,null,null,null,null,null,null,null,null,null,null,null,null,null,null,null,null,null,null,null,null,null,null,null,null,null,null,null,null,null,null,null,null,null,null,null,null,null,null,null,null,null,null,null,null,null,null,null,null,null,null,null,null,null,null,null,null,null,null,null,null,null,null,null,null,null,null,null,null,null,null,null,null,null,null,null,null,null,null,null,null,null,null,null,null,null,null,null,null,null,null,null,null,null,null,null,null,null,null,null,null,null,null,null,null,null,null,null,null,null,null,null,null,null,null,null,null,null,null,null,null,null,null,null,null,null,null,null,null,null,null,null,null,null,null,null,null,null,null,null,null,null,null,null,null,null,null,null,null,null,null,null,null,null,null,null,null,null,null,null,null,null,null,null,null,null,null,null,null,null,null,null,null,null,null,null,null,null,null,null,null,null,null,null,null,null,null,{"$f":"CQ$164","v":""}]
[200,4.0071369326860351,5.8149025862845107,null,null,null,null,null,null,null,null,null,null,null,null,null,null,null,null,null,null,null,null,null,null,null,null,null,null,null,null,null,null,null,null,null,null,null,null,null,null,null,null,null,null,null,null,null,null,null,null,null,null,null,null,null,null,null,null,null,null,null,null,null,null,null,null,null,null,null,null,null,null,null,null,null,null,null,null,null,null,null,null,null,null,null,null,null,null,null,null,null,null,null,null,null,null,null,null,null,null,null,null,null,null,null,null,null,null,null,null,null,null,null,null,null,null,null,null,null,null,null,null,null,null,null,null,null,null,null,null,null,null,null,null,null,null,null,null,null,null,null,null,null,null,null,null,null,null,null,null,null,null,null,null,null,null,null,null,null,null,null,null,null,null,null,null,null,null,null,null,null,null,null,null,null,null,null,null,null,null,null,null,null,null,null,null,null,null,null,null,null,null,null,null,null,null,null,null,null,null,null,null,null,null,null,null,null,null,null,null,null,null,null,null,null,null,null,null,null,null,null,null,null,null,null,null,null,null,null,null,null,null,null,null,null,null,null,null,null,null,null,null,null,null,null,null,null,null,null,null,null,null,null,null,{"$f":"CT$164","v":""}]
[201,1.9686569618121053,1.9841783753660602,null,null,null,null,null,null,null,null,null,null,null,null,null,null,null,null,null,null,null,null,null,null,null,null,null,null,null,null,null,null,null,null,null,null,null,null,null,null,null,null,null,null,null,null,null,null,null,null,null,null,null,null,null,null,null,null,null,null,null,null,null,null,null,null,null,null,null,null,null,null,null,null,null,null,null,null,null,null,null,null,null,null,null,null,null,null,null,null,null,null,null,null,null,null,null,null,null,null,null,null,null,null,null,null,null,null,null,null,null,null,null,null,null,null,null,null,null,null,null,null,null,null,null,null,null,null,null,null,null,null,null,null,null,null,null,null,null,null,null,null,null,null,null,null,null,null,null,null,null,null,null,null,null,null,null,null,null,null,null,null,null,null,null,null,null,null,null,null,null,null,null,null,null,null,null,null,null,null,null,null,null,null,null,null,null,null,null,null,null,null,null,null,null,null,null,null,null,null,null,null,null,null,null,null,null,null,null,null,null,null,null,null,null,null,null,null,null,null,null,null,null,null,null,null,null,null,null,null,null,null,null,null,null,null,null,null,null,null,null,null,null,null,null,null,null,null,null,null,null,null,null,null,{"$f":"CW$164","v":""}]
[202,6.996969959662005,8.8053679620889831,null,null,null,null,null,null,null,null,null,null,null,null,null,null,null,null,null,null,null,null,null,null,null,null,null,null,null,null,null,null,null,null,null,null,null,null,null,null,null,null,null,null,null,null,null,null,null,null,null,null,null,null,null,null,null,null,null,null,null,null,null,null,null,null,null,null,null,null,null,null,null,null,null,null,null,null,null,null,null,null,null,null,null,null,null,null,null,null,null,null,null,null,null,null,null,null,null,null,null,null,null,null,null,null,null,null,null,null,null,null,null,null,null,null,null,null,null,null,null,null,null,null,null,null,null,null,null,null,null,null,null,null,null,null,null,null,null,null,null,null,null,null,null,null,null,null,null,null,null,null,null,null,null,null,null,null,null,null,null,null,null,null,null,null,null,null,null,null,null,null,null,null,null,null,null,null,null,null,null,null,null,null,null,null,null,null,null,null,null,null,null,null,null,null,null,null,null,null,null,null,null,null,null,null,null,null,null,null,null,null,null,null,null,null,null,null,null,null,null,null,null,null,null,null,null,null,null,null,null,null,null,null,null,null,null,null,null,null,null,null,null,null,null,null,null,null,null,null,null,null,null,null,{"$f":"CZ$164","v":""}]
[203,5.9881481452474805,8.7308597667403127,null,null,null,null,null,null,null,null,null,null,null,null,null,null,null,null,null,null,null,null,null,null,null,null,null,null,null,null,null,null,null,null,null,null,null,null,null,null,null,null,null,null,null,null,null,null,null,null,null,null,null,null,null,null,null,null,null,null,null,null,null,null,null,null,null,null,null,null,null,null,null,null,null,null,null,null,null,null,null,null,null,null,null,null,null,null,null,null,null,null,null,null,null,null,null,null,null,null,null,null,null,null,null,null,null,null,null,null,null,null,null,null,null,null,null,null,null,null,null,null,null,null,null,null,null,null,null,null,null,null,null,null,null,null,null,null,null,null,null,null,null,null,null,null,null,null,null,null,null,null,null,null,null,null,null,null,null,null,null,null,null,null,null,null,null,null,null,null,null,null,null,null,null,null,null,null,null,null,null,null,null,null,null,null,null,null,null,null,null,null,null,null,null,null,null,null,null,null,null,null,null,null,null,null,null,null,null,null,null,null,null,null,null,null,null,null,null,null,null,null,null,null,null,null,null,null,null,null,null,null,null,null,null,null,null,null,null,null,null,null,null,null,null,null,null,null,null,null,null,null,null,null,{"$f":"DC$164","v":""}]
[204,3.308265585188872,6.8379327276228423,null,null,null,null,null,null,null,null,null,null,null,null,null,null,null,null,null,null,null,null,null,null,null,null,null,null,null,null,null,null,null,null,null,null,null,null,null,null,null,null,null,null,null,null,null,null,null,null,null,null,null,null,null,null,null,null,null,null,null,null,null,null,null,null,null,null,null,null,null,null,null,null,null,null,null,null,null,null,null,null,null,null,null,null,null,null,null,null,null,null,null,null,null,null,null,null,null,null,null,null,null,null,null,null,null,null,null,null,null,null,null,null,null,null,null,null,null,null,null,null,null,null,null,null,null,null,null,null,null,null,null,null,null,null,null,null,null,null,null,null,null,null,null,null,null,null,null,null,null,null,null,null,null,null,null,null,null,null,null,null,null,null,null,null,null,null,null,null,null,null,null,null,null,null,null,null,null,null,null,null,null,null,null,null,null,null,null,null,null,null,null,null,null,null,null,null,null,null,null,null,null,null,null,null,null,null,null,null,null,null,null,null,null,null,null,null,null,null,null,null,null,null,null,null,null,null,null,null,null,null,null,null,null,null,null,null,null,null,null,null,null,null,null,null,null,null,null,null,null,null,null,null,{"$f":"DF$164","v":""}]
[205,9.041516206091643,12.043639779605522,null,null,null,null,null,null,null,null,null,null,null,null,null,null,null,null,null,null,null,null,null,null,null,null,null,null,null,null,null,null,null,null,null,null,null,null,null,null,null,null,null,null,null,null,null,null,null,null,null,null,null,null,null,null,null,null,null,null,null,null,null,null,null,null,null,null,null,null,null,null,null,null,null,null,null,null,null,null,null,null,null,null,null,null,null,null,null,null,null,null,null,null,null,null,null,null,null,null,null,null,null,null,null,null,null,null,null,null,null,null,null,null,null,null,null,null,null,null,null,null,null,null,null,null,null,null,null,null,null,null,null,null,null,null,null,null,null,null,null,null,null,null,null,null,null,null,null,null,null,null,null,null,null,null,null,null,null,null,null,null,null,null,null,null,null,null,null,null,null,null,null,null,null,null,null,null,null,null,null,null,null,null,null,null,null,null,null,null,null,null,null,null,null,null,null,null,null,null,null,null,null,null,null,null,null,null,null,null,null,null,null,null,null,null,null,null,null,null,null,null,null,null,null,null,null,null,null,null,null,null,null,null,null,null,null,null,null,null,null,null,null,null,null,null,null,null,null,null,null,null,null,null,{"$f":"DI$164","v":""}]
[206,6.5727778271282133,8.7475985828241836,null,null,null,null,null,null,null,null,null,null,null,null,null,null,null,null,null,null,null,null,null,null,null,null,null,null,null,null,null,null,null,null,null,null,null,null,null,null,null,null,null,null,null,null,null,null,null,null,null,null,null,null,null,null,null,null,null,null,null,null,null,null,null,null,null,null,null,null,null,null,null,null,null,null,null,null,null,null,null,null,null,null,null,null,null,null,null,null,null,null,null,null,null,null,null,null,null,null,null,null,null,null,null,null,null,null,null,null,null,null,null,null,null,null,null,null,null,null,null,null,null,null,null,null,null,null,null,null,null,null,null,null,null,null,null,null,null,null,null,null,null,null,null,null,null,null,null,null,null,null,null,null,null,null,null,null,null,null,null,null,null,null,null,null,null,null,null,null,null,null,null,null,null,null,null,null,null,null,null,null,null,null,null,null,null,null,null,null,null,null,null,null,null,null,null,null,null,null,null,null,null,null,null,null,null,null,null,null,null,null,null,null,null,null,null,null,null,null,null,null,null,null,null,null,null,null,null,null,null,null,null,null,null,null,null,null,null,null,null,null,null,null,null,null,null,null,null,null,null,null,null,null,{"$f":"DL$164","v":""}]
[207,0.38803442786040421,-0.84365506804234947,null,null,null,null,null,null,null,null,null,null,null,null,null,null,null,null,null,null,null,null,null,null,null,null,null,null,null,null,null,null,null,null,null,null,null,null,null,null,null,null,null,null,null,null,null,null,null,null,null,null,null,null,null,null,null,null,null,null,null,null,null,null,null,null,null,null,null,null,null,null,null,null,null,null,null,null,null,null,null,null,null,null,null,null,null,null,null,null,null,null,null,null,null,null,null,null,null,null,null,null,null,null,null,null,null,null,null,null,null,null,null,null,null,null,null,null,null,null,null,null,null,null,null,null,null,null,null,null,null,null,null,null,null,null,null,null,null,null,null,null,null,null,null,null,null,null,null,null,null,null,null,null,null,null,null,null,null,null,null,null,null,null,null,null,null,null,null,null,null,null,null,null,null,null,null,null,null,null,null,null,null,null,null,null,null,null,null,null,null,null,null,null,null,null,null,null,null,null,null,null,null,null,null,null,null,null,null,null,null,null,null,null,null,null,null,null,null,null,null,null,null,null,null,null,null,null,null,null,null,null,null,null,null,null,null,null,null,null,null,null,null,null,null,null,null,null,null,null,null,null,null,null,{"$f":"DO$164","v":""}]
[208,1.5051788029239521,4.9638057506063475,null,null,null,null,null,null,null,null,null,null,null,null,null,null,null,null,null,null,null,null,null,null,null,null,null,null,null,null,null,null,null,null,null,null,null,null,null,null,null,null,null,null,null,null,null,null,null,null,null,null,null,null,null,null,null,null,null,null,null,null,null,null,null,null,null,null,null,null,null,null,null,null,null,null,null,null,null,null,null,null,null,null,null,null,null,null,null,null,null,null,null,null,null,null,null,null,null,null,null,null,null,null,null,null,null,null,null,null,null,null,null,null,null,null,null,null,null,null,null,null,null,null,null,null,null,null,null,null,null,null,null,null,null,null,null,null,null,null,null,null,null,null,null,null,null,null,null,null,null,null,null,null,null,null,null,null,null,null,null,null,null,null,null,null,null,null,null,null,null,null,null,null,null,null,null,null,null,null,null,null,null,null,null,null,null,null,null,null,null,null,null,null,null,null,null,null,null,null,null,null,null,null,null,null,null,null,null,null,null,null,null,null,null,null,null,null,null,null,null,null,null,null,null,null,null,null,null,null,null,null,null,null,null,null,null,null,null,null,null,null,null,null,null,null,null,null,null,null,null,null,null,null,{"$f":"DR$164","v":""}]
[209,5.4429712832420085,7.6258458572340526,null,null,null,null,null,null,null,null,null,null,null,null,null,null,null,null,null,null,null,null,null,null,null,null,null,null,null,null,null,null,null,null,null,null,null,null,null,null,null,null,null,null,null,null,null,null,null,null,null,null,null,null,null,null,null,null,null,null,null,null,null,null,null,null,null,null,null,null,null,null,null,null,null,null,null,null,null,null,null,null,null,null,null,null,null,null,null,null,null,null,null,null,null,null,null,null,null,null,null,null,null,null,null,null,null,null,null,null,null,null,null,null,null,null,null,null,null,null,null,null,null,null,null,null,null,null,null,null,null,null,null,null,null,null,null,null,null,null,null,null,null,null,null,null,null,null,null,null,null,null,null,null,null,null,null,null,null,null,null,null,null,null,null,null,null,null,null,null,null,null,null,null,null,null,null,null,null,null,null,null,null,null,null,null,null,null,null,null,null,null,null,null,null,null,null,null,null,null,null,null,null,null,null,null,null,null,null,null,null,null,null,null,null,null,null,null,null,null,null,null,null,null,null,null,null,null,null,null,null,null,null,null,null,null,null,null,null,null,null,null,null,null,null,null,null,null,null,null,null,null,null,null,{"$f":"DU$164","v":""}]
[210,9.4908536981671787,13.202516086178253,null,null,null,null,null,null,null,null,null,null,null,null,null,null,null,null,null,null,null,null,null,null,null,null,null,null,null,null,null,null,null,null,null,null,null,null,null,null,null,null,null,null,null,null,null,null,null,null,null,null,null,null,null,null,null,null,null,null,null,null,null,null,null,null,null,null,null,null,null,null,null,null,null,null,null,null,null,null,null,null,null,null,null,null,null,null,null,null,null,null,null,null,null,null,null,null,null,null,null,null,null,null,null,null,null,null,null,null,null,null,null,null,null,null,null,null,null,null,null,null,null,null,null,null,null,null,null,null,null,null,null,null,null,null,null,null,null,null,null,null,null,null,null,null,null,null,null,null,null,null,null,null,null,null,null,null,null,null,null,null,null,null,null,null,null,null,null,null,null,null,null,null,null,null,null,null,null,null,null,null,null,null,null,null,null,null,null,null,null,null,null,null,null,null,null,null,null,null,null,null,null,null,null,null,null,null,null,null,null,null,null,null,null,null,null,null,null,null,null,null,null,null,null,null,null,null,null,null,null,null,null,null,null,null,null,null,null,null,null,null,null,null,null,null,null,null,null,null,null,null,null,null,{"$f":"DX$164","v":""}]
[211,4.9689101028393967,6.5161516213616197,null,null,null,null,null,null,null,null,null,null,null,null,null,null,null,null,null,null,null,null,null,null,null,null,null,null,null,null,null,null,null,null,null,null,null,null,null,null,null,null,null,null,null,null,null,null,null,null,null,null,null,null,null,null,null,null,null,null,null,null,null,null,null,null,null,null,null,null,null,null,null,null,null,null,null,null,null,null,null,null,null,null,null,null,null,null,null,null,null,null,null,null,null,null,null,null,null,null,null,null,null,null,null,null,null,null,null,null,null,null,null,null,null,null,null,null,null,null,null,null,null,null,null,null,null,null,null,null,null,null,null,null,null,null,null,null,null,null,null,null,null,null,null,null,null,null,null,null,null,null,null,null,null,null,null,null,null,null,null,null,null,null,null,null,null,null,null,null,null,null,null,null,null,null,null,null,null,null,null,null,null,null,null,null,null,null,null,null,null,null,null,null,null,null,null,null,null,null,null,null,null,null,null,null,null,null,null,null,null,null,null,null,null,null,null,null,null,null,null,null,null,null,null,null,null,null,null,null,null,null,null,null,null,null,null,null,null,null,null,null,null,null,null,null,null,null,null,null,null,null,null,null,{"$f":"EA$164","v":""}]
[212,5.3654831771327327,6.4624929186485636,null,null,null,null,null,null,null,null,null,null,null,null,null,null,null,null,null,null,null,null,null,null,null,null,null,null,null,null,null,null,null,null,null,null,null,null,null,null,null,null,null,null,null,null,null,null,null,null,null,null,null,null,null,null,null,null,null,null,null,null,null,null,null,null,null,null,null,null,null,null,null,null,null,null,null,null,null,null,null,null,null,null,null,null,null,null,null,null,null,null,null,null,null,null,null,null,null,null,null,null,null,null,null,null,null,null,null,null,null,null,null,null,null,null,null,null,null,null,null,null,null,null,null,null,null,null,null,null,null,null,null,null,null,null,null,null,null,null,null,null,null,null,null,null,null,null,null,null,null,null,null,null,null,null,null,null,null,null,null,null,null,null,null,null,null,null,null,null,null,null,null,null,null,null,null,null,null,null,null,null,null,null,null,null,null,null,null,null,null,null,null,null,null,null,null,null,null,null,null,null,null,null,null,null,null,null,null,null,null,null,null,null,null,null,null,null,null,null,null,null,null,null,null,null,null,null,null,null,null,null,null,null,null,null,null,null,null,null,null,null,null,null,null,null,null,null,null,null,null,null,null,null,{"$f":"ED$164","v":""}]
[213,6.6983500438591488,10.792994407672209,null,null,null,null,null,null,null,null,null,null,null,null,null,null,null,null,null,null,null,null,null,null,null,null,null,null,null,null,null,null,null,null,null,null,null,null,null,null,null,null,null,null,null,null,null,null,null,null,null,null,null,null,null,null,null,null,null,null,null,null,null,null,null,null,null,null,null,null,null,null,null,null,null,null,null,null,null,null,null,null,null,null,null,null,null,null,null,null,null,null,null,null,null,null,null,null,null,null,null,null,null,null,null,null,null,null,null,null,null,null,null,null,null,null,null,null,null,null,null,null,null,null,null,null,null,null,null,null,null,null,null,null,null,null,null,null,null,null,null,null,null,null,null,null,null,null,null,null,null,null,null,null,null,null,null,null,null,null,null,null,null,null,null,null,null,null,null,null,null,null,null,null,null,null,null,null,null,null,null,null,null,null,null,null,null,null,null,null,null,null,null,null,null,null,null,null,null,null,null,null,null,null,null,null,null,null,null,null,null,null,null,null,null,null,null,null,null,null,null,null,null,null,null,null,null,null,null,null,null,null,null,null,null,null,null,null,null,null,null,null,null,null,null,null,null,null,null,null,null,null,null,null,{"$f":"EG$164","v":""}]
[214,1.6941838803347231,0.83294517643265431,null,null,null,null,null,null,null,null,null,null,null,null,null,null,null,null,null,null,null,null,null,null,null,null,null,null,null,null,null,null,null,null,null,null,null,null,null,null,null,null,null,null,null,null,null,null,null,null,null,null,null,null,null,null,null,null,null,null,null,null,null,null,null,null,null,null,null,null,null,null,null,null,null,null,null,null,null,null,null,null,null,null,null,null,null,null,null,null,null,null,null,null,null,null,null,null,null,null,null,null,null,null,null,null,null,null,null,null,null,null,null,null,null,null,null,null,null,null,null,null,null,null,null,null,null,null,null,null,null,null,null,null,null,null,null,null,null,null,null,null,null,null,null,null,null,null,null,null,null,null,null,null,null,null,null,null,null,null,null,null,null,null,null,null,null,null,null,null,null,null,null,null,null,null,null,null,null,null,null,null,null,null,null,null,null,null,null,null,null,null,null,null,null,null,null,null,null,null,null,null,null,null,null,null,null,null,null,null,null,null,null,null,null,null,null,null,null,null,null,null,null,null,null,null,null,null,null,null,null,null,null,null,null,null,null,null,null,null,null,null,null,null,null,null,null,null,null,null,null,null,null,null,{"$f":"EJ$164","v":""}]
[215,4.4844934000096437,10.497068403577201,null,null,null,null,null,null,null,null,null,null,null,null,null,null,null,null,null,null,null,null,null,null,null,null,null,null,null,null,null,null,null,null,null,null,null,null,null,null,null,null,null,null,null,null,null,null,null,null,null,null,null,null,null,null,null,null,null,null,null,null,null,null,null,null,null,null,null,null,null,null,null,null,null,null,null,null,null,null,null,null,null,null,null,null,null,null,null,null,null,null,null,null,null,null,null,null,null,null,null,null,null,null,null,null,null,null,null,null,null,null,null,null,null,null,null,null,null,null,null,null,null,null,null,null,null,null,null,null,null,null,null,null,null,null,null,null,null,null,null,null,null,null,null,null,null,null,null,null,null,null,null,null,null,null,null,null,null,null,null,null,null,null,null,null,null,null,null,null,null,null,null,null,null,null,null,null,null,null,null,null,null,null,null,null,null,null,null,null,null,null,null,null,null,null,null,null,null,null,null,null,null,null,null,null,null,null,null,null,null,null,null,null,null,null,null,null,null,null,null,null,null,null,null,null,null,null,null,null,null,null,null,null,null,null,null,null,null,null,null,null,null,null,null,null,null,null,null,null,null,null,null,null,{"$f":"EM$164","v":""}]
[216,7.8903828523821495,6.7415408013276004,null,null,null,null,null,null,null,null,null,null,null,null,null,null,null,null,null,null,null,null,null,null,null,null,null,null,null,null,null,null,null,null,null,null,null,null,null,null,null,null,null,null,null,null,null,null,null,null,null,null,null,null,null,null,null,null,null,null,null,null,null,null,null,null,null,null,null,null,null,null,null,null,null,null,null,null,null,null,null,null,null,null,null,null,null,null,null,null,null,null,null,null,null,null,null,null,null,null,null,null,null,null,null,null,null,null,null,null,null,null,null,null,null,null,null,null,null,null,null,null,null,null,null,null,null,null,null,null,null,null,null,null,null,null,null,null,null,null,null,null,null,null,null,null,null,null,null,null,null,null,null,null,null,null,null,null,null,null,null,null,null,null,null,null,null,null,null,null,null,null,null,null,null,null,null,null,null,null,null,null,null,null,null,null,null,null,null,null,null,null,null,null,null,null,null,null,null,null,null,null,null,null,null,null,null,null,null,null,null,null,null,null,null,null,null,null,null,null,null,null,null,null,null,null,null,null,null,null,null,null,null,null,null,null,null,null,null,null,null,null,null,null,null,null,null,null,null,null,null,null,null,null,{"$f":"EP$164","v":""}]
[217,8.7737972157628192,11.901876569481338,null,null,null,null,null,null,null,null,null,null,null,null,null,null,null,null,null,null,null,null,null,null,null,null,null,null,null,null,null,null,null,null,null,null,null,null,null,null,null,null,null,null,null,null,null,null,null,null,null,null,null,null,null,null,null,null,null,null,null,null,null,null,null,null,null,null,null,null,null,null,null,null,null,null,null,null,null,null,null,null,null,null,null,null,null,null,null,null,null,null,null,null,null,null,null,null,null,null,null,null,null,null,null,null,null,null,null,null,null,null,null,null,null,null,null,null,null,null,null,null,null,null,null,null,null,null,null,null,null,null,null,null,null,null,null,null,null,null,null,null,null,null,null,null,null,null,null,null,null,null,null,null,null,null,null,null,null,null,null,null,null,null,null,null,null,null,null,null,null,null,null,null,null,null,null,null,null,null,null,null,null,null,null,null,null,null,null,null,null,null,null,null,null,null,null,null,null,null,null,null,null,null,null,null,null,null,null,null,null,null,null,null,null,null,null,null,null,null,null,null,null,null,null,null,null,null,null,null,null,null,null,null,null,null,null,null,null,null,null,null,null,null,null,null,null,null,null,null,null,null,null,null,{"$f":"ES$164","v":""}]
[218,9.1766607303114167,13.3242806178202,null,null,null,null,null,null,null,null,null,null,null,null,null,null,null,null,null,null,null,null,null,null,null,null,null,null,null,null,null,null,null,null,null,null,null,null,null,null,null,null,null,null,null,null,null,null,null,null,null,null,null,null,null,null,null,null,null,null,null,null,null,null,null,null,null,null,null,null,null,null,null,null,null,null,null,null,null,null,null,null,null,null,null,null,null,null,null,null,null,null,null,null,null,null,null,null,null,null,null,null,null,null,null,null,null,null,null,null,null,null,null,null,null,null,null,null,null,null,null,null,null,null,null,null,null,null,null,null,null,null,null,null,null,null,null,null,null,null,null,null,null,null,null,null,null,null,null,null,null,null,null,null,null,null,null,null,null,null,null,null,null,null,null,null,null,null,null,null,null,null,null,null,null,null,null,null,null,null,null,null,null,null,null,null,null,null,null,null,null,null,null,null,null,null,null,null,null,null,null,null,null,null,null,null,null,null,null,null,null,null,null,null,null,null,null,null,null,null,null,null,null,null,null,null,null,null,null,null,null,null,null,null,null,null,null,null,null,null,null,null,null,null,null,null,null,null,null,null,null,null,null,null,{"$f":"EV$164","v":""}]
[219,1.4135924929262988,3.7481662616878935,null,null,null,null,null,null,null,null,null,null,null,null,null,null,null,null,null,null,null,null,null,null,null,null,null,null,null,null,null,null,null,null,null,null,null,null,null,null,null,null,null,null,null,null,null,null,null,null,null,null,null,null,null,null,null,null,null,null,null,null,null,null,null,null,null,null,null,null,null,null,null,null,null,null,null,null,null,null,null,null,null,null,null,null,null,null,null,null,null,null,null,null,null,null,null,null,null,null,null,null,null,null,null,null,null,null,null,null,null,null,null,null,null,null,null,null,null,null,null,null,null,null,null,null,null,null,null,null,null,null,null,null,null,null,null,null,null,null,null,null,null,null,null,null,null,null,null,null,null,null,null,null,null,null,null,null,null,null,null,null,null,null,null,null,null,null,null,null,null,null,null,null,null,null,null,null,null,null,null,null,null,null,null,null,null,null,null,null,null,null,null,null,null,null,null,null,null,null,null,null,null,null,null,null,null,null,null,null,null,null,null,null,null,null,null,null,null,null,null,null,null,null,null,null,null,null,null,null,null,null,null,null,null,null,null,null,null,null,null,null,null,null,null,null,null,null,null,null,null,null,null,null,{"$f":"EY$164","v":""}]
[220,4.3773948230563153,7.335011065144073,null,null,null,null,null,null,null,null,null,null,null,null,null,null,null,null,null,null,null,null,null,null,null,null,null,null,null,null,null,null,null,null,null,null,null,null,null,null,null,null,null,null,null,null,null,null,null,null,null,null,null,null,null,null,null,null,null,null,null,null,null,null,null,null,null,null,null,null,null,null,null,null,null,null,null,null,null,null,null,null,null,null,null,null,null,null,null,null,null,null,null,null,null,null,null,null,null,null,null,null,null,null,null,null,null,null,null,null,null,null,null,null,null,null,null,null,null,null,null,null,null,null,null,null,null,null,null,null,null,null,null,null,null,null,null,null,null,null,null,null,null,null,null,null,null,null,null,null,null,null,null,null,null,null,null,null,null,null,null,null,null,null,null,null,null,null,null,null,null,null,null,null,null,null,null,null,null,null,null,null,null,null,null,null,null,null,null,null,null,null,null,null,null,null,null,null,null,null,null,null,null,null,null,null,null,null,null,null,null,null,null,null,null,null,null,null,null,null,null,null,null,null,null,null,null,null,null,null,null,null,null,null,null,null,null,null,null,null,null,null,null,null,null,null,null,null,null,null,null,null,null,null,{"$f":"FB$164","v":""}]
[221,4.2438187682743411,6.2838912182060103,null,null,null,null,null,null,null,null,null,null,null,null,null,null,null,null,null,null,null,null,null,null,null,null,null,null,null,null,null,null,null,null,null,null,null,null,null,null,null,null,null,null,null,null,null,null,null,null,null,null,null,null,null,null,null,null,null,null,null,null,null,null,null,null,null,null,null,null,null,null,null,null,null,null,null,null,null,null,null,null,null,null,null,null,null,null,null,null,null,null,null,null,null,null,null,null,null,null,null,null,null,null,null,null,null,null,null,null,null,null,null,null,null,null,null,null,null,null,null,null,null,null,null,null,null,null,null,null,null,null,null,null,null,null,null,null,null,null,null,null,null,null,null,null,null,null,null,null,null,null,null,null,null,null,null,null,null,null,null,null,null,null,null,null,null,null,null,null,null,null,null,null,null,null,null,null,null,null,null,null,null,null,null,null,null,null,null,null,null,null,null,null,null,null,null,null,null,null,null,null,null,null,null,null,null,null,null,null,null,null,null,null,null,null,null,null,null,null,null,null,null,null,null,null,null,null,null,null,null,null,null,null,null,null,null,null,null,null,null,null,null,null,null,null,null,null,null,null,null,null,null,null,{"$f":"FE$164","v":""}]
[222,2.9012296601372434,7.5231318089897998,null,null,null,null,null,null,null,null,null,null,null,null,null,null,null,null,null,null,null,null,null,null,null,null,null,null,null,null,null,null,null,null,null,null,null,null,null,null,null,null,null,null,null,null,null,null,null,null,null,null,null,null,null,null,null,null,null,null,null,null,null,null,null,null,null,null,null,null,null,null,null,null,null,null,null,null,null,null,null,null,null,null,null,null,null,null,null,null,null,null,null,null,null,null,null,null,null,null,null,null,null,null,null,null,null,null,null,null,null,null,null,null,null,null,null,null,null,null,null,null,null,null,null,null,null,null,null,null,null,null,null,null,null,null,null,null,null,null,null,null,null,null,null,null,null,null,null,null,null,null,null,null,null,null,null,null,null,null,null,null,null,null,null,null,null,null,null,null,null,null,null,null,null,null,null,null,null,null,null,null,null,null,null,null,null,null,null,null,null,null,null,null,null,null,null,null,null,null,null,null,null,null,null,null,null,null,null,null,null,null,null,null,null,null,null,null,null,null,null,null,null,null,null,null,null,null,null,null,null,null,null,null,null,null,null,null,null,null,null,null,null,null,null,null,null,null,null,null,null,null,null,null,{"$f":"FH$164","v":""}]
[223,1.4677999427926225,1.3276112265289484,null,null,null,null,null,null,null,null,null,null,null,null,null,null,null,null,null,null,null,null,null,null,null,null,null,null,null,null,null,null,null,null,null,null,null,null,null,null,null,null,null,null,null,null,null,null,null,null,null,null,null,null,null,null,null,null,null,null,null,null,null,null,null,null,null,null,null,null,null,null,null,null,null,null,null,null,null,null,null,null,null,null,null,null,null,null,null,null,null,null,null,null,null,null,null,null,null,null,null,null,null,null,null,null,null,null,null,null,null,null,null,null,null,null,null,null,null,null,null,null,null,null,null,null,null,null,null,null,null,null,null,null,null,null,null,null,null,null,null,null,null,null,null,null,null,null,null,null,null,null,null,null,null,null,null,null,null,null,null,null,null,null,null,null,null,null,null,null,null,null,null,null,null,null,null,null,null,null,null,null,null,null,null,null,null,null,null,null,null,null,null,null,null,null,null,null,null,null,null,null,null,null,null,null,null,null,null,null,null,null,null,null,null,null,null,null,null,null,null,null,null,null,null,null,null,null,null,null,null,null,null,null,null,null,null,null,null,null,null,null,null,null,null,null,null,null,null,null,null,null,null,null,{"$f":"FK$164","v":""}]
[224,8.8500932679654216,12.105880499957472,null,null,null,null,null,null,null,null,null,null,null,null,null,null,null,null,null,null,null,null,null,null,null,null,null,null,null,null,null,null,null,null,null,null,null,null,null,null,null,null,null,null,null,null,null,null,null,null,null,null,null,null,null,null,null,null,null,null,null,null,null,null,null,null,null,null,null,null,null,null,null,null,null,null,null,null,null,null,null,null,null,null,null,null,null,null,null,null,null,null,null,null,null,null,null,null,null,null,null,null,null,null,null,null,null,null,null,null,null,null,null,null,null,null,null,null,null,null,null,null,null,null,null,null,null,null,null,null,null,null,null,null,null,null,null,null,null,null,null,null,null,null,null,null,null,null,null,null,null,null,null,null,null,null,null,null,null,null,null,null,null,null,null,null,null,null,null,null,null,null,null,null,null,null,null,null,null,null,null,null,null,null,null,null,null,null,null,null,null,null,null,null,null,null,null,null,null,null,null,null,null,null,null,null,null,null,null,null,null,null,null,null,null,null,null,null,null,null,null,null,null,null,null,null,null,null,null,null,null,null,null,null,null,null,null,null,null,null,null,null,null,null,null,null,null,null,null,null,null,null,null,null,{"$f":"FN$164","v":""}]
[225,4.7927455702920296,7.82741515961016,null,null,null,null,null,null,null,null,null,null,null,null,null,null,null,null,null,null,null,null,null,null,null,null,null,null,null,null,null,null,null,null,null,null,null,null,null,null,null,null,null,null,null,null,null,null,null,null,null,null,null,null,null,null,null,null,null,null,null,null,null,null,null,null,null,null,null,null,null,null,null,null,null,null,null,null,null,null,null,null,null,null,null,null,null,null,null,null,null,null,null,null,null,null,null,null,null,null,null,null,null,null,null,null,null,null,null,null,null,null,null,null,null,null,null,null,null,null,null,null,null,null,null,null,null,null,null,null,null,null,null,null,null,null,null,null,null,null,null,null,null,null,null,null,null,null,null,null,null,null,null,null,null,null,null,null,null,null,null,null,null,null,null,null,null,null,null,null,null,null,null,null,null,null,null,null,null,null,null,null,null,null,null,null,null,null,null,null,null,null,null,null,null,null,null,null,null,null,null,null,null,null,null,null,null,null,null,null,null,null,null,null,null,null,null,null,null,null,null,null,null,null,null,null,null,null,null,null,null,null,null,null,null,null,null,null,null,null,null,null,null,null,null,null,null,null,null,null,null,null,null,null,{"$f":"FQ$164","v":""}]
[226,9.2500602122973614,11.351208399530799,null,null,null,null,null,null,null,null,null,null,null,null,null,null,null,null,null,null,null,null,null,null,null,null,null,null,null,null,null,null,null,null,null,null,null,null,null,null,null,null,null,null,null,null,null,null,null,null,null,null,null,null,null,null,null,null,null,null,null,null,null,null,null,null,null,null,null,null,null,null,null,null,null,null,null,null,null,null,null,null,null,null,null,null,null,null,null,null,null,null,null,null,null,null,null,null,null,null,null,null,null,null,null,null,null,null,null,null,null,null,null,null,null,null,null,null,null,null,null,null,null,null,null,null,null,null,null,null,null,null,null,null,null,null,null,null,null,null,null,null,null,null,null,null,null,null,null,null,null,null,null,null,null,null,null,null,null,null,null,null,null,null,null,null,null,null,null,null,null,null,null,null,null,null,null,null,null,null,null,null,null,null,null,null,null,null,null,null,null,null,null,null,null,null,null,null,null,null,null,null,null,null,null,null,null,null,null,null,null,null,null,null,null,null,null,null,null,null,null,null,null,null,null,null,null,null,null,null,null,null,null,null,null,null,null,null,null,null,null,null,null,null,null,null,null,null,null,null,null,null,null,null,{"$f":"FT$164","v":""}]
[227,3.6739445272245197,4.1937702660507998,null,null,null,null,null,null,null,null,null,null,null,null,null,null,null,null,null,null,null,null,null,null,null,null,null,null,null,null,null,null,null,null,null,null,null,null,null,null,null,null,null,null,null,null,null,null,null,null,null,null,null,null,null,null,null,null,null,null,null,null,null,null,null,null,null,null,null,null,null,null,null,null,null,null,null,null,null,null,null,null,null,null,null,null,null,null,null,null,null,null,null,null,null,null,null,null,null,null,null,null,null,null,null,null,null,null,null,null,null,null,null,null,null,null,null,null,null,null,null,null,null,null,null,null,null,null,null,null,null,null,null,null,null,null,null,null,null,null,null,null,null,null,null,null,null,null,null,null,null,null,null,null,null,null,null,null,null,null,null,null,null,null,null,null,null,null,null,null,null,null,null,null,null,null,null,null,null,null,null,null,null,null,null,null,null,null,null,null,null,null,null,null,null,null,null,null,null,null,null,null,null,null,null,null,null,null,null,null,null,null,null,null,null,null,null,null,null,null,null,null,null,null,null,null,null,null,null,null,null,null,null,null,null,null,null,null,null,null,null,null,null,null,null,null,null,null,null,null,null,null,null,null,{"$f":"FW$164","v":""}]
[228,2.5634850895736427,2.4768516990427418,null,null,null,null,null,null,null,null,null,null,null,null,null,null,null,null,null,null,null,null,null,null,null,null,null,null,null,null,null,null,null,null,null,null,null,null,null,null,null,null,null,null,null,null,null,null,null,null,null,null,null,null,null,null,null,null,null,null,null,null,null,null,null,null,null,null,null,null,null,null,null,null,null,null,null,null,null,null,null,null,null,null,null,null,null,null,null,null,null,null,null,null,null,null,null,null,null,null,null,null,null,null,null,null,null,null,null,null,null,null,null,null,null,null,null,null,null,null,null,null,null,null,null,null,null,null,null,null,null,null,null,null,null,null,null,null,null,null,null,null,null,null,null,null,null,null,null,null,null,null,null,null,null,null,null,null,null,null,null,null,null,null,null,null,null,null,null,null,null,null,null,null,null,null,null,null,null,null,null,null,null,null,null,null,null,null,null,null,null,null,null,null,null,null,null,null,null,null,null,null,null,null,null,null,null,null,null,null,null,null,null,null,null,null,null,null,null,null,null,null,null,null,null,null,null,null,null,null,null,null,null,null,null,null,null,null,null,null,null,null,null,null,null,null,null,null,null,null,null,null,null,null,{"$f":"FZ$164","v":""}]
[229,9.4027331025672023,14.3929087483101,null,null,null,null,null,null,null,null,null,null,null,null,null,null,null,null,null,null,null,null,null,null,null,null,null,null,null,null,null,null,null,null,null,null,null,null,null,null,null,null,null,null,null,null,null,null,null,null,null,null,null,null,null,null,null,null,null,null,null,null,null,null,null,null,null,null,null,null,null,null,null,null,null,null,null,null,null,null,null,null,null,null,null,null,null,null,null,null,null,null,null,null,null,null,null,null,null,null,null,null,null,null,null,null,null,null,null,null,null,null,null,null,null,null,null,null,null,null,null,null,null,null,null,null,null,null,null,null,null,null,null,null,null,null,null,null,null,null,null,null,null,null,null,null,null,null,null,null,null,null,null,null,null,null,null,null,null,null,null,null,null,null,null,null,null,null,null,null,null,null,null,null,null,null,null,null,null,null,null,null,null,null,null,null,null,null,null,null,null,null,null,null,null,null,null,null,null,null,null,null,null,null,null,null,null,null,null,null,null,null,null,null,null,null,null,null,null,null,null,null,null,null,null,null,null,null,null,null,null,null,null,null,null,null,null,null,null,null,null,null,null,null,null,null,null,null,null,null,null,null,null,null,{"$f":"GC$164","v":""}]
[230,8.7358017372407204,13.504142490399479,null,null,null,null,null,null,null,null,null,null,null,null,null,null,null,null,null,null,null,null,null,null,null,null,null,null,null,null,null,null,null,null,null,null,null,null,null,null,null,null,null,null,null,null,null,null,null,null,null,null,null,null,null,null,null,null,null,null,null,null,null,null,null,null,null,null,null,null,null,null,null,null,null,null,null,null,null,null,null,null,null,null,null,null,null,null,null,null,null,null,null,null,null,null,null,null,null,null,null,null,null,null,null,null,null,null,null,null,null,null,null,null,null,null,null,null,null,null,null,null,null,null,null,null,null,null,null,null,null,null,null,null,null,null,null,null,null,null,null,null,null,null,null,null,null,null,null,null,null,null,null,null,null,null,null,null,null,null,null,null,null,null,null,null,null,null,null,null,null,null,null,null,null,null,null,null,null,null,null,null,null,null,null,null,null,null,null,null,null,null,null,null,null,null,null,null,null,null,null,null,null,null,null,null,null,null,null,null,null,null,null,null,null,null,null,null,null,null,null,null,null,null,null,null,null,null,null,null,null,null,null,null,null,null,null,null,null,null,null,null,null,null,null,null,null,null,null,null,null,null,null,null,{"$f":"GF$164","v":""}]
[231,6.5893763959274914,8.971115924241138,null,null,null,null,null,null,null,null,null,null,null,null,null,null,null,null,null,null,null,null,null,null,null,null,null,null,null,null,null,null,null,null,null,null,null,null,null,null,null,null,null,null,null,null,null,null,null,null,null,null,null,null,null,null,null,null,null,null,null,null,null,null,null,null,null,null,null,null,null,null,null,null,null,null,null,null,null,null,null,null,null,null,null,null,null,null,null,null,null,null,null,null,null,null,null,null,null,null,null,null,null,null,null,null,null,null,null,null,null,null,null,null,null,null,null,null,null,null,null,null,null,null,null,null,null,null,null,null,null,null,null,null,null,null,null,null,null,null,null,null,null,null,null,null,null,null,null,null,null,null,null,null,null,null,null,null,null,null,null,null,null,null,null,null,null,null,null,null,null,null,null,null,null,null,null,null,null,null,null,null,null,null,null,null,null,null,null,null,null,null,null,null,null,null,null,null,null,null,null,null,null,null,null,null,null,null,null,null,null,null,null,null,null,null,null,null,null,null,null,null,null,null,null,null,null,null,null,null,null,null,null,null,null,null,null,null,null,null,null,null,null,null,null,null,null,null,null,null,null,null,null,null,{"$f":"GI$164","v":""}]
[232,5.2160034039536107,11.532730797797036,null,null,null,null,null,null,null,null,null,null,null,null,null,null,null,null,null,null,null,null,null,null,null,null,null,null,null,null,null,null,null,null,null,null,null,null,null,null,null,null,null,null,null,null,null,null,null,null,null,null,null,null,null,null,null,null,null,null,null,null,null,null,null,null,null,null,null,null,null,null,null,null,null,null,null,null,null,null,null,null,null,null,null,null,null,null,null,null,null,null,null,null,null,null,null,null,null,null,null,null,null,null,null,null,null,null,null,null,null,null,null,null,null,null,null,null,null,null,null,null,null,null,null,null,null,null,null,null,null,null,null,null,null,null,null,null,null,null,null,null,null,null,null,null,null,null,null,null,null,null,null,null,null,null,null,null,null,null,null,null,null,null,null,null,null,null,null,null,null,null,null,null,null,null,null,null,null,null,null,null,null,null,null,null,null,null,null,null,null,null,null,null,null,null,null,null,null,null,null,null,null,null,null,null,null,null,null,null,null,null,null,null,null,null,null,null,null,null,null,null,null,null,null,null,null,null,null,null,null,null,null,null,null,null,null,null,null,null,null,null,null,null,null,null,null,null,null,null,null,null,null,null,{"$f":"GL$164","v":""}]
[233,7.9848542353849306,10.790153830847302,null,null,null,null,null,null,null,null,null,null,null,null,null,null,null,null,null,null,null,null,null,null,null,null,null,null,null,null,null,null,null,null,null,null,null,null,null,null,null,null,null,null,null,null,null,null,null,null,null,null,null,null,null,null,null,null,null,null,null,null,null,null,null,null,null,null,null,null,null,null,null,null,null,null,null,null,null,null,null,null,null,null,null,null,null,null,null,null,null,null,null,null,null,null,null,null,null,null,null,null,null,null,null,null,null,null,null,null,null,null,null,null,null,null,null,null,null,null,null,null,null,null,null,null,null,null,null,null,null,null,null,null,null,null,null,null,null,null,null,null,null,null,null,null,null,null,null,null,null,null,null,null,null,null,null,null,null,null,null,null,null,null,null,null,null,null,null,null,null,null,null,null,null,null,null,null,null,null,null,null,null,null,null,null,null,null,null,null,null,null,null,null,null,null,null,null,null,null,null,null,null,null,null,null,null,null,null,null,null,null,null,null,null,null,null,null,null,null,null,null,null,null,null,null,null,null,null,null,null,null,null,null,null,null,null,null,null,null,null,null,null,null,null,null,null,null,null,null,null,null,null,null,{"$f":"GO$164","v":""}]
[234,1.1330083820892867,3.9329833082832204,null,null,null,null,null,null,null,null,null,null,null,null,null,null,null,null,null,null,null,null,null,null,null,null,null,null,null,null,null,null,null,null,null,null,null,null,null,null,null,null,null,null,null,null,null,null,null,null,null,null,null,null,null,null,null,null,null,null,null,null,null,null,null,null,null,null,null,null,null,null,null,null,null,null,null,null,null,null,null,null,null,null,null,null,null,null,null,null,null,null,null,null,null,null,null,null,null,null,null,null,null,null,null,null,null,null,null,null,null,null,null,null,null,null,null,null,null,null,null,null,null,null,null,null,null,null,null,null,null,null,null,null,null,null,null,null,null,null,null,null,null,null,null,null,null,null,null,null,null,null,null,null,null,null,null,null,null,null,null,null,null,null,null,null,null,null,null,null,null,null,null,null,null,null,null,null,null,null,null,null,null,null,null,null,null,null,null,null,null,null,null,null,null,null,null,null,null,null,null,null,null,null,null,null,null,null,null,null,null,null,null,null,null,null,null,null,null,null,null,null,null,null,null,null,null,null,null,null,null,null,null,null,null,null,null,null,null,null,null,null,null,null,null,null,null,null,null,null,null,null,null,null,{"$f":"GR$164","v":""}]
[235,0.67894489191479668,0.50897045137204855,null,null,null,null,null,null,null,null,null,null,null,null,null,null,null,null,null,null,null,null,null,null,null,null,null,null,null,null,null,null,null,null,null,null,null,null,null,null,null,null,null,null,null,null,null,null,null,null,null,null,null,null,null,null,null,null,null,null,null,null,null,null,null,null,null,null,null,null,null,null,null,null,null,null,null,null,null,null,null,null,null,null,null,null,null,null,null,null,null,null,null,null,null,null,null,null,null,null,null,null,null,null,null,null,null,null,null,null,null,null,null,null,null,null,null,null,null,null,null,null,null,null,null,null,null,null,null,null,null,null,null,null,null,null,null,null,null,null,null,null,null,null,null,null,null,null,null,null,null,null,null,null,null,null,null,null,null,null,null,null,null,null,null,null,null,null,null,null,null,null,null,null,null,null,null,null,null,null,null,null,null,null,null,null,null,null,null,null,null,null,null,null,null,null,null,null,null,null,null,null,null,null,null,null,null,null,null,null,null,null,null,null,null,null,null,null,null,null,null,null,null,null,null,null,null,null,null,null,null,null,null,null,null,null,null,null,null,null,null,null,null,null,null,null,null,null,null,null,null,null,null,null,{"$f":"GU$164","v":""}]
[236,6.7690190978073801,9.2265311699683146,null,null,null,null,null,null,null,null,null,null,null,null,null,null,null,null,null,null,null,null,null,null,null,null,null,null,null,null,null,null,null,null,null,null,null,null,null,null,null,null,null,null,null,null,null,null,null,null,null,null,null,null,null,null,null,null,null,null,null,null,null,null,null,null,null,null,null,null,null,null,null,null,null,null,null,null,null,null,null,null,null,null,null,null,null,null,null,null,null,null,null,null,null,null,null,null,null,null,null,null,null,null,null,null,null,null,null,null,null,null,null,null,null,null,null,null,null,null,null,null,null,null,null,null,null,null,null,null,null,null,null,null,null,null,null,null,null,null,null,null,null,null,null,null,null,null,null,null,null,null,null,null,null,null,null,null,null,null,null,null,null,null,null,null,null,null,null,null,null,null,null,null,null,null,null,null,null,null,null,null,null,null,null,null,null,null,null,null,null,null,null,null,null,null,null,null,null,null,null,null,null,null,null,null,null,null,null,null,null,null,null,null,null,null,null,null,null,null,null,null,null,null,null,null,null,null,null,null,null,null,null,null,null,null,null,null,null,null,null,null,null,null,null,null,null,null,null,null,null,null,null,null,{"$f":"GX$164","v":""}]
[237,6.4862939147936549,13.612853793873301,null,null,null,null,null,null,null,null,null,null,null,null,null,null,null,null,null,null,null,null,null,null,null,null,null,null,null,null,null,null,null,null,null,null,null,null,null,null,null,null,null,null,null,null,null,null,null,null,null,null,null,null,null,null,null,null,null,null,null,null,null,null,null,null,null,null,null,null,null,null,null,null,null,null,null,null,null,null,null,null,null,null,null,null,null,null,null,null,null,null,null,null,null,null,null,null,null,null,null,null,null,null,null,null,null,null,null,null,null,null,null,null,null,null,null,null,null,null,null,null,null,null,null,null,null,null,null,null,null,null,null,null,null,null,null,null,null,null,null,null,null,null,null,null,null,null,null,null,null,null,null,null,null,null,null,null,null,null,null,null,null,null,null,null,null,null,null,null,null,null,null,null,null,null,null,null,null,null,null,null,null,null,null,null,null,null,null,null,null,null,null,null,null,null,null,null,null,null,null,null,null,null,null,null,null,null,null,null,null,null,null,null,null,null,null,null,null,null,null,null,null,null,null,null,null,null,null,null,null,null,null,null,null,null,null,null,null,null,null,null,null,null,null,null,null,null,null,null,null,null,null,null,{"$f":"HA$164","v":""}]
[238,8.9789489170835779,14.57182859908777,null,null,null,null,null,null,null,null,null,null,null,null,null,null,null,null,null,null,null,null,null,null,null,null,null,null,null,null,null,null,null,null,null,null,null,null,null,null,null,null,null,null,null,null,null,null,null,null,null,null,null,null,null,null,null,null,null,null,null,null,null,null,null,null,null,null,null,null,null,null,null,null,null,null,null,null,null,null,null,null,null,null,null,null,null,null,null,null,null,null,null,null,null,null,null,null,null,null,null,null,null,null,null,null,null,null,null,null,null,null,null,null,null,null,null,null,null,null,null,null,null,null,null,null,null,null,null,null,null,null,null,null,null,null,null,null,null,null,null,null,null,null,null,null,null,null,null,null,null,null,null,null,null,null,null,null,null,null,null,null,null,null,null,null,null,null,null,null,null,null,null,null,null,null,null,null,null,null,null,null,null,null,null,null,null,null,null,null,null,null,null,null,null,null,null,null,null,null,null,null,null,null,null,null,null,null,null,null,null,null,null,null,null,null,null,null,null,null,null,null,null,null,null,null,null,null,null,null,null,null,null,null,null,null,null,null,null,null,null,null,null,null,null,null,null,null,null,null,null,null,null,null,{"$f":"HD$164","v":""}]
[239,1.6871419809884225,2.1697972727457491,null,null,null,null,null,null,null,null,null,null,null,null,null,null,null,null,null,null,null,null,null,null,null,null,null,null,null,null,null,null,null,null,null,null,null,null,null,null,null,null,null,null,null,null,null,null,null,null,null,null,null,null,null,null,null,null,null,null,null,null,null,null,null,null,null,null,null,null,null,null,null,null,null,null,null,null,null,null,null,null,null,null,null,null,null,null,null,null,null,null,null,null,null,null,null,null,null,null,null,null,null,null,null,null,null,null,null,null,null,null,null,null,null,null,null,null,null,null,null,null,null,null,null,null,null,null,null,null,null,null,null,null,null,null,null,null,null,null,null,null,null,null,null,null,null,null,null,null,null,null,null,null,null,null,null,null,null,null,null,null,null,null,null,null,null,null,null,null,null,null,null,null,null,null,null,null,null,null,null,null,null,null,null,null,null,null,null,null,null,null,null,null,null,null,null,null,null,null,null,null,null,null,null,null,null,null,null,null,null,null,null,null,null,null,null,null,null,null,null,null,null,null,null,null,null,null,null,null,null,null,null,null,null,null,null,null,null,null,null,null,null,null,null,null,null,null,null,null,null,null,null,null,{"$f":"HG$164","v":""}]
[240,3.4208672870853274,8.9278844529987893,null,null,null,null,null,null,null,null,null,null,null,null,null,null,null,null,null,null,null,null,null,null,null,null,null,null,null,null,null,null,null,null,null,null,null,null,null,null,null,null,null,null,null,null,null,null,null,null,null,null,null,null,null,null,null,null,null,null,null,null,null,null,null,null,null,null,null,null,null,null,null,null,null,null,null,null,null,null,null,null,null,null,null,null,null,null,null,null,null,null,null,null,null,null,null,null,null,null,null,null,null,null,null,null,null,null,null,null,null,null,null,null,null,null,null,null,null,null,null,null,null,null,null,null,null,null,null,null,null,null,null,null,null,null,null,null,null,null,null,null,null,null,null,null,null,null,null,null,null,null,null,null,null,null,null,null,null,null,null,null,null,null,null,null,null,null,null,null,null,null,null,null,null,null,null,null,null,null,null,null,null,null,null,null,null,null,null,null,null,null,null,null,null,null,null,null,null,null,null,null,null,null,null,null,null,null,null,null,null,null,null,null,null,null,null,null,null,null,null,null,null,null,null,null,null,null,null,null,null,null,null,null,null,null,null,null,null,null,null,null,null,null,null,null,null,null,null,null,null,null,null,null,{"$f":"HJ$164","v":""}]
[241,1.4419552557102744,1.2654029560604627,null,null,null,null,null,null,null,null,null,null,null,null,null,null,null,null,null,null,null,null,null,null,null,null,null,null,null,null,null,null,null,null,null,null,null,null,null,null,null,null,null,null,null,null,null,null,null,null,null,null,null,null,null,null,null,null,null,null,null,null,null,null,null,null,null,null,null,null,null,null,null,null,null,null,null,null,null,null,null,null,null,null,null,null,null,null,null,null,null,null,null,null,null,null,null,null,null,null,null,null,null,null,null,null,null,null,null,null,null,null,null,null,null,null,null,null,null,null,null,null,null,null,null,null,null,null,null,null,null,null,null,null,null,null,null,null,null,null,null,null,null,null,null,null,null,null,null,null,null,null,null,null,null,null,null,null,null,null,null,null,null,null,null,null,null,null,null,null,null,null,null,null,null,null,null,null,null,null,null,null,null,null,null,null,null,null,null,null,null,null,null,null,null,null,null,null,null,null,null,null,null,null,null,null,null,null,null,null,null,null,null,null,null,null,null,null,null,null,null,null,null,null,null,null,null,null,null,null,null,null,null,null,null,null,null,null,null,null,null,null,null,null,null,null,null,null,null,null,null,null,null,null,{"$f":"HM$164","v":""}]
[242,2.7873558148971078,3.2600339112539189,null,null,null,null,null,null,null,null,null,null,null,null,null,null,null,null,null,null,null,null,null,null,null,null,null,null,null,null,null,null,null,null,null,null,null,null,null,null,null,null,null,null,null,null,null,null,null,null,null,null,null,null,null,null,null,null,null,null,null,null,null,null,null,null,null,null,null,null,null,null,null,null,null,null,null,null,null,null,null,null,null,null,null,null,null,null,null,null,null,null,null,null,null,null,null,null,null,null,null,null,null,null,null,null,null,null,null,null,null,null,null,null,null,null,null,null,null,null,null,null,null,null,null,null,null,null,null,null,null,null,null,null,null,null,null,null,null,null,null,null,null,null,null,null,null,null,null,null,null,null,null,null,null,null,null,null,null,null,null,null,null,null,null,null,null,null,null,null,null,null,null,null,null,null,null,null,null,null,null,null,null,null,null,null,null,null,null,null,null,null,null,null,null,null,null,null,null,null,null,null,null,null,null,null,null,null,null,null,null,null,null,null,null,null,null,null,null,null,null,null,null,null,null,null,null,null,null,null,null,null,null,null,null,null,null,null,null,null,null,null,null,null,null,null,null,null,null,null,null,null,null,null,{"$f":"HP$164","v":""}]
[243,7.3723567430533041,14.15401139120323,null,null,null,null,null,null,null,null,null,null,null,null,null,null,null,null,null,null,null,null,null,null,null,null,null,null,null,null,null,null,null,null,null,null,null,null,null,null,null,null,null,null,null,null,null,null,null,null,null,null,null,null,null,null,null,null,null,null,null,null,null,null,null,null,null,null,null,null,null,null,null,null,null,null,null,null,null,null,null,null,null,null,null,null,null,null,null,null,null,null,null,null,null,null,null,null,null,null,null,null,null,null,null,null,null,null,null,null,null,null,null,null,null,null,null,null,null,null,null,null,null,null,null,null,null,null,null,null,null,null,null,null,null,null,null,null,null,null,null,null,null,null,null,null,null,null,null,null,null,null,null,null,null,null,null,null,null,null,null,null,null,null,null,null,null,null,null,null,null,null,null,null,null,null,null,null,null,null,null,null,null,null,null,null,null,null,null,null,null,null,null,null,null,null,null,null,null,null,null,null,null,null,null,null,null,null,null,null,null,null,null,null,null,null,null,null,null,null,null,null,null,null,null,null,null,null,null,null,null,null,null,null,null,null,null,null,null,null,null,null,null,null,null,null,null,null,null,null,null,null,null,null,{"$f":"HS$164","v":""}]
[244,1.7375385257517406,1.3274580924991946,null,null,null,null,null,null,null,null,null,null,null,null,null,null,null,null,null,null,null,null,null,null,null,null,null,null,null,null,null,null,null,null,null,null,null,null,null,null,null,null,null,null,null,null,null,null,null,null,null,null,null,null,null,null,null,null,null,null,null,null,null,null,null,null,null,null,null,null,null,null,null,null,null,null,null,null,null,null,null,null,null,null,null,null,null,null,null,null,null,null,null,null,null,null,null,null,null,null,null,null,null,null,null,null,null,null,null,null,null,null,null,null,null,null,null,null,null,null,null,null,null,null,null,null,null,null,null,null,null,null,null,null,null,null,null,null,null,null,null,null,null,null,null,null,null,null,null,null,null,null,null,null,null,null,null,null,null,null,null,null,null,null,null,null,null,null,null,null,null,null,null,null,null,null,null,null,null,null,null,null,null,null,null,null,null,null,null,null,null,null,null,null,null,null,null,null,null,null,null,null,null,null,null,null,null,null,null,null,null,null,null,null,null,null,null,null,null,null,null,null,null,null,null,null,null,null,null,null,null,null,null,null,null,null,null,null,null,null,null,null,null,null,null,null,null,null,null,null,null,null,null,null,{"$f":"HV$164","v":""}]
[245,7.9719723429466356,14.077036682687522,null,null,null,null,null,null,null,null,null,null,null,null,null,null,null,null,null,null,null,null,null,null,null,null,null,null,null,null,null,null,null,null,null,null,null,null,null,null,null,null,null,null,null,null,null,null,null,null,null,null,null,null,null,null,null,null,null,null,null,null,null,null,null,null,null,null,null,null,null,null,null,null,null,null,null,null,null,null,null,null,null,null,null,null,null,null,null,null,null,null,null,null,null,null,null,null,null,null,null,null,null,null,null,null,null,null,null,null,null,null,null,null,null,null,null,null,null,null,null,null,null,null,null,null,null,null,null,null,null,null,null,null,null,null,null,null,null,null,null,null,null,null,null,null,null,null,null,null,null,null,null,null,null,null,null,null,null,null,null,null,null,null,null,null,null,null,null,null,null,null,null,null,null,null,null,null,null,null,null,null,null,null,null,null,null,null,null,null,null,null,null,null,null,null,null,null,null,null,null,null,null,null,null,null,null,null,null,null,null,null,null,null,null,null,null,null,null,null,null,null,null,null,null,null,null,null,null,null,null,null,null,null,null,null,null,null,null,null,null,null,null,null,null,null,null,null,null,null,null,null,null,null,{"$f":"HY$164","v":""}]
[246,2.5963679645121052,8.6568750385048006,null,null,null,null,null,null,null,null,null,null,null,null,null,null,null,null,null,null,null,null,null,null,null,null,null,null,null,null,null,null,null,null,null,null,null,null,null,null,null,null,null,null,null,null,null,null,null,null,null,null,null,null,null,null,null,null,null,null,null,null,null,null,null,null,null,null,null,null,null,null,null,null,null,null,null,null,null,null,null,null,null,null,null,null,null,null,null,null,null,null,null,null,null,null,null,null,null,null,null,null,null,null,null,null,null,null,null,null,null,null,null,null,null,null,null,null,null,null,null,null,null,null,null,null,null,null,null,null,null,null,null,null,null,null,null,null,null,null,null,null,null,null,null,null,null,null,null,null,null,null,null,null,null,null,null,null,null,null,null,null,null,null,null,null,null,null,null,null,null,null,null,null,null,null,null,null,null,null,null,null,null,null,null,null,null,null,null,null,null,null,null,null,null,null,null,null,null,null,null,null,null,null,null,null,null,null,null,null,null,null,null,null,null,null,null,null,null,null,null,null,null,null,null,null,null,null,null,null,null,null,null,null,null,null,null,null,null,null,null,null,null,null,null,null,null,null,null,null,null,null,null,null,{"$f":"IB$164","v":""}]
[247,3.9683628429778928,4.5622538904374883,null,null,null,null,null,null,null,null,null,null,null,null,null,null,null,null,null,null,null,null,null,null,null,null,null,null,null,null,null,null,null,null,null,null,null,null,null,null,null,null,null,null,null,null,null,null,null,null,null,null,null,null,null,null,null,null,null,null,null,null,null,null,null,null,null,null,null,null,null,null,null,null,null,null,null,null,null,null,null,null,null,null,null,null,null,null,null,null,null,null,null,null,null,null,null,null,null,null,null,null,null,null,null,null,null,null,null,null,null,null,null,null,null,null,null,null,null,null,null,null,null,null,null,null,null,null,null,null,null,null,null,null,null,null,null,null,null,null,null,null,null,null,null,null,null,null,null,null,null,null,null,null,null,null,null,null,null,null,null,null,null,null,null,null,null,null,null,null,null,null,null,null,null,null,null,null,null,null,null,null,null,null,null,null,null,null,null,null,null,null,null,null,null,null,null,null,null,null,null,null,null,null,null,null,null,null,null,null,null,null,null,null,null,null,null,null,null,null,null,null,null,null,null,null,null,null,null,null,null,null,null,null,null,null,null,null,null,null,null,null,null,null,null,null,null,null,null,null,null,null,null,null,{"$f":"IE$164","v":""}]
[248,3.9412545894168272,6.2827624013223673,null,null,null,null,null,null,null,null,null,null,null,null,null,null,null,null,null,null,null,null,null,null,null,null,null,null,null,null,null,null,null,null,null,null,null,null,null,null,null,null,null,null,null,null,null,null,null,null,null,null,null,null,null,null,null,null,null,null,null,null,null,null,null,null,null,null,null,null,null,null,null,null,null,null,null,null,null,null,null,null,null,null,null,null,null,null,null,null,null,null,null,null,null,null,null,null,null,null,null,null,null,null,null,null,null,null,null,null,null,null,null,null,null,null,null,null,null,null,null,null,null,null,null,null,null,null,null,null,null,null,null,null,null,null,null,null,null,null,null,null,null,null,null,null,null,null,null,null,null,null,null,null,null,null,null,null,null,null,null,null,null,null,null,null,null,null,null,null,null,null,null,null,null,null,null,null,null,null,null,null,null,null,null,null,null,null,null,null,null,null,null,null,null,null,null,null,null,null,null,null,null,null,null,null,null,null,null,null,null,null,null,null,null,null,null,null,null,null,null,null,null,null,null,null,null,null,null,null,null,null,null,null,null,null,null,null,null,null,null,null,null,null,null,null,null,null,null,null,null,null,null,null,{"$f":"IH$164","v":""}]
[249,9.8019176403557751,16.65592597297271,null,null,null,null,null,null,null,null,null,null,null,null,null,null,null,null,null,null,null,null,null,null,null,null,null,null,null,null,null,null,null,null,null,null,null,null,null,null,null,null,null,null,null,null,null,null,null,null,null,null,null,null,null,null,null,null,null,null,null,null,null,null,null,null,null,null,null,null,null,null,null,null,null,null,null,null,null,null,null,null,null,null,null,null,null,null,null,null,null,null,null,null,null,null,null,null,null,null,null,null,null,null,null,null,null,null,null,null,null,null,null,null,null,null,null,null,null,null,null,null,null,null,null,null,null,null,null,null,null,null,null,null,null,null,null,null,null,null,null,null,null,null,null,null,null,null,null,null,null,null,null,null,null,null,null,null,null,null,null,null,null,null,null,null,null,null,null,null,null,null,null,null,null,null,null,null,null,null,null,null,null,null,null,null,null,null,null,null,null,null,null,null,null,null,null,null,null,null,null,null,null,null,null,null,null,null,null,null,null,null,null,null,null,null,null,null,null,null,null,null,null,null,null,null,null,null,null,null,null,null,null,null,null,null,null,null,null,null,null,null,null,null,null,null,null,null,null,null,null,null,null,null,{"$f":"IK$164","v":""}]
[250,5.5203368538556674E-2,1.948726888043173E-2,null,null,null,null,null,null,null,null,null,null,null,null,null,null,null,null,null,null,null,null,null,null,null,null,null,null,null,null,null,null,null,null,null,null,null,null,null,null,null,null,null,null,null,null,null,null,null,null,null,null,null,null,null,null,null,null,null,null,null,null,null,null,null,null,null,null,null,null,null,null,null,null,null,null,null,null,null,null,null,null,null,null,null,null,null,null,null,null,null,null,null,null,null,null,null,null,null,null,null,null,null,null,null,null,null,null,null,null,null,null,null,null,null,null,null,null,null,null,null,null,null,null,null,null,null,null,null,null,null,null,null,null,null,null,null,null,null,null,null,null,null,null,null,null,null,null,null,null,null,null,null,null,null,null,null,null,null,null,null,null,null,null,null,null,null,null,null,null,null,null,null,null,null,null,null,null,null,null,null,null,null,null,null,null,null,null,null,null,null,null,null,null,null,null,null,null,null,null,null,null,null,null,null,null,null,null,null,null,null,null,null,null,null,null,null,null,null,null,null,null,null,null,null,null,null,null,null,null,null,null,null,null,null,null,null,null,null,null,null,null,null,null,null,null,null,null,null,null,null,null,null,null,{"$f":"IN$164","v":""}]
[251,7.6582415224492912,10.144178208610738]
[252,2.6702250271780237,2.925908317102361]
[253,2.7270468586034036,1.1828700834185699]
[254,1.1419442312216033,1.5742783532651146]
[255,4.5506393858648675,5.838884714126932]
[256,6.0503575811612365E-2,-0.88215821640236758]
[257,4.8671143214962798E-2,0.35667577297134001]
[258,1.2394882492330073,0.73355664601018433]
[259,6.5239562867684793,8.5470040434976404]
[260,0.7940843459245972,0.11729142010121001]
[261,9.0074577620333436,13.253751216105011]
[262,1.8314434350190556,1.9047131476628156]
[263,6.5771345737093618,10.129726947775568]
[264,0.38670715099446085,1.534111384119754]
[265,0.36522624383226177,-0.19922227605221843]
[266,7.2161926911738306,9.8859229973063734]
[267,6.5110817307785851,13.800060184140401]
[268,4.8050001233502115,6.1785477163140996]
[269,3.666581661681152,5.3853285914882827]
[270,4.8924771983786464,9.4491420220653204]
[271,9.5002936567458018,15.389731578997759]
[272,2.9001792757518441,3.3810563193857082]
[273,1.8815562943405251,1.750412100965411]
[274,3.0262558719003962,9.169401729152689]
[275,7.3374352986168123,9.5748144024567914]
[276,4.0381884226039766,5.3857284288438505]
[277,5.220468369479347,8.1139770160987776]
[278,0.19869643820853655,-1.548675626708963]
[279,3.7412358280695468,4.4347980900826478]
[280,4.6960122517294334,6.3431212890244]
[281,1.477663452221547,3.0510870667526055]
[282,7.3934600803110868,12.654889585788244]
[283,6.1842725200147726,7.808466476660179]
[284,7.818623012144597,14.288010440950092]
[285,6.6620714482949728,9.6321675585271631]
[286,0.15446583210299014,-0.8391181197015869]
[287,7.7959736246489175,11.006525900573429]
[288,3.6787389497515921,5.4229141894762103]
[289,9.1558546588781642,13.345455166555794]
[290,3.5826281094704382,4.30831352958017]
[291,9.3188617307808546,15.1632824539856]
[292,3.0610660275056034,8.1888671683822771]
[293,1.5675344209138453,1.7533965630004673]
[294,5.3502649803261022,9.3992153776299077]
[295,5.3604518039992683,8.1724568467567948]
[296,8.233341992061245,13.716824070049993]
[297,4.8105841760667722,5.724291400066047]
[298,8.7172011800544347,10.1909323143341]
[299,6.8971120346072663,10.373914010326741]
[300,6.9525604667211205,8.8374114454575636]
[301,1.4880319609982529,1.0816092435081188]
[302,1.7599831210840322,1.5909511216843224]
[303,8.5528840612647095,11.935414601761497]
[304,7.9525604667211196,9.8374114454575601]
[305,5.4747900828073686,7.2465913957509533]
[306,0.96214034790407688,0.80495344925817491]
[307,5.9573477802915509,7.9142668722253013]
[308,0.86140813919678649,2.8977346899606902]
[309,0.25699945148575987,1.59382960362792]
[310,7.1479073898209116,9.1696355865690773]
[311,9.8732776289864876,13.39935789623949]
[312,5.4160761701007898,7.0981108578805241]
[313,1.620383073816658,2.2166902889335058]
[314,3.8937080461722862,4.0343377095742046]
[315,8.9355246603105254,15.393548209679764]
[316,8.141106430121285,13.610480114295285]
[317,4.941073579261861,6.3327469760680835]
[318,3.8323661245541629,4.9005898149337508]
[319,0.56592228775294018,0.98820446181555521]
[320,8.6877146182605465,15.233535264352582]
[321,8.6432983083976556,11.795238857365748]
[322,0.15103619558535009,0.74855586193504564]
[323,6.8403117988900259,8.8327768684551362]
[324,4.3558168742634829,7.801517982897999]
[325,5.172426329099169,6.2218467804549578]
[326,0.76667411142584463,2.1630137371862332]
[327,9.039115292345361,12.357589907902458]
[328,2.0438486082449536,1.771787990984288]
[329,6.0537901132036875,7.9817682349426731]
[330,2.8377527642991263,3.3333387812130022]
[331,1.3243081533701484,1.0602961618497493]
[332,0.61801842081518288,1.2424019630482599]
[333,6.9817304993047475,8.979745073768191]
[334,0.1426316554836049,-0.78786307693174251]
[335,3.6499905948580413,7.825033330792496]
[336,1.870541375343342,1.1805516340269766]
[337,6.9008867643619247,10.204409107974497]
[338,6.1399117043838665,8.2210826242295774]
[339,6.2612765442406459,9.0131252623016547]
[340,1.7998922865176414,1.8595912072524055]
[341,9.9761232919260046,13.980574358054476]
[342,6.1140364480937777,7.6693035512060561]
[343,5.1503670677794489,6.738228966505095]
[344,1.5135708129106806,4.6587681243049923]
[345,7.1072252119212909,9.7334006368689181]
[346,1.1915612553786969,2.2692563540303219]
[347,6.3247959995675895,7.8685728216588791]
[348,6.2277472888214858,7.9355552105199703]
[349,4.9966891895952958,6.064861197109102]
[350,7.76762289708544,10.420430228595862]
[351,7.2935958371762499,9.6293815376374745]
[352,3.2542346853922854,3.9283447304969492]
[353,5.644777953613076,8.6480184410304002]
[354,1.4703597302266935,0.77110129201157374]
[355,4.2738091414981838,5.5362098128578729]
[356,1.4933176598749931,2.1275883997256515]
[357,6.4900321083413282,13.120219713956633]
[358,6.8644644434118813,9.2775228103630116]
[359,5.1636931133625286,7.3496835595638865]
[360,4.8947500606796979,7.7045339464278291]
[361,7.7104019408160536,11.235786062738599]
[362,7.0533094021657856,9.5051582595847144]
[363,8.8903958428841925,12.042877971650041]
[364,2.674927641791407,4.8361072334281729]
[365,8.8782001103438812,12.349001526138636]
[366,7.6590328997082864,9.9893809862059104]
[367,5.7603707681106009,7.7914720670936486]
[368,4.4205173223964334,5.404310703761789]
[369,6.9658494743887545,9.4982959108348108]
[370,4.4215250791477079,10.527068064918168]
[371,6.7523814684139749,9.8569693030717573]
[372,0.41494044522567552,0.47240752731020907]
[373,7.4591854463512703,10.320616227050698]
[374,7.9574460251726986,16.222075355994896]
[375,4.3911451875225893,5.019223424003405]
[376,0.46505274619487835,-0.22593091958698719]
[377,3.0408975358690071,2.6602505325350201]
[378,8.3747480853332235,10.510650911269501]
[379,2.483427613021556,4.8399690215175593]
[380,7.8589178589293081,10.051016488601196]
[381,9.1319343172330729,12.552913191434319]
[382,3.9405995487896761,6.6048693588312615]
[383,3.7772115049966803,4.8172249658671555]
[384,5.4766934263239371,7.1280835430655349]
[385,5.9208963748429255,8.4062402559504612]
[386,1.0073275699233375,3.0485049962051756]
[387,9.5004431501629956,12.75987320728431]
[388,3.0136595489422291,2.8531384179154013]
[389,7.3343054886960601,9.743790495905488]
[390,9.4746422668363195,13.830945987610692]
[391,6.5585587679285684,8.6346855940950515]
[392,7.8642278245167496,10.695125370339451]
[393,1.8554865276435994,1.8222645960802755]
[394,3.764890110705994,7.0217187676083181]
[395,7.826619216503234,10.134721442862574]
[396,8.2278637630366447,11.785310894543299]
[397,6.7308461320085833E-2,-0.59702735834084919]
[398,5.9640576353372721,7.3864178093434401]
[399,4.1082974447572695,5.2853973502092071]
[400,1.3928145321172103,4.6426942183984741]
[401,2.4874776446800251,2.5548488822556337]
[402,0.63845572537949868,-0.59528783994682244]
[403,6.1267959922547099,11.912147368145201]
[404,6.6865527342262094,9.1847616816165427]
[405,6.3082639571029953,8.4171265027942468]
[406,6.1174243289691699,11.635918876811942]
[407,9.4578980321574022,13.162653526693784]
[408,4.5681849007135256,5.9608129255769073]
[409,9.8503596824013595,13.656028266075758]
[410,1.4768568736947074,1.3799032819796315]
[411,4.5011269504434015,7.9390670251094289]
[412,7.8320148809229728,14.43572556356969]
[413,9.7773770633914321,13.805124819802874]
[414,2.7950537847837964,4.5073928915468091]
[415,9.7094675975974916,13.896482453995]
[416,4.8823991410948615,6.4360206756826281]
[417,7.3386603021936114,15.295872075750442]
[418,9.6101716773658019,14.488520415201176]
[419,8.1956683960958472,11.456945995606301]
[420,6.569000716891928,8.1677036913542587]
[421,0.54660265947950926,-0.18653225912045091]
[422,8.900442607690513,12.35432214856479]
[423,4.7494204218260361,6.8569503933586979]
[424,8.0719953943479084,11.164053202561197]
[425,1.8070864517549978,1.7416110390058728]
[426,4.5326184498414541,7.2658175643726883]
[427,6.9885348759584236,9.3455077581845476]
[428,4.325001095251368,5.0708702554562199]
[429,0.84150849679000217,1.0462541563059669]
[430,4.0231000638151926,4.5932348661614739]
[431,0.12732263727994741,-1.6605184319212518]
[432,0.80762306213334689,0.33078967169907747]
[433,3.27441585738101,6.7843168266616818]
[434,3.5399816982625598,4.2841148978861083]
[435,3.8642261794273658,9.2796652551715511]
[436,4.0820805396994864,8.7544259883443516]
[437,5.3936026916160813,7.5269307804698089]
[438,4.3215582402596375,5.5561618103124433]
[439,3.9366875209881425,4.3564057071213753]
[440,9.9083344028830922,14.030196260761389]
[441,9.3548784425746696,16.689508933402745]
[442,2.5956425287846496,2.7804630136276995]
[443,9.6400232339910481,14.714347343605308]
[444,4.5829127045120988,9.7188359995582747]
[445,6.9115955179206656,9.4989223867298804]
[446,1.7654113582191089,2.141253773149888]
[447,1.7217897250392489,1.4757734328180563]
[448,4.9931588576240138,7.2674600338665032]
[449,4.3506429977654015,5.6550583574589179]
[450,2.4393816677299007,2.6588761359742747]
[451,9.655504892810324,13.602996726514972]
[452,6.6479377130863604,10.67406086654605]
[453,0.33555610413936954,-0.45375309177224987]
[454,5.9778139928798435,8.9311886960292632]
[455,6.075263980189149,11.282461750971585]
[456,9.0579338811012011,14.242059244215399]
[457,7.7179870138134472,10.458313363579663]
[458,1.3578284498681548,2.5379222086592796]
[459,3.6068105942080053,4.0983668111970726]
[460,5.371909194400768,7.1325663265933885]
[461,4.8845852752784396,6.6348643622707826]
[462,1.0059581562211317,0.12797791593396501]
[463,8.8583914825613448,12.013535616745314]
[464,1.4581096815090877,0.65039979552104965]
[465,3.9416342223019907,5.536921984303949]
[466,2.2721212362698306,2.4139360395814542]
[467,3.8746898569702637,5.1374500008896238]
[468,2.121102408831459,2.606792530372414]
[469,9.4131592375111506,13.251051764366048]
[470,3.2534896362086507,3.2825058166553216]
[471,5.9742813871291389,7.870514320009943]
[472,1.4233334082712767,0.44772940412325613]
[473,8.8106454217136623,12.313253000955346]
[474,6.1767803832186363,11.118102665077959]
[475,7.9138442150953558,10.703020787632038]
[476,4.76923728814028,5.3629003049054003]
[477,3.1588429852097644,4.9684866719746434]
[478,0.41872762724397994,-0.63339038621088262]
[479,8.462811050415155,9.6409875244599998]
[480,8.2796306061379212,11.034225795616823]
[481,4.5791507599287158,6.4370171946791341]
[482,5.8149146706111843,7.78950536979365]
[483,9.7387030796730585,13.476781084329959]
[484,4.0045094149045024,5.7257781052145909]
[485,2.8795624536466757,5.3634522958762441]
[486,6.5694184699584923,13.472349693690731]
[487,6.0398490469143589,8.00193117490468]
[488,1.429231249359415,3.5381799420611801]
[489,2.3562173660461116,3.3868039256993798]
[490,0.75450661755060766,-0.12200500735643094]
[491,5.4002680752708176,9.3292209099241745]
[492,6.5324341693541577,13.285598183869865]
[493,2.4976878149009263,2.8511708533162654]
[494,1.2218721087191309,2.2304470206533549]
[495,5.6670881206542045,8.7474404972316631]
[496,4.5326842345820495,5.1733498148988177]
[497,0.22086403318721359,-1.3690361231285952]
[498,9.7910890322286335,13.160044791377686]
[499,6.1626943154846758,9.9580512542602477]
[500,3.9061874613272463,5.3176122982893004]
[501,2.0269028791192145,1.7832891667725619]
[502,2.3519795632531726,1.695250613489883]

{"sheet":"Sheet4","index":3,"n_rows":0,"n_cols":0,"rows_kept":0,"cut":false,"hidden":false,"merged":[]}